BEGIN:VCALENDAR
VERSION:2.0
PRODID:-//Chenango County Grange #29 - ECPv6.15.17.1//NONSGML v1.0//EN
CALSCALE:GREGORIAN
METHOD:PUBLISH
X-WR-CALNAME:Chenango County Grange #29
X-ORIGINAL-URL:https://chenangogrange.org
X-WR-CALDESC:Events for Chenango County Grange #29
REFRESH-INTERVAL;VALUE=DURATION:PT1H
X-Robots-Tag:noindex
X-PUBLISHED-TTL:PT1H
BEGIN:VTIMEZONE
TZID:America/New_York
BEGIN:DAYLIGHT
TZOFFSETFROM:-0500
TZOFFSETTO:-0400
TZNAME:EDT
DTSTART:20220313T070000
END:DAYLIGHT
BEGIN:STANDARD
TZOFFSETFROM:-0400
TZOFFSETTO:-0500
TZNAME:EST
DTSTART:20221106T060000
END:STANDARD
BEGIN:DAYLIGHT
TZOFFSETFROM:-0500
TZOFFSETTO:-0400
TZNAME:EDT
DTSTART:20230312T070000
END:DAYLIGHT
BEGIN:STANDARD
TZOFFSETFROM:-0400
TZOFFSETTO:-0500
TZNAME:EST
DTSTART:20231105T060000
END:STANDARD
BEGIN:DAYLIGHT
TZOFFSETFROM:-0500
TZOFFSETTO:-0400
TZNAME:EDT
DTSTART:20240310T070000
END:DAYLIGHT
BEGIN:STANDARD
TZOFFSETFROM:-0400
TZOFFSETTO:-0500
TZNAME:EST
DTSTART:20241103T060000
END:STANDARD
END:VTIMEZONE
BEGIN:VEVENT
DTSTART;TZID=America/New_York:20230403T180000
DTEND;TZID=America/New_York:20230403T200000
DTSTAMP:20260425T104227
CREATED:20221109T190539Z
LAST-MODIFIED:20221109T190539Z
UID:10000446-1680544800-1680552000@chenangogrange.org
SUMMARY:Sherburne Order of the Eastern Star
DESCRIPTION:
URL:https://chenangogrange.org/event/sherburne-order-of-the-eastern-star-2/2023-04-03/
LOCATION:Chenango County Grange Hall\, 167 CR-32A\, Norwich\, NY\, 13815\, United States
CATEGORIES:Building Use,Meetings,Rental
END:VEVENT
BEGIN:VEVENT
DTSTART;TZID=America/New_York:20230404T180000
DTEND;TZID=America/New_York:20230404T193000
DTSTAMP:20260425T104227
CREATED:20221014T183734Z
LAST-MODIFIED:20221014T183734Z
UID:10000141-1680631200-1680636600@chenangogrange.org
SUMMARY:Girl Scouts Meeting
DESCRIPTION:
URL:https://chenangogrange.org/event/girl-scouts-meeting/2023-04-04/
LOCATION:Chenango County Grange Hall\, 167 CR-32A\, Norwich\, NY\, 13815\, United States
CATEGORIES:Meetings,Rental
END:VEVENT
BEGIN:VEVENT
DTSTART;TZID=America/New_York:20230411T180000
DTEND;TZID=America/New_York:20230411T193000
DTSTAMP:20260425T104227
CREATED:20221014T183734Z
LAST-MODIFIED:20221014T183734Z
UID:10000142-1681236000-1681241400@chenangogrange.org
SUMMARY:Girl Scouts Meeting
DESCRIPTION:
URL:https://chenangogrange.org/event/girl-scouts-meeting/2023-04-11/
LOCATION:Chenango County Grange Hall\, 167 CR-32A\, Norwich\, NY\, 13815\, United States
CATEGORIES:Meetings,Rental
END:VEVENT
BEGIN:VEVENT
DTSTART;TZID=America/New_York:20230417T180000
DTEND;TZID=America/New_York:20230417T200000
DTSTAMP:20260425T104227
CREATED:20221109T190414Z
LAST-MODIFIED:20221109T190653Z
UID:10000387-1681754400-1681761600@chenangogrange.org
SUMMARY:Sherburne Order of the Eastern Star
DESCRIPTION:
URL:https://chenangogrange.org/event/sherburne-order-of-the-eastern-star/2023-04-17/
CATEGORIES:Building Use,Meetings,Rental
END:VEVENT
BEGIN:VEVENT
DTSTART;TZID=America/New_York:20230418T180000
DTEND;TZID=America/New_York:20230418T193000
DTSTAMP:20260425T104227
CREATED:20221014T183734Z
LAST-MODIFIED:20221014T183734Z
UID:10000143-1681840800-1681846200@chenangogrange.org
SUMMARY:Girl Scouts Meeting
DESCRIPTION:
URL:https://chenangogrange.org/event/girl-scouts-meeting/2023-04-18/
LOCATION:Chenango County Grange Hall\, 167 CR-32A\, Norwich\, NY\, 13815\, United States
CATEGORIES:Meetings,Rental
END:VEVENT
BEGIN:VEVENT
DTSTART;TZID=America/New_York:20230425T180000
DTEND;TZID=America/New_York:20230425T193000
DTSTAMP:20260425T104227
CREATED:20221014T183734Z
LAST-MODIFIED:20221014T183734Z
UID:10000144-1682445600-1682451000@chenangogrange.org
SUMMARY:Girl Scouts Meeting
DESCRIPTION:
URL:https://chenangogrange.org/event/girl-scouts-meeting/2023-04-25/
LOCATION:Chenango County Grange Hall\, 167 CR-32A\, Norwich\, NY\, 13815\, United States
CATEGORIES:Meetings,Rental
END:VEVENT
END:VCALENDAR