BEGIN:VCALENDAR
VERSION:2.0
PRODID:-//Chenango County Grange #29 - ECPv6.15.17.1//NONSGML v1.0//EN
CALSCALE:GREGORIAN
METHOD:PUBLISH
X-WR-CALNAME:Chenango County Grange #29
X-ORIGINAL-URL:https://chenangogrange.org
X-WR-CALDESC:Events for Chenango County Grange #29
REFRESH-INTERVAL;VALUE=DURATION:PT1H
X-Robots-Tag:noindex
X-PUBLISHED-TTL:PT1H
BEGIN:VTIMEZONE
TZID:America/New_York
BEGIN:DAYLIGHT
TZOFFSETFROM:-0500
TZOFFSETTO:-0400
TZNAME:EDT
DTSTART:20210314T070000
END:DAYLIGHT
BEGIN:STANDARD
TZOFFSETFROM:-0400
TZOFFSETTO:-0500
TZNAME:EST
DTSTART:20211107T060000
END:STANDARD
BEGIN:DAYLIGHT
TZOFFSETFROM:-0500
TZOFFSETTO:-0400
TZNAME:EDT
DTSTART:20220313T070000
END:DAYLIGHT
BEGIN:STANDARD
TZOFFSETFROM:-0400
TZOFFSETTO:-0500
TZNAME:EST
DTSTART:20221106T060000
END:STANDARD
BEGIN:DAYLIGHT
TZOFFSETFROM:-0500
TZOFFSETTO:-0400
TZNAME:EDT
DTSTART:20230312T070000
END:DAYLIGHT
BEGIN:STANDARD
TZOFFSETFROM:-0400
TZOFFSETTO:-0500
TZNAME:EST
DTSTART:20231105T060000
END:STANDARD
END:VTIMEZONE
BEGIN:VEVENT
DTSTART;VALUE=DATE:20221203
DTEND;VALUE=DATE:20221204
DTSTAMP:20260425T172806
CREATED:20221109T190111Z
LAST-MODIFIED:20221128T020519Z
UID:10000381-1670025600-1670111999@chenangogrange.org
SUMMARY:Pamela Nelson
DESCRIPTION:Live Auction! 6 PM\nEarly Preview 2 – 6\nAll New Items\n“MY PRICE”
URL:https://chenangogrange.org/event/pamela-nelson/
LOCATION:Chenango County Grange Hall\, 167 CR-32A\, Norwich\, NY\, 13815\, United States
CATEGORIES:Building Use,Rental
END:VEVENT
BEGIN:VEVENT
DTSTART;TZID=America/New_York:20221205T180000
DTEND;TZID=America/New_York:20221205T200000
DTSTAMP:20260425T172806
CREATED:20221109T190539Z
LAST-MODIFIED:20221109T190539Z
UID:10000442-1670263200-1670270400@chenangogrange.org
SUMMARY:Sherburne Order of the Eastern Star
DESCRIPTION:
URL:https://chenangogrange.org/event/sherburne-order-of-the-eastern-star-2/2022-12-05/
LOCATION:Chenango County Grange Hall\, 167 CR-32A\, Norwich\, NY\, 13815\, United States
CATEGORIES:Building Use,Meetings,Rental
END:VEVENT
BEGIN:VEVENT
DTSTART;TZID=America/New_York:20221206T180000
DTEND;TZID=America/New_York:20221206T193000
DTSTAMP:20260425T172806
CREATED:20221014T183734Z
LAST-MODIFIED:20221014T183734Z
UID:10000124-1670349600-1670355000@chenangogrange.org
SUMMARY:Girl Scouts Meeting
DESCRIPTION:
URL:https://chenangogrange.org/event/girl-scouts-meeting/2022-12-06/
LOCATION:Chenango County Grange Hall\, 167 CR-32A\, Norwich\, NY\, 13815\, United States
CATEGORIES:Meetings,Rental
END:VEVENT
BEGIN:VEVENT
DTSTART;TZID=America/New_York:20221213T180000
DTEND;TZID=America/New_York:20221213T193000
DTSTAMP:20260425T172806
CREATED:20221014T183734Z
LAST-MODIFIED:20221014T183734Z
UID:10000125-1670954400-1670959800@chenangogrange.org
SUMMARY:Girl Scouts Meeting
DESCRIPTION:
URL:https://chenangogrange.org/event/girl-scouts-meeting/2022-12-13/
LOCATION:Chenango County Grange Hall\, 167 CR-32A\, Norwich\, NY\, 13815\, United States
CATEGORIES:Meetings,Rental
END:VEVENT
BEGIN:VEVENT
DTSTART;TZID=America/New_York:20221219T180000
DTEND;TZID=America/New_York:20221219T200000
DTSTAMP:20260425T172806
CREATED:20221109T190414Z
LAST-MODIFIED:20221109T190653Z
UID:10000383-1671472800-1671480000@chenangogrange.org
SUMMARY:Sherburne Order of the Eastern Star
DESCRIPTION:
URL:https://chenangogrange.org/event/sherburne-order-of-the-eastern-star/2022-12-19/
CATEGORIES:Building Use,Meetings,Rental
END:VEVENT
BEGIN:VEVENT
DTSTART;TZID=America/New_York:20221220T180000
DTEND;TZID=America/New_York:20221220T193000
DTSTAMP:20260425T172806
CREATED:20221014T183734Z
LAST-MODIFIED:20221014T183734Z
UID:10000126-1671559200-1671564600@chenangogrange.org
SUMMARY:Girl Scouts Meeting
DESCRIPTION:
URL:https://chenangogrange.org/event/girl-scouts-meeting/2022-12-20/
LOCATION:Chenango County Grange Hall\, 167 CR-32A\, Norwich\, NY\, 13815\, United States
CATEGORIES:Meetings,Rental
END:VEVENT
BEGIN:VEVENT
DTSTART;TZID=America/New_York:20221227T180000
DTEND;TZID=America/New_York:20221227T193000
DTSTAMP:20260425T172806
CREATED:20221014T183734Z
LAST-MODIFIED:20221014T183734Z
UID:10000127-1672164000-1672169400@chenangogrange.org
SUMMARY:Girl Scouts Meeting
DESCRIPTION:
URL:https://chenangogrange.org/event/girl-scouts-meeting/2022-12-27/
LOCATION:Chenango County Grange Hall\, 167 CR-32A\, Norwich\, NY\, 13815\, United States
CATEGORIES:Meetings,Rental
END:VEVENT
END:VCALENDAR