BEGIN:VCALENDAR
VERSION:2.0
PRODID:-//Chenango County Grange #29 - ECPv6.15.17.1//NONSGML v1.0//EN
CALSCALE:GREGORIAN
METHOD:PUBLISH
X-WR-CALNAME:Chenango County Grange #29
X-ORIGINAL-URL:https://chenangogrange.org
X-WR-CALDESC:Events for Chenango County Grange #29
REFRESH-INTERVAL;VALUE=DURATION:PT1H
X-Robots-Tag:noindex
X-PUBLISHED-TTL:PT1H
BEGIN:VTIMEZONE
TZID:America/New_York
BEGIN:DAYLIGHT
TZOFFSETFROM:-0500
TZOFFSETTO:-0400
TZNAME:EDT
DTSTART:20220313T070000
END:DAYLIGHT
BEGIN:STANDARD
TZOFFSETFROM:-0400
TZOFFSETTO:-0500
TZNAME:EST
DTSTART:20221106T060000
END:STANDARD
BEGIN:DAYLIGHT
TZOFFSETFROM:-0500
TZOFFSETTO:-0400
TZNAME:EDT
DTSTART:20230312T070000
END:DAYLIGHT
BEGIN:STANDARD
TZOFFSETFROM:-0400
TZOFFSETTO:-0500
TZNAME:EST
DTSTART:20231105T060000
END:STANDARD
BEGIN:DAYLIGHT
TZOFFSETFROM:-0500
TZOFFSETTO:-0400
TZNAME:EDT
DTSTART:20240310T070000
END:DAYLIGHT
BEGIN:STANDARD
TZOFFSETFROM:-0400
TZOFFSETTO:-0500
TZNAME:EST
DTSTART:20241103T060000
END:STANDARD
END:VTIMEZONE
BEGIN:VEVENT
DTSTART;TZID=America/New_York:20230801T180000
DTEND;TZID=America/New_York:20230801T193000
DTSTAMP:20260424T163658
CREATED:20221014T183734Z
LAST-MODIFIED:20221014T183734Z
UID:10000158-1690912800-1690918200@chenangogrange.org
SUMMARY:Girl Scouts Meeting
DESCRIPTION:
URL:https://chenangogrange.org/event/girl-scouts-meeting/2023-08-01/
LOCATION:Chenango County Grange Hall\, 167 CR-32A\, Norwich\, NY\, 13815\, United States
CATEGORIES:Meetings,Rental
END:VEVENT
BEGIN:VEVENT
DTSTART;TZID=America/New_York:20230807T180000
DTEND;TZID=America/New_York:20230807T200000
DTSTAMP:20260424T163658
CREATED:20221109T190539Z
LAST-MODIFIED:20221109T190539Z
UID:10000450-1691431200-1691438400@chenangogrange.org
SUMMARY:Sherburne Order of the Eastern Star
DESCRIPTION:
URL:https://chenangogrange.org/event/sherburne-order-of-the-eastern-star-2/2023-08-07/
LOCATION:Chenango County Grange Hall\, 167 CR-32A\, Norwich\, NY\, 13815\, United States
CATEGORIES:Building Use,Meetings,Rental
END:VEVENT
BEGIN:VEVENT
DTSTART;TZID=America/New_York:20230808T180000
DTEND;TZID=America/New_York:20230808T193000
DTSTAMP:20260424T163658
CREATED:20221014T183734Z
LAST-MODIFIED:20221014T183734Z
UID:10000159-1691517600-1691523000@chenangogrange.org
SUMMARY:Girl Scouts Meeting
DESCRIPTION:
URL:https://chenangogrange.org/event/girl-scouts-meeting/2023-08-08/
LOCATION:Chenango County Grange Hall\, 167 CR-32A\, Norwich\, NY\, 13815\, United States
CATEGORIES:Meetings,Rental
END:VEVENT
BEGIN:VEVENT
DTSTART;TZID=America/New_York:20230815T180000
DTEND;TZID=America/New_York:20230815T193000
DTSTAMP:20260424T163658
CREATED:20221014T183734Z
LAST-MODIFIED:20221014T183734Z
UID:10000160-1692122400-1692127800@chenangogrange.org
SUMMARY:Girl Scouts Meeting
DESCRIPTION:
URL:https://chenangogrange.org/event/girl-scouts-meeting/2023-08-15/
LOCATION:Chenango County Grange Hall\, 167 CR-32A\, Norwich\, NY\, 13815\, United States
CATEGORIES:Meetings,Rental
END:VEVENT
BEGIN:VEVENT
DTSTART;TZID=America/New_York:20230819T120000
DTEND;TZID=America/New_York:20230819T150000
DTSTAMP:20260424T163658
CREATED:20230711T151153Z
LAST-MODIFIED:20230711T151153Z
UID:10000846-1692446400-1692457200@chenangogrange.org
SUMMARY:Kathy Gibbon
DESCRIPTION:
URL:https://chenangogrange.org/event/kathy-gibbon/
LOCATION:Chenango County Grange Hall\, 167 CR-32A\, Norwich\, NY\, 13815\, United States
CATEGORIES:Building Use,Rental
END:VEVENT
BEGIN:VEVENT
DTSTART;TZID=America/New_York:20230821T180000
DTEND;TZID=America/New_York:20230821T200000
DTSTAMP:20260424T163658
CREATED:20221109T190414Z
LAST-MODIFIED:20221109T190653Z
UID:10000391-1692640800-1692648000@chenangogrange.org
SUMMARY:Sherburne Order of the Eastern Star
DESCRIPTION:
URL:https://chenangogrange.org/event/sherburne-order-of-the-eastern-star/2023-08-21/
CATEGORIES:Building Use,Meetings,Rental
END:VEVENT
BEGIN:VEVENT
DTSTART;TZID=America/New_York:20230822T180000
DTEND;TZID=America/New_York:20230822T193000
DTSTAMP:20260424T163658
CREATED:20221014T183734Z
LAST-MODIFIED:20221014T183734Z
UID:10000161-1692727200-1692732600@chenangogrange.org
SUMMARY:Girl Scouts Meeting
DESCRIPTION:
URL:https://chenangogrange.org/event/girl-scouts-meeting/2023-08-22/
LOCATION:Chenango County Grange Hall\, 167 CR-32A\, Norwich\, NY\, 13815\, United States
CATEGORIES:Meetings,Rental
END:VEVENT
END:VCALENDAR