BEGIN:VCALENDAR
VERSION:2.0
PRODID:-//Chenango County Grange #29 - ECPv6.15.17.1//NONSGML v1.0//EN
CALSCALE:GREGORIAN
METHOD:PUBLISH
X-WR-CALNAME:Chenango County Grange #29
X-ORIGINAL-URL:https://chenangogrange.org
X-WR-CALDESC:Events for Chenango County Grange #29
REFRESH-INTERVAL;VALUE=DURATION:PT1H
X-Robots-Tag:noindex
X-PUBLISHED-TTL:PT1H
BEGIN:VTIMEZONE
TZID:America/New_York
BEGIN:DAYLIGHT
TZOFFSETFROM:-0500
TZOFFSETTO:-0400
TZNAME:EDT
DTSTART:20230312T070000
END:DAYLIGHT
BEGIN:STANDARD
TZOFFSETFROM:-0400
TZOFFSETTO:-0500
TZNAME:EST
DTSTART:20231105T060000
END:STANDARD
BEGIN:DAYLIGHT
TZOFFSETFROM:-0500
TZOFFSETTO:-0400
TZNAME:EDT
DTSTART:20240310T070000
END:DAYLIGHT
BEGIN:STANDARD
TZOFFSETFROM:-0400
TZOFFSETTO:-0500
TZNAME:EST
DTSTART:20241103T060000
END:STANDARD
BEGIN:DAYLIGHT
TZOFFSETFROM:-0500
TZOFFSETTO:-0400
TZNAME:EDT
DTSTART:20250309T070000
END:DAYLIGHT
BEGIN:STANDARD
TZOFFSETFROM:-0400
TZOFFSETTO:-0500
TZNAME:EST
DTSTART:20251102T060000
END:STANDARD
END:VTIMEZONE
BEGIN:VEVENT
DTSTART;TZID=America/New_York:20240506T180000
DTEND;TZID=America/New_York:20240506T200000
DTSTAMP:20260423T094109
CREATED:20221109T190539Z
LAST-MODIFIED:20221109T190539Z
UID:10000459-1715018400-1715025600@chenangogrange.org
SUMMARY:Sherburne Order of the Eastern Star
DESCRIPTION:
URL:https://chenangogrange.org/event/sherburne-order-of-the-eastern-star-2/2024-05-06/
LOCATION:Chenango County Grange Hall\, 167 CR-32A\, Norwich\, NY\, 13815\, United States
CATEGORIES:Building Use,Meetings,Rental
END:VEVENT
BEGIN:VEVENT
DTSTART;TZID=America/New_York:20240507T180000
DTEND;TZID=America/New_York:20240507T193000
DTSTAMP:20260423T094109
CREATED:20230828T033606Z
LAST-MODIFIED:20250208T154154Z
UID:10000882-1715104800-1715110200@chenangogrange.org
SUMMARY:Girl Scout Meeting
DESCRIPTION:
URL:https://chenangogrange.org/event/girl-scout-meeting/2024-05-07/
LOCATION:Chenango County Grange Hall\, 167 CR-32A\, Norwich\, NY\, 13815\, United States
CATEGORIES:Building Use,Rental
END:VEVENT
BEGIN:VEVENT
DTSTART;VALUE=DATE:20240512
DTEND;VALUE=DATE:20240513
DTSTAMP:20260423T094109
CREATED:20240419T212405Z
LAST-MODIFIED:20240419T212827Z
UID:10001028-1715472000-1715558399@chenangogrange.org
SUMMARY:Rental
DESCRIPTION:
URL:https://chenangogrange.org/event/rental-2/
CATEGORIES:Building Use,On Hold,Rental
END:VEVENT
BEGIN:VEVENT
DTSTART;TZID=America/New_York:20240514T180000
DTEND;TZID=America/New_York:20240514T193000
DTSTAMP:20260423T094109
CREATED:20230828T033606Z
LAST-MODIFIED:20250208T154154Z
UID:10000883-1715709600-1715715000@chenangogrange.org
SUMMARY:Girl Scout Meeting
DESCRIPTION:
URL:https://chenangogrange.org/event/girl-scout-meeting/2024-05-14/
LOCATION:Chenango County Grange Hall\, 167 CR-32A\, Norwich\, NY\, 13815\, United States
CATEGORIES:Building Use,Rental
END:VEVENT
BEGIN:VEVENT
DTSTART;TZID=America/New_York:20240520T180000
DTEND;TZID=America/New_York:20240520T200000
DTSTAMP:20260423T094109
CREATED:20221109T190414Z
LAST-MODIFIED:20221109T190653Z
UID:10000400-1716228000-1716235200@chenangogrange.org
SUMMARY:Sherburne Order of the Eastern Star
DESCRIPTION:
URL:https://chenangogrange.org/event/sherburne-order-of-the-eastern-star/2024-05-20/
CATEGORIES:Building Use,Meetings,Rental
END:VEVENT
BEGIN:VEVENT
DTSTART;TZID=America/New_York:20240521T180000
DTEND;TZID=America/New_York:20240521T193000
DTSTAMP:20260423T094109
CREATED:20230828T033606Z
LAST-MODIFIED:20250208T154154Z
UID:10000884-1716314400-1716319800@chenangogrange.org
SUMMARY:Girl Scout Meeting
DESCRIPTION:
URL:https://chenangogrange.org/event/girl-scout-meeting/2024-05-21/
LOCATION:Chenango County Grange Hall\, 167 CR-32A\, Norwich\, NY\, 13815\, United States
CATEGORIES:Building Use,Rental
END:VEVENT
BEGIN:VEVENT
DTSTART;TZID=America/New_York:20240523T180000
DTEND;TZID=America/New_York:20240523T210000
DTSTAMP:20260423T094109
CREATED:20231112T205346Z
LAST-MODIFIED:20231229T011102Z
UID:10000790-1716487200-1716498000@chenangogrange.org
SUMMARY:CVARA Tech Night & Exam Session
DESCRIPTION:
URL:https://chenangogrange.org/event/cvara-tech-night-exam-session-2/2024-05-23/
LOCATION:Chenango County Grange Hall\, 167 CR-32A\, Norwich\, NY\, 13815\, United States
CATEGORIES:Building Use,Rental
ORGANIZER;CN="Chenango Valley Amateur Radio Association":MAILTO:kd2hkb@yahoo.com
END:VEVENT
BEGIN:VEVENT
DTSTART;TZID=America/New_York:20240526T130000
DTEND;TZID=America/New_York:20240526T160000
DTSTAMP:20260423T094109
CREATED:20240309T123929Z
LAST-MODIFIED:20240309T124108Z
UID:10001022-1716728400-1716739200@chenangogrange.org
SUMMARY:Heath Bday rental
DESCRIPTION:
URL:https://chenangogrange.org/event/heath-bday-rental/
LOCATION:Chenango County Grange Hall\, 167 CR-32A\, Norwich\, NY\, 13815\, United States
CATEGORIES:Building Use,Rental
END:VEVENT
BEGIN:VEVENT
DTSTART;TZID=America/New_York:20240528T180000
DTEND;TZID=America/New_York:20240528T193000
DTSTAMP:20260423T094109
CREATED:20230828T033606Z
LAST-MODIFIED:20250208T154154Z
UID:10000885-1716919200-1716924600@chenangogrange.org
SUMMARY:Girl Scout Meeting
DESCRIPTION:
URL:https://chenangogrange.org/event/girl-scout-meeting/2024-05-28/
LOCATION:Chenango County Grange Hall\, 167 CR-32A\, Norwich\, NY\, 13815\, United States
CATEGORIES:Building Use,Rental
END:VEVENT
END:VCALENDAR