BEGIN:VCALENDAR
VERSION:2.0
PRODID:-//Chenango County Grange #29 - ECPv6.15.17.1//NONSGML v1.0//EN
CALSCALE:GREGORIAN
METHOD:PUBLISH
X-ORIGINAL-URL:https://chenangogrange.org
X-WR-CALDESC:Events for Chenango County Grange #29
REFRESH-INTERVAL;VALUE=DURATION:PT1H
X-Robots-Tag:noindex
X-PUBLISHED-TTL:PT1H
BEGIN:VTIMEZONE
TZID:America/New_York
BEGIN:DAYLIGHT
TZOFFSETFROM:-0500
TZOFFSETTO:-0400
TZNAME:EDT
DTSTART:20230312T070000
END:DAYLIGHT
BEGIN:STANDARD
TZOFFSETFROM:-0400
TZOFFSETTO:-0500
TZNAME:EST
DTSTART:20231105T060000
END:STANDARD
BEGIN:DAYLIGHT
TZOFFSETFROM:-0500
TZOFFSETTO:-0400
TZNAME:EDT
DTSTART:20240310T070000
END:DAYLIGHT
BEGIN:STANDARD
TZOFFSETFROM:-0400
TZOFFSETTO:-0500
TZNAME:EST
DTSTART:20241103T060000
END:STANDARD
BEGIN:DAYLIGHT
TZOFFSETFROM:-0500
TZOFFSETTO:-0400
TZNAME:EDT
DTSTART:20250309T070000
END:DAYLIGHT
BEGIN:STANDARD
TZOFFSETFROM:-0400
TZOFFSETTO:-0500
TZNAME:EST
DTSTART:20251102T060000
END:STANDARD
END:VTIMEZONE
BEGIN:VEVENT
DTSTART;TZID=America/New_York:20240603T180000
DTEND;TZID=America/New_York:20240603T200000
DTSTAMP:20260423T094147
CREATED:20221109T190539Z
LAST-MODIFIED:20221109T190539Z
UID:10000460-1717437600-1717444800@chenangogrange.org
SUMMARY:Sherburne Order of the Eastern Star
DESCRIPTION:
URL:https://chenangogrange.org/event/sherburne-order-of-the-eastern-star-2/2024-06-03/
LOCATION:Chenango County Grange Hall\, 167 CR-32A\, Norwich\, NY\, 13815\, United States
CATEGORIES:Building Use,Meetings,Rental
END:VEVENT
BEGIN:VEVENT
DTSTART;TZID=America/New_York:20240604T180000
DTEND;TZID=America/New_York:20240604T193000
DTSTAMP:20260423T094147
CREATED:20230828T033606Z
LAST-MODIFIED:20250208T154154Z
UID:10000886-1717524000-1717529400@chenangogrange.org
SUMMARY:Girl Scout Meeting
DESCRIPTION:
URL:https://chenangogrange.org/event/girl-scout-meeting/2024-06-04/
LOCATION:Chenango County Grange Hall\, 167 CR-32A\, Norwich\, NY\, 13815\, United States
CATEGORIES:Building Use,Rental
END:VEVENT
BEGIN:VEVENT
DTSTART;TZID=America/New_York:20240611T180000
DTEND;TZID=America/New_York:20240611T193000
DTSTAMP:20260423T094147
CREATED:20230828T033606Z
LAST-MODIFIED:20250208T154154Z
UID:10000887-1718128800-1718134200@chenangogrange.org
SUMMARY:Girl Scout Meeting
DESCRIPTION:
URL:https://chenangogrange.org/event/girl-scout-meeting/2024-06-11/
LOCATION:Chenango County Grange Hall\, 167 CR-32A\, Norwich\, NY\, 13815\, United States
CATEGORIES:Building Use,Rental
END:VEVENT
BEGIN:VEVENT
DTSTART;VALUE=DATE:20240615
DTEND;VALUE=DATE:20240616
DTSTAMP:20260423T094147
CREATED:20240213T210819Z
LAST-MODIFIED:20240213T210819Z
UID:10001020-1718409600-1718495999@chenangogrange.org
SUMMARY:Rental
DESCRIPTION:
URL:https://chenangogrange.org/event/rental/
LOCATION:Chenango County Grange Hall\, 167 CR-32A\, Norwich\, NY\, 13815\, United States
CATEGORIES:Building Use,On Hold,Rental
END:VEVENT
BEGIN:VEVENT
DTSTART;TZID=America/New_York:20240617T180000
DTEND;TZID=America/New_York:20240617T200000
DTSTAMP:20260423T094147
CREATED:20221109T190414Z
LAST-MODIFIED:20221109T190653Z
UID:10000401-1718647200-1718654400@chenangogrange.org
SUMMARY:Sherburne Order of the Eastern Star
DESCRIPTION:
URL:https://chenangogrange.org/event/sherburne-order-of-the-eastern-star/2024-06-17/
CATEGORIES:Building Use,Meetings,Rental
END:VEVENT
BEGIN:VEVENT
DTSTART;TZID=America/New_York:20240618T180000
DTEND;TZID=America/New_York:20240618T193000
DTSTAMP:20260423T094147
CREATED:20230828T033606Z
LAST-MODIFIED:20250208T154154Z
UID:10000888-1718733600-1718739000@chenangogrange.org
SUMMARY:Girl Scout Meeting
DESCRIPTION:
URL:https://chenangogrange.org/event/girl-scout-meeting/2024-06-18/
LOCATION:Chenango County Grange Hall\, 167 CR-32A\, Norwich\, NY\, 13815\, United States
CATEGORIES:Building Use,Rental
END:VEVENT
BEGIN:VEVENT
DTSTART;TZID=America/New_York:20240625T180000
DTEND;TZID=America/New_York:20240625T193000
DTSTAMP:20260423T094147
CREATED:20250208T154239Z
LAST-MODIFIED:20250208T154240Z
UID:10000889-1719338400-1719343800@chenangogrange.org
SUMMARY:Girl Scout Meeting
DESCRIPTION:
URL:https://chenangogrange.org/event/girl-scout-meeting-3/
LOCATION:Chenango County Grange Hall\, 167 CR-32A\, Norwich\, NY\, 13815\, United States
CATEGORIES:Building Use,Rental
END:VEVENT
BEGIN:VEVENT
DTSTART;TZID=America/New_York:20240627T180000
DTEND;TZID=America/New_York:20240627T210000
DTSTAMP:20260423T094147
CREATED:20231112T205346Z
LAST-MODIFIED:20231229T011102Z
UID:10000791-1719511200-1719522000@chenangogrange.org
SUMMARY:CVARA Tech Night & Exam Session
DESCRIPTION:
URL:https://chenangogrange.org/event/cvara-tech-night-exam-session-2/2024-06-27/
LOCATION:Chenango County Grange Hall\, 167 CR-32A\, Norwich\, NY\, 13815\, United States
CATEGORIES:Building Use,Rental
ORGANIZER;CN="Chenango Valley Amateur Radio Association":MAILTO:kd2hkb@yahoo.com
END:VEVENT
BEGIN:VEVENT
DTSTART;VALUE=DATE:20240630
DTEND;VALUE=DATE:20240701
DTSTAMP:20260423T094147
CREATED:20240503T211713Z
LAST-MODIFIED:20240503T211713Z
UID:10001030-1719705600-1719791999@chenangogrange.org
SUMMARY:Graduation Party
DESCRIPTION:
URL:https://chenangogrange.org/event/graduation-party/
LOCATION:Chenango County Grange Hall\, 167 CR-32A\, Norwich\, NY\, 13815\, United States
CATEGORIES:Building Use,On Hold,Rental
END:VEVENT
END:VCALENDAR