BEGIN:VCALENDAR
VERSION:2.0
PRODID:-//Chenango County Grange #29 - ECPv6.15.17.1//NONSGML v1.0//EN
CALSCALE:GREGORIAN
METHOD:PUBLISH
X-WR-CALNAME:Chenango County Grange #29
X-ORIGINAL-URL:https://chenangogrange.org
X-WR-CALDESC:Events for Chenango County Grange #29
REFRESH-INTERVAL;VALUE=DURATION:PT1H
X-Robots-Tag:noindex
X-PUBLISHED-TTL:PT1H
BEGIN:VTIMEZONE
TZID:America/New_York
BEGIN:DAYLIGHT
TZOFFSETFROM:-0500
TZOFFSETTO:-0400
TZNAME:EDT
DTSTART:20200308T070000
END:DAYLIGHT
BEGIN:STANDARD
TZOFFSETFROM:-0400
TZOFFSETTO:-0500
TZNAME:EST
DTSTART:20201101T060000
END:STANDARD
BEGIN:DAYLIGHT
TZOFFSETFROM:-0500
TZOFFSETTO:-0400
TZNAME:EDT
DTSTART:20210314T070000
END:DAYLIGHT
BEGIN:STANDARD
TZOFFSETFROM:-0400
TZOFFSETTO:-0500
TZNAME:EST
DTSTART:20211107T060000
END:STANDARD
BEGIN:DAYLIGHT
TZOFFSETFROM:-0500
TZOFFSETTO:-0400
TZNAME:EDT
DTSTART:20220313T070000
END:DAYLIGHT
BEGIN:STANDARD
TZOFFSETFROM:-0400
TZOFFSETTO:-0500
TZNAME:EST
DTSTART:20221106T060000
END:STANDARD
BEGIN:DAYLIGHT
TZOFFSETFROM:-0500
TZOFFSETTO:-0400
TZNAME:EDT
DTSTART:20230312T070000
END:DAYLIGHT
BEGIN:STANDARD
TZOFFSETFROM:-0400
TZOFFSETTO:-0500
TZNAME:EST
DTSTART:20231105T060000
END:STANDARD
END:VTIMEZONE
BEGIN:VEVENT
DTSTART;TZID=America/New_York:20220723T080000
DTEND;TZID=America/New_York:20220723T170000
DTSTAMP:20260424T061821
CREATED:20220524T143358Z
LAST-MODIFIED:20220524T143358Z
UID:10000106-1658563200-1658595600@chenangogrange.org
SUMMARY:Rachael Lawler
DESCRIPTION:
URL:https://chenangogrange.org/event/rachael-lawler/
CATEGORIES:Rental
END:VEVENT
BEGIN:VEVENT
DTSTART;TZID=America/New_York:20220606T180000
DTEND;TZID=America/New_York:20220606T200000
DTSTAMP:20260424T061821
CREATED:20220423T155033Z
LAST-MODIFIED:20220423T155033Z
UID:10000103-1654538400-1654545600@chenangogrange.org
SUMMARY:Sherburne Eastern Star
DESCRIPTION:
URL:https://chenangogrange.org/event/sherburne-eastern-star-3/
LOCATION:Chenango County Grange Hall\, 167 CR-32A\, Norwich\, NY\, 13815\, United States
CATEGORIES:Building Use,Meetings,Rental
END:VEVENT
BEGIN:VEVENT
DTSTART;TZID=America/New_York:20220516T180000
DTEND;TZID=America/New_York:20220516T200000
DTSTAMP:20260424T061821
CREATED:20220423T154907Z
LAST-MODIFIED:20220423T154907Z
UID:10000102-1652724000-1652731200@chenangogrange.org
SUMMARY:Sherburne Eastern Star
DESCRIPTION:
URL:https://chenangogrange.org/event/sherburne-eastern-star-2/
LOCATION:Chenango County Grange Hall\, 167 CR-32A\, Norwich\, NY\, 13815\, United States
CATEGORIES:Building Use,Meetings,Rental
END:VEVENT
BEGIN:VEVENT
DTSTART;TZID=America/New_York:20220502T180000
DTEND;TZID=America/New_York:20220502T200000
DTSTAMP:20260424T061821
CREATED:20220423T154741Z
LAST-MODIFIED:20220423T154741Z
UID:10000101-1651514400-1651521600@chenangogrange.org
SUMMARY:Sherburne Eastern Star
DESCRIPTION:
URL:https://chenangogrange.org/event/sherburne-eastern-star/
LOCATION:Chenango County Grange Hall\, 167 CR-32A\, Norwich\, NY\, 13815\, United States
CATEGORIES:Building Use,Meetings,Rental
END:VEVENT
BEGIN:VEVENT
DTSTART;VALUE=DATE:20220423
DTEND;VALUE=DATE:20220424
DTSTAMP:20260424T061821
CREATED:20220220T195847Z
LAST-MODIFIED:20220220T195847Z
UID:10000097-1650672000-1650758399@chenangogrange.org
SUMMARY:Beadle Rental
DESCRIPTION:
URL:https://chenangogrange.org/event/beadle-rental/
LOCATION:Chenango County Grange Hall\, 167 CR-32A\, Norwich\, NY\, 13815\, United States
CATEGORIES:Building Use,Rental
END:VEVENT
BEGIN:VEVENT
DTSTART;TZID=America/New_York:20220418T180000
DTEND;TZID=America/New_York:20220418T200000
DTSTAMP:20260424T061821
CREATED:20220210T011844Z
LAST-MODIFIED:20220210T011844Z
UID:10000095-1650304800-1650312000@chenangogrange.org
SUMMARY:Eastern Star Meeting
DESCRIPTION:
URL:https://chenangogrange.org/event/eastern-star-meeting-4/
LOCATION:Chenango County Grange Hall\, 167 CR-32A\, Norwich\, NY\, 13815\, United States
CATEGORIES:Building Use,Rental
END:VEVENT
BEGIN:VEVENT
DTSTART;TZID=America/New_York:20220416T140000
DTEND;TZID=America/New_York:20220416T170000
DTSTAMP:20260424T061821
CREATED:20220226T065417Z
LAST-MODIFIED:20220226T065417Z
UID:10000098-1650117600-1650128400@chenangogrange.org
SUMMARY:Zimmerman Rental
DESCRIPTION:
URL:https://chenangogrange.org/event/zimmerman-rental/
LOCATION:Chenango County Grange Hall\, 167 CR-32A\, Norwich\, NY\, 13815\, United States
CATEGORIES:Building Use,Rental
END:VEVENT
BEGIN:VEVENT
DTSTART;TZID=America/New_York:20220404T180000
DTEND;TZID=America/New_York:20220404T200000
DTSTAMP:20260424T061821
CREATED:20220210T011732Z
LAST-MODIFIED:20220210T011732Z
UID:10000094-1649095200-1649102400@chenangogrange.org
SUMMARY:Eastern Star Meeting
DESCRIPTION:
URL:https://chenangogrange.org/event/eastern-star-meeting-3/
LOCATION:Chenango County Grange Hall\, 167 CR-32A\, Norwich\, NY\, 13815\, United States
CATEGORIES:Building Use,Rental
END:VEVENT
BEGIN:VEVENT
DTSTART;TZID=America/New_York:20220321T180000
DTEND;TZID=America/New_York:20220321T200000
DTSTAMP:20260424T061821
CREATED:20220210T011637Z
LAST-MODIFIED:20220210T011637Z
UID:10000093-1647885600-1647892800@chenangogrange.org
SUMMARY:Eastern Star Meeting
DESCRIPTION:
URL:https://chenangogrange.org/event/eastern-star-meeting-2/
LOCATION:Chenango County Grange Hall\, 167 CR-32A\, Norwich\, NY\, 13815\, United States
CATEGORIES:Building Use,Rental
END:VEVENT
BEGIN:VEVENT
DTSTART;VALUE=DATE:20220311
DTEND;VALUE=DATE:20220312
DTSTAMP:20260424T061821
CREATED:20220123T203519Z
LAST-MODIFIED:20220123T204014Z
UID:10000090-1646956800-1647043199@chenangogrange.org
SUMMARY:Valley Heights Barbecue
DESCRIPTION:
URL:https://chenangogrange.org/event/valley-heights-barbecue/
LOCATION:Chenango County Grange Hall\, 167 CR-32A\, Norwich\, NY\, 13815\, United States
CATEGORIES:Building Use,Rental
END:VEVENT
BEGIN:VEVENT
DTSTART;TZID=America/New_York:20220307T180000
DTEND;TZID=America/New_York:20220307T200000
DTSTAMP:20260424T061821
CREATED:20220210T011531Z
LAST-MODIFIED:20220210T011531Z
UID:10000092-1646676000-1646683200@chenangogrange.org
SUMMARY:Eastern Star Meeting
DESCRIPTION:
URL:https://chenangogrange.org/event/eastern-star-meeting/
LOCATION:Chenango County Grange Hall\, 167 CR-32A\, Norwich\, NY\, 13815\, United States
CATEGORIES:Building Use,Rental
END:VEVENT
BEGIN:VEVENT
DTSTART;VALUE=DATE:20220218
DTEND;VALUE=DATE:20220219
DTSTAMP:20260424T061821
CREATED:20220215T042038Z
LAST-MODIFIED:20220215T042038Z
UID:10000096-1645142400-1645228799@chenangogrange.org
SUMMARY:Beach Rental
DESCRIPTION:
URL:https://chenangogrange.org/event/beach-rental/
LOCATION:Chenango County Grange Hall\, 167 CR-32A\, Norwich\, NY\, 13815\, United States
CATEGORIES:Building Use,Rental
END:VEVENT
BEGIN:VEVENT
DTSTART;VALUE=DATE:20220212
DTEND;VALUE=DATE:20220213
DTSTAMP:20260424T061821
CREATED:20220210T011256Z
LAST-MODIFIED:20220210T011256Z
UID:10000091-1644624000-1644710399@chenangogrange.org
SUMMARY:Cleveland Rental
DESCRIPTION:
URL:https://chenangogrange.org/event/cleveland-rental/
LOCATION:Chenango County Grange Hall\, 167 CR-32A\, Norwich\, NY\, 13815\, United States
CATEGORIES:Building Use,Rental
END:VEVENT
BEGIN:VEVENT
DTSTART;TZID=America/New_York:20220126T180000
DTEND;TZID=America/New_York:20220126T193000
DTSTAMP:20260424T061821
CREATED:20211207T022626Z
LAST-MODIFIED:20211207T022626Z
UID:10000029-1643220000-1643225400@chenangogrange.org
SUMMARY:Girl Scouts
DESCRIPTION:
URL:https://chenangogrange.org/event/girl-scouts-9/
CATEGORIES:Building Use,Rental
END:VEVENT
BEGIN:VEVENT
DTSTART;TZID=America/New_York:20220119T180000
DTEND;TZID=America/New_York:20220119T193000
DTSTAMP:20260424T061821
CREATED:20211207T022535Z
LAST-MODIFIED:20211207T022535Z
UID:10000028-1642615200-1642620600@chenangogrange.org
SUMMARY:Girl Scouts
DESCRIPTION:
URL:https://chenangogrange.org/event/girl-scouts-8/
CATEGORIES:Building Use,Rental
END:VEVENT
BEGIN:VEVENT
DTSTART;TZID=America/New_York:20220112T180000
DTEND;TZID=America/New_York:20220112T193000
DTSTAMP:20260424T061821
CREATED:20211207T022357Z
LAST-MODIFIED:20211207T022357Z
UID:10000027-1642010400-1642015800@chenangogrange.org
SUMMARY:Girl Scouts
DESCRIPTION:
URL:https://chenangogrange.org/event/girl-scouts-7/
CATEGORIES:Building Use,Rental
END:VEVENT
BEGIN:VEVENT
DTSTART;TZID=America/New_York:20220105T180000
DTEND;TZID=America/New_York:20220105T193000
DTSTAMP:20260424T061821
CREATED:20211207T022254Z
LAST-MODIFIED:20211207T022254Z
UID:10000026-1641405600-1641411000@chenangogrange.org
SUMMARY:Girl Scouts
DESCRIPTION:
URL:https://chenangogrange.org/event/girl-scouts-6/
CATEGORIES:Building Use,Rental
END:VEVENT
BEGIN:VEVENT
DTSTART;TZID=America/New_York:20211226T170000
DTEND;TZID=America/New_York:20211226T190000
DTSTAMP:20260424T061821
CREATED:20211219T020700Z
LAST-MODIFIED:20211219T020700Z
UID:10000030-1640538000-1640545200@chenangogrange.org
SUMMARY:Heather Furlong Rental
DESCRIPTION:
URL:https://chenangogrange.org/event/heather-furlong-rental/
CATEGORIES:Building Use,Rental
END:VEVENT
BEGIN:VEVENT
DTSTART;VALUE=DATE:20211218
DTEND;VALUE=DATE:20211219
DTSTAMP:20260424T061821
CREATED:20211207T021957Z
LAST-MODIFIED:20211207T021957Z
UID:10000025-1639785600-1639871999@chenangogrange.org
SUMMARY:Evans Family
DESCRIPTION:
URL:https://chenangogrange.org/event/evans-family/
CATEGORIES:Building Use,Rental
END:VEVENT
BEGIN:VEVENT
DTSTART;TZID=America/New_York:20211215T180000
DTEND;TZID=America/New_York:20211215T193000
DTSTAMP:20260424T061821
CREATED:20211207T021847Z
LAST-MODIFIED:20211207T021847Z
UID:10000024-1639591200-1639596600@chenangogrange.org
SUMMARY:Girl Scouts
DESCRIPTION:
URL:https://chenangogrange.org/event/girl-scouts-5/
CATEGORIES:Building Use,Rental
END:VEVENT
BEGIN:VEVENT
DTSTART;TZID=America/New_York:20211212T140000
DTEND;TZID=America/New_York:20211212T160000
DTSTAMP:20260424T061821
CREATED:20211207T021726Z
LAST-MODIFIED:20211207T021726Z
UID:10000023-1639317600-1639324800@chenangogrange.org
SUMMARY:Desiree Foulds
DESCRIPTION:
URL:https://chenangogrange.org/event/desiree-foulds/
CATEGORIES:Building Use,Rental
END:VEVENT
BEGIN:VEVENT
DTSTART;TZID=America/New_York:20211208T180000
DTEND;TZID=America/New_York:20211208T193000
DTSTAMP:20260424T061821
CREATED:20211207T021554Z
LAST-MODIFIED:20211207T021554Z
UID:10000022-1638986400-1638991800@chenangogrange.org
SUMMARY:Girl Scouts
DESCRIPTION:
URL:https://chenangogrange.org/event/girl-scouts-4/
CATEGORIES:Building Use,Rental
END:VEVENT
BEGIN:VEVENT
DTSTART;TZID=America/New_York:20211207T140000
DTEND;TZID=America/New_York:20211207T180000
DTSTAMP:20260424T061821
CREATED:20211205T074908Z
LAST-MODIFIED:20211205T075212Z
UID:10000021-1638885600-1638900000@chenangogrange.org
SUMMARY:Tonya Paul Rental
DESCRIPTION:
URL:https://chenangogrange.org/event/tonya-paul-rental/
CATEGORIES:Building Use,Rental
END:VEVENT
BEGIN:VEVENT
DTSTART;VALUE=DATE:20211205
DTEND;VALUE=DATE:20211206
DTSTAMP:20260424T061821
CREATED:20211205T074515Z
LAST-MODIFIED:20211205T075250Z
UID:10000019-1638662400-1638748799@chenangogrange.org
SUMMARY:Kim Dougherty Rental
DESCRIPTION:
URL:https://chenangogrange.org/event/kim-dougherty-rental/
CATEGORIES:Building Use,Rental
END:VEVENT
END:VCALENDAR