BEGIN:VCALENDAR
VERSION:2.0
PRODID:-//Chenango County Grange #29 - ECPv6.15.17.1//NONSGML v1.0//EN
CALSCALE:GREGORIAN
METHOD:PUBLISH
X-ORIGINAL-URL:https://chenangogrange.org
X-WR-CALDESC:Events for Chenango County Grange #29
REFRESH-INTERVAL;VALUE=DURATION:PT1H
X-Robots-Tag:noindex
X-PUBLISHED-TTL:PT1H
BEGIN:VTIMEZONE
TZID:America/New_York
BEGIN:DAYLIGHT
TZOFFSETFROM:-0500
TZOFFSETTO:-0400
TZNAME:EDT
DTSTART:20200308T070000
END:DAYLIGHT
BEGIN:STANDARD
TZOFFSETFROM:-0400
TZOFFSETTO:-0500
TZNAME:EST
DTSTART:20201101T060000
END:STANDARD
BEGIN:DAYLIGHT
TZOFFSETFROM:-0500
TZOFFSETTO:-0400
TZNAME:EDT
DTSTART:20210314T070000
END:DAYLIGHT
BEGIN:STANDARD
TZOFFSETFROM:-0400
TZOFFSETTO:-0500
TZNAME:EST
DTSTART:20211107T060000
END:STANDARD
BEGIN:DAYLIGHT
TZOFFSETFROM:-0500
TZOFFSETTO:-0400
TZNAME:EDT
DTSTART:20220313T070000
END:DAYLIGHT
BEGIN:STANDARD
TZOFFSETFROM:-0400
TZOFFSETTO:-0500
TZNAME:EST
DTSTART:20221106T060000
END:STANDARD
END:VTIMEZONE
BEGIN:VEVENT
DTSTART;TZID=America/New_York:20211212T140000
DTEND;TZID=America/New_York:20211212T160000
DTSTAMP:20260424T092630
CREATED:20211207T021726Z
LAST-MODIFIED:20211207T021726Z
UID:10000023-1639317600-1639324800@chenangogrange.org
SUMMARY:Desiree Foulds
DESCRIPTION:
URL:https://chenangogrange.org/event/desiree-foulds/
LOCATION:NY
CATEGORIES:Building Use,Rental
END:VEVENT
BEGIN:VEVENT
DTSTART;TZID=America/New_York:20211208T180000
DTEND;TZID=America/New_York:20211208T193000
DTSTAMP:20260424T092630
CREATED:20211207T021554Z
LAST-MODIFIED:20211207T021554Z
UID:10000022-1638986400-1638991800@chenangogrange.org
SUMMARY:Girl Scouts
DESCRIPTION:
URL:https://chenangogrange.org/event/girl-scouts-4/
LOCATION:NY
CATEGORIES:Building Use,Rental
END:VEVENT
BEGIN:VEVENT
DTSTART;TZID=America/New_York:20211207T140000
DTEND;TZID=America/New_York:20211207T180000
DTSTAMP:20260424T092630
CREATED:20211205T074908Z
LAST-MODIFIED:20211205T075212Z
UID:10000021-1638885600-1638900000@chenangogrange.org
SUMMARY:Tonya Paul Rental
DESCRIPTION:
URL:https://chenangogrange.org/event/tonya-paul-rental/
LOCATION:NY
CATEGORIES:Building Use,Rental
END:VEVENT
BEGIN:VEVENT
DTSTART;VALUE=DATE:20211205
DTEND;VALUE=DATE:20211206
DTSTAMP:20260424T092630
CREATED:20211205T074515Z
LAST-MODIFIED:20211205T075250Z
UID:10000019-1638662400-1638748799@chenangogrange.org
SUMMARY:Kim Dougherty Rental
DESCRIPTION:
URL:https://chenangogrange.org/event/kim-dougherty-rental/
LOCATION:NY
CATEGORIES:Building Use,Rental
END:VEVENT
END:VCALENDAR