BEGIN:VCALENDAR
VERSION:2.0
PRODID:-//Chenango County Grange #29 - ECPv6.15.17.1//NONSGML v1.0//EN
CALSCALE:GREGORIAN
METHOD:PUBLISH
X-ORIGINAL-URL:https://chenangogrange.org
X-WR-CALDESC:Events for Chenango County Grange #29
REFRESH-INTERVAL;VALUE=DURATION:PT1H
X-Robots-Tag:noindex
X-PUBLISHED-TTL:PT1H
BEGIN:VTIMEZONE
TZID:America/New_York
BEGIN:DAYLIGHT
TZOFFSETFROM:-0500
TZOFFSETTO:-0400
TZNAME:EDT
DTSTART:20220313T070000
END:DAYLIGHT
BEGIN:STANDARD
TZOFFSETFROM:-0400
TZOFFSETTO:-0500
TZNAME:EST
DTSTART:20221106T060000
END:STANDARD
BEGIN:DAYLIGHT
TZOFFSETFROM:-0500
TZOFFSETTO:-0400
TZNAME:EDT
DTSTART:20230312T070000
END:DAYLIGHT
BEGIN:STANDARD
TZOFFSETFROM:-0400
TZOFFSETTO:-0500
TZNAME:EST
DTSTART:20231105T060000
END:STANDARD
BEGIN:DAYLIGHT
TZOFFSETFROM:-0500
TZOFFSETTO:-0400
TZNAME:EDT
DTSTART:20240310T070000
END:DAYLIGHT
BEGIN:STANDARD
TZOFFSETFROM:-0400
TZOFFSETTO:-0500
TZNAME:EST
DTSTART:20241103T060000
END:STANDARD
END:VTIMEZONE
BEGIN:VEVENT
DTSTART;TZID=America/New_York:20230601T190000
DTEND;TZID=America/New_York:20230601T210000
DTSTAMP:20260425T094108
CREATED:20220113T194139Z
LAST-MODIFIED:20220831T200111Z
UID:10000048-1685646000-1685653200@chenangogrange.org
SUMMARY:CVARA Meeting
DESCRIPTION:
URL:https://chenangogrange.org/event/cvara-meeting-13/2023-06-01/
LOCATION:Chenango County Grange Hall\, 167 CR-32A\, Norwich\, NY\, 13815\, United States
CATEGORIES:Building Use
ORGANIZER;CN="Chenango Valley Amateur Radio Association":MAILTO:kd2hkb@yahoo.com
END:VEVENT
BEGIN:VEVENT
DTSTART;TZID=America/New_York:20230605T180000
DTEND;TZID=America/New_York:20230605T200000
DTSTAMP:20260425T094109
CREATED:20221109T190539Z
LAST-MODIFIED:20221109T190539Z
UID:10000448-1685988000-1685995200@chenangogrange.org
SUMMARY:Sherburne Order of the Eastern Star
DESCRIPTION:
URL:https://chenangogrange.org/event/sherburne-order-of-the-eastern-star-2/2023-06-05/
LOCATION:Chenango County Grange Hall\, 167 CR-32A\, Norwich\, NY\, 13815\, United States
CATEGORIES:Building Use,Meetings,Rental
END:VEVENT
BEGIN:VEVENT
DTSTART;TZID=America/New_York:20230608T180000
DTEND;TZID=America/New_York:20230608T210000
DTSTAMP:20260425T094109
CREATED:20230227T155534Z
LAST-MODIFIED:20230227T164938Z
UID:10000537-1686247200-1686258000@chenangogrange.org
SUMMARY:CVARA Advanced Tech Night
DESCRIPTION:
URL:https://chenangogrange.org/event/cvara-advanced-tech-night-15/2023-06-08/
LOCATION:Chenango County Grange Hall\, 167 CR-32A\, Norwich\, NY\, 13815\, United States
CATEGORIES:Building Use
ORGANIZER;CN="Chenango Valley Amateur Radio Association":MAILTO:kd2hkb@yahoo.com
END:VEVENT
BEGIN:VEVENT
DTSTART;TZID=America/New_York:20230610T090000
DTEND;TZID=America/New_York:20230610T140000
DTSTAMP:20260425T094109
CREATED:20230119T162948Z
LAST-MODIFIED:20230119T162948Z
UID:10000510-1686387600-1686405600@chenangogrange.org
SUMMARY:Chenango County Grange Meeting
DESCRIPTION:Quarterly meeting of the Chenango County Grange.
URL:https://chenangogrange.org/event/chenango-county-grange-meeting-6/2023-06-10/
LOCATION:Chenango County Grange Hall\, 167 CR-32A\, Norwich\, NY\, 13815\, United States
CATEGORIES:Building Use,Meetings
END:VEVENT
BEGIN:VEVENT
DTSTART;TZID=America/New_York:20230615T180000
DTEND;TZID=America/New_York:20230615T210000
DTSTAMP:20260425T094109
CREATED:20230227T164649Z
LAST-MODIFIED:20230227T164649Z
UID:10000659-1686852000-1686862800@chenangogrange.org
SUMMARY:CVARA Tech Night
DESCRIPTION:
URL:https://chenangogrange.org/event/cvara-tech-night-15/2023-06-15/
LOCATION:Chenango County Grange Hall\, 167 CR-32A\, Norwich\, NY\, 13815\, United States
CATEGORIES:Building Use
ORGANIZER;CN="Chenango Valley Amateur Radio Association":MAILTO:kd2hkb@yahoo.com
END:VEVENT
BEGIN:VEVENT
DTSTART;VALUE=DATE:20230617
DTEND;VALUE=DATE:20230618
DTSTAMP:20260425T094109
CREATED:20230120T192700Z
LAST-MODIFIED:20230120T192700Z
UID:10000529-1686960000-1687046399@chenangogrange.org
SUMMARY:Chelsea Munro
DESCRIPTION:
URL:https://chenangogrange.org/event/chelsea-munro/
LOCATION:Chenango County Grange Hall\, 167 CR-32A\, Norwich\, NY\, 13815\, United States
CATEGORIES:Building Use,Rental
END:VEVENT
BEGIN:VEVENT
DTSTART;TZID=America/New_York:20230619T180000
DTEND;TZID=America/New_York:20230619T200000
DTSTAMP:20260425T094109
CREATED:20221109T190414Z
LAST-MODIFIED:20221109T190653Z
UID:10000389-1687197600-1687204800@chenangogrange.org
SUMMARY:Sherburne Order of the Eastern Star
DESCRIPTION:
URL:https://chenangogrange.org/event/sherburne-order-of-the-eastern-star/2023-06-19/
CATEGORIES:Building Use,Meetings,Rental
END:VEVENT
BEGIN:VEVENT
DTSTART;TZID=America/New_York:20230622T180000
DTEND;TZID=America/New_York:20230622T210000
DTSTAMP:20260425T094109
CREATED:20230227T165222Z
LAST-MODIFIED:20231112T205216Z
UID:10000779-1687456800-1687467600@chenangogrange.org
SUMMARY:CVARA Tech Night & Exam Session
DESCRIPTION:
URL:https://chenangogrange.org/event/cvara-tech-night-exam-session/2023-06-22/
LOCATION:Chenango County Grange Hall\, 167 CR-32A\, Norwich\, NY\, 13815\, United States
CATEGORIES:Building Use
ORGANIZER;CN="Chenango Valley Amateur Radio Association":MAILTO:kd2hkb@yahoo.com
END:VEVENT
BEGIN:VEVENT
DTSTART;VALUE=DATE:20230624
DTEND;VALUE=DATE:20230625
DTSTAMP:20260425T094109
CREATED:20230524T060451Z
LAST-MODIFIED:20230530T193543Z
UID:10000844-1687564800-1687651199@chenangogrange.org
SUMMARY:Laura Curtis
DESCRIPTION:Celebration of Life
URL:https://chenangogrange.org/event/laura/
LOCATION:Chenango County Grange Hall\, 167 CR-32A\, Norwich\, NY\, 13815\, United States
CATEGORIES:Building Use,Rental
END:VEVENT
BEGIN:VEVENT
DTSTART;VALUE=DATE:20230701
DTEND;VALUE=DATE:20230702
DTSTAMP:20260425T094109
CREATED:20230429T050512Z
LAST-MODIFIED:20230620T202325Z
UID:10000843-1688169600-1688255999@chenangogrange.org
SUMMARY:Daniel Benedict & Peggy Wilbur
DESCRIPTION:
URL:https://chenangogrange.org/event/danial-benedict-peggy-wilbur/
LOCATION:Chenango County Grange Hall\, 167 CR-32A\, Norwich\, NY\, 13815\, United States
CATEGORIES:Building Use,Rental
END:VEVENT
BEGIN:VEVENT
DTSTART;TZID=America/New_York:20230703T180000
DTEND;TZID=America/New_York:20230703T200000
DTSTAMP:20260425T094109
CREATED:20221109T190539Z
LAST-MODIFIED:20221109T190539Z
UID:10000449-1688407200-1688414400@chenangogrange.org
SUMMARY:Sherburne Order of the Eastern Star
DESCRIPTION:
URL:https://chenangogrange.org/event/sherburne-order-of-the-eastern-star-2/2023-07-03/
LOCATION:Chenango County Grange Hall\, 167 CR-32A\, Norwich\, NY\, 13815\, United States
CATEGORIES:Building Use,Meetings,Rental
END:VEVENT
BEGIN:VEVENT
DTSTART;TZID=America/New_York:20230706T190000
DTEND;TZID=America/New_York:20230706T210000
DTSTAMP:20260425T094109
CREATED:20220113T194139Z
LAST-MODIFIED:20220831T200111Z
UID:10000049-1688670000-1688677200@chenangogrange.org
SUMMARY:CVARA Meeting
DESCRIPTION:
URL:https://chenangogrange.org/event/cvara-meeting-13/2023-07-06/
LOCATION:Chenango County Grange Hall\, 167 CR-32A\, Norwich\, NY\, 13815\, United States
CATEGORIES:Building Use
ORGANIZER;CN="Chenango Valley Amateur Radio Association":MAILTO:kd2hkb@yahoo.com
END:VEVENT
BEGIN:VEVENT
DTSTART;TZID=America/New_York:20230713T180000
DTEND;TZID=America/New_York:20230713T210000
DTSTAMP:20260425T094109
CREATED:20230227T155534Z
LAST-MODIFIED:20230227T164938Z
UID:10000538-1689271200-1689282000@chenangogrange.org
SUMMARY:CVARA Advanced Tech Night
DESCRIPTION:
URL:https://chenangogrange.org/event/cvara-advanced-tech-night-15/2023-07-13/
LOCATION:Chenango County Grange Hall\, 167 CR-32A\, Norwich\, NY\, 13815\, United States
CATEGORIES:Building Use
ORGANIZER;CN="Chenango Valley Amateur Radio Association":MAILTO:kd2hkb@yahoo.com
END:VEVENT
BEGIN:VEVENT
DTSTART;TZID=America/New_York:20230717T180000
DTEND;TZID=America/New_York:20230717T200000
DTSTAMP:20260425T094109
CREATED:20221109T190414Z
LAST-MODIFIED:20221109T190653Z
UID:10000390-1689616800-1689624000@chenangogrange.org
SUMMARY:Sherburne Order of the Eastern Star
DESCRIPTION:
URL:https://chenangogrange.org/event/sherburne-order-of-the-eastern-star/2023-07-17/
CATEGORIES:Building Use,Meetings,Rental
END:VEVENT
BEGIN:VEVENT
DTSTART;TZID=America/New_York:20230720T180000
DTEND;TZID=America/New_York:20230720T210000
DTSTAMP:20260425T094109
CREATED:20230227T164649Z
LAST-MODIFIED:20230227T164649Z
UID:10000660-1689876000-1689886800@chenangogrange.org
SUMMARY:CVARA Tech Night
DESCRIPTION:
URL:https://chenangogrange.org/event/cvara-tech-night-15/2023-07-20/
LOCATION:Chenango County Grange Hall\, 167 CR-32A\, Norwich\, NY\, 13815\, United States
CATEGORIES:Building Use
ORGANIZER;CN="Chenango Valley Amateur Radio Association":MAILTO:kd2hkb@yahoo.com
END:VEVENT
BEGIN:VEVENT
DTSTART;TZID=America/New_York:20230727T180000
DTEND;TZID=America/New_York:20230727T210000
DTSTAMP:20260425T094109
CREATED:20230227T165222Z
LAST-MODIFIED:20231112T205216Z
UID:10000780-1690480800-1690491600@chenangogrange.org
SUMMARY:CVARA Tech Night & Exam Session
DESCRIPTION:
URL:https://chenangogrange.org/event/cvara-tech-night-exam-session/2023-07-27/
LOCATION:Chenango County Grange Hall\, 167 CR-32A\, Norwich\, NY\, 13815\, United States
CATEGORIES:Building Use
ORGANIZER;CN="Chenango Valley Amateur Radio Association":MAILTO:kd2hkb@yahoo.com
END:VEVENT
BEGIN:VEVENT
DTSTART;TZID=America/New_York:20230803T190000
DTEND;TZID=America/New_York:20230803T210000
DTSTAMP:20260425T094109
CREATED:20220113T194139Z
LAST-MODIFIED:20220831T200111Z
UID:10000050-1691089200-1691096400@chenangogrange.org
SUMMARY:CVARA Meeting
DESCRIPTION:
URL:https://chenangogrange.org/event/cvara-meeting-13/2023-08-03/
LOCATION:Chenango County Grange Hall\, 167 CR-32A\, Norwich\, NY\, 13815\, United States
CATEGORIES:Building Use
ORGANIZER;CN="Chenango Valley Amateur Radio Association":MAILTO:kd2hkb@yahoo.com
END:VEVENT
BEGIN:VEVENT
DTSTART;VALUE=DATE:20230806
DTEND;VALUE=DATE:20230814
DTSTAMP:20260425T094109
CREATED:20230417T145037Z
LAST-MODIFIED:20230417T145037Z
UID:10000841-1691280000-1691971199@chenangogrange.org
SUMMARY:Chenango County Fair Meals
DESCRIPTION:
URL:https://chenangogrange.org/event/chenango-county-fair-meals/
CATEGORIES:Building Use
END:VEVENT
BEGIN:VEVENT
DTSTART;TZID=America/New_York:20230807T180000
DTEND;TZID=America/New_York:20230807T200000
DTSTAMP:20260425T094109
CREATED:20221109T190539Z
LAST-MODIFIED:20221109T190539Z
UID:10000450-1691431200-1691438400@chenangogrange.org
SUMMARY:Sherburne Order of the Eastern Star
DESCRIPTION:
URL:https://chenangogrange.org/event/sherburne-order-of-the-eastern-star-2/2023-08-07/
LOCATION:Chenango County Grange Hall\, 167 CR-32A\, Norwich\, NY\, 13815\, United States
CATEGORIES:Building Use,Meetings,Rental
END:VEVENT
BEGIN:VEVENT
DTSTART;TZID=America/New_York:20230810T180000
DTEND;TZID=America/New_York:20230810T210000
DTSTAMP:20260425T094109
CREATED:20230227T155534Z
LAST-MODIFIED:20230227T164938Z
UID:10000539-1691690400-1691701200@chenangogrange.org
SUMMARY:CVARA Advanced Tech Night
DESCRIPTION:
URL:https://chenangogrange.org/event/cvara-advanced-tech-night-15/2023-08-10/
LOCATION:Chenango County Grange Hall\, 167 CR-32A\, Norwich\, NY\, 13815\, United States
CATEGORIES:Building Use
ORGANIZER;CN="Chenango Valley Amateur Radio Association":MAILTO:kd2hkb@yahoo.com
END:VEVENT
BEGIN:VEVENT
DTSTART;TZID=America/New_York:20230817T180000
DTEND;TZID=America/New_York:20230817T210000
DTSTAMP:20260425T094109
CREATED:20230227T164649Z
LAST-MODIFIED:20230227T164649Z
UID:10000661-1692295200-1692306000@chenangogrange.org
SUMMARY:CVARA Tech Night
DESCRIPTION:
URL:https://chenangogrange.org/event/cvara-tech-night-15/2023-08-17/
LOCATION:Chenango County Grange Hall\, 167 CR-32A\, Norwich\, NY\, 13815\, United States
CATEGORIES:Building Use
ORGANIZER;CN="Chenango Valley Amateur Radio Association":MAILTO:kd2hkb@yahoo.com
END:VEVENT
BEGIN:VEVENT
DTSTART;TZID=America/New_York:20230819T120000
DTEND;TZID=America/New_York:20230819T150000
DTSTAMP:20260425T094109
CREATED:20230711T151153Z
LAST-MODIFIED:20230711T151153Z
UID:10000846-1692446400-1692457200@chenangogrange.org
SUMMARY:Kathy Gibbon
DESCRIPTION:
URL:https://chenangogrange.org/event/kathy-gibbon/
LOCATION:Chenango County Grange Hall\, 167 CR-32A\, Norwich\, NY\, 13815\, United States
CATEGORIES:Building Use,Rental
END:VEVENT
BEGIN:VEVENT
DTSTART;TZID=America/New_York:20230821T180000
DTEND;TZID=America/New_York:20230821T200000
DTSTAMP:20260425T094109
CREATED:20221109T190414Z
LAST-MODIFIED:20221109T190653Z
UID:10000391-1692640800-1692648000@chenangogrange.org
SUMMARY:Sherburne Order of the Eastern Star
DESCRIPTION:
URL:https://chenangogrange.org/event/sherburne-order-of-the-eastern-star/2023-08-21/
CATEGORIES:Building Use,Meetings,Rental
END:VEVENT
BEGIN:VEVENT
DTSTART;TZID=America/New_York:20230824T180000
DTEND;TZID=America/New_York:20230824T210000
DTSTAMP:20260425T094109
CREATED:20230227T165222Z
LAST-MODIFIED:20231112T205216Z
UID:10000781-1692900000-1692910800@chenangogrange.org
SUMMARY:CVARA Tech Night & Exam Session
DESCRIPTION:
URL:https://chenangogrange.org/event/cvara-tech-night-exam-session/2023-08-24/
LOCATION:Chenango County Grange Hall\, 167 CR-32A\, Norwich\, NY\, 13815\, United States
CATEGORIES:Building Use
ORGANIZER;CN="Chenango Valley Amateur Radio Association":MAILTO:kd2hkb@yahoo.com
END:VEVENT
BEGIN:VEVENT
DTSTART;VALUE=DATE:20230902
DTEND;VALUE=DATE:20230903
DTSTAMP:20260425T094109
CREATED:20230721T152530Z
LAST-MODIFIED:20230721T152530Z
UID:10000847-1693612800-1693699199@chenangogrange.org
SUMMARY:Kayla Grabo
DESCRIPTION:
URL:https://chenangogrange.org/event/kayla-grabo/
LOCATION:Chenango County Grange Hall\, 167 CR-32A\, Norwich\, NY\, 13815\, United States
CATEGORIES:Building Use,Rental
END:VEVENT
BEGIN:VEVENT
DTSTART;TZID=America/New_York:20230904T180000
DTEND;TZID=America/New_York:20230904T200000
DTSTAMP:20260425T094109
CREATED:20221109T190539Z
LAST-MODIFIED:20221109T190539Z
UID:10000451-1693850400-1693857600@chenangogrange.org
SUMMARY:Sherburne Order of the Eastern Star
DESCRIPTION:
URL:https://chenangogrange.org/event/sherburne-order-of-the-eastern-star-2/2023-09-04/
LOCATION:Chenango County Grange Hall\, 167 CR-32A\, Norwich\, NY\, 13815\, United States
CATEGORIES:Building Use,Meetings,Rental
END:VEVENT
BEGIN:VEVENT
DTSTART;TZID=America/New_York:20230907T190000
DTEND;TZID=America/New_York:20230907T210000
DTSTAMP:20260425T094109
CREATED:20220113T194139Z
LAST-MODIFIED:20220831T200111Z
UID:10000051-1694113200-1694120400@chenangogrange.org
SUMMARY:CVARA Meeting
DESCRIPTION:
URL:https://chenangogrange.org/event/cvara-meeting-13/2023-09-07/
LOCATION:Chenango County Grange Hall\, 167 CR-32A\, Norwich\, NY\, 13815\, United States
CATEGORIES:Building Use
ORGANIZER;CN="Chenango Valley Amateur Radio Association":MAILTO:kd2hkb@yahoo.com
END:VEVENT
BEGIN:VEVENT
DTSTART;TZID=America/New_York:20230909T090000
DTEND;TZID=America/New_York:20230909T140000
DTSTAMP:20260425T094109
CREATED:20230119T162948Z
LAST-MODIFIED:20230119T162948Z
UID:10000511-1694250000-1694268000@chenangogrange.org
SUMMARY:Chenango County Grange Meeting
DESCRIPTION:Quarterly meeting of the Chenango County Grange.
URL:https://chenangogrange.org/event/chenango-county-grange-meeting-6/2023-09-09/
LOCATION:Chenango County Grange Hall\, 167 CR-32A\, Norwich\, NY\, 13815\, United States
CATEGORIES:Building Use,Meetings
END:VEVENT
BEGIN:VEVENT
DTSTART;TZID=America/New_York:20230909T140000
DTEND;TZID=America/New_York:20230909T170000
DTSTAMP:20260425T094109
CREATED:20230724T002451Z
LAST-MODIFIED:20230724T002451Z
UID:10000848-1694268000-1694278800@chenangogrange.org
SUMMARY:Carol Wilt
DESCRIPTION:
URL:https://chenangogrange.org/event/carol-wilt/
LOCATION:Chenango County Grange Hall\, 167 CR-32A\, Norwich\, NY\, 13815\, United States
CATEGORIES:Building Use,Rental
END:VEVENT
BEGIN:VEVENT
DTSTART;TZID=America/New_York:20230914T180000
DTEND;TZID=America/New_York:20230914T210000
DTSTAMP:20260425T094109
CREATED:20230227T155534Z
LAST-MODIFIED:20230227T164938Z
UID:10000540-1694714400-1694725200@chenangogrange.org
SUMMARY:CVARA Advanced Tech Night
DESCRIPTION:
URL:https://chenangogrange.org/event/cvara-advanced-tech-night-15/2023-09-14/
LOCATION:Chenango County Grange Hall\, 167 CR-32A\, Norwich\, NY\, 13815\, United States
CATEGORIES:Building Use
ORGANIZER;CN="Chenango Valley Amateur Radio Association":MAILTO:kd2hkb@yahoo.com
END:VEVENT
END:VCALENDAR