BEGIN:VCALENDAR
VERSION:2.0
PRODID:-//Chenango County Grange #29 - ECPv6.15.17.1//NONSGML v1.0//EN
CALSCALE:GREGORIAN
METHOD:PUBLISH
X-WR-CALNAME:Chenango County Grange #29
X-ORIGINAL-URL:https://chenangogrange.org
X-WR-CALDESC:Events for Chenango County Grange #29
REFRESH-INTERVAL;VALUE=DURATION:PT1H
X-Robots-Tag:noindex
X-PUBLISHED-TTL:PT1H
BEGIN:VTIMEZONE
TZID:America/New_York
BEGIN:DAYLIGHT
TZOFFSETFROM:-0500
TZOFFSETTO:-0400
TZNAME:EDT
DTSTART:20230312T070000
END:DAYLIGHT
BEGIN:STANDARD
TZOFFSETFROM:-0400
TZOFFSETTO:-0500
TZNAME:EST
DTSTART:20231105T060000
END:STANDARD
BEGIN:DAYLIGHT
TZOFFSETFROM:-0500
TZOFFSETTO:-0400
TZNAME:EDT
DTSTART:20240310T070000
END:DAYLIGHT
BEGIN:STANDARD
TZOFFSETFROM:-0400
TZOFFSETTO:-0500
TZNAME:EST
DTSTART:20241103T060000
END:STANDARD
BEGIN:DAYLIGHT
TZOFFSETFROM:-0500
TZOFFSETTO:-0400
TZNAME:EDT
DTSTART:20250309T070000
END:DAYLIGHT
BEGIN:STANDARD
TZOFFSETFROM:-0400
TZOFFSETTO:-0500
TZNAME:EST
DTSTART:20251102T060000
END:STANDARD
END:VTIMEZONE
BEGIN:VEVENT
DTSTART;TZID=America/New_York:20241202T180000
DTEND;TZID=America/New_York:20241202T200000
DTSTAMP:20260421T013036
CREATED:20221109T190539Z
LAST-MODIFIED:20221109T190539Z
UID:10000466-1733162400-1733169600@chenangogrange.org
SUMMARY:Sherburne Order of the Eastern Star
DESCRIPTION:
URL:https://chenangogrange.org/event/sherburne-order-of-the-eastern-star-2/2024-12-02/
LOCATION:Chenango County Grange Hall\, 167 CR-32A\, Norwich\, NY\, 13815\, United States
CATEGORIES:Building Use,Meetings,Rental
END:VEVENT
BEGIN:VEVENT
DTSTART;TZID=America/New_York:20241205T190000
DTEND;TZID=America/New_York:20241205T203000
DTSTAMP:20260421T013036
CREATED:20231227T194851Z
LAST-MODIFIED:20231227T194851Z
UID:10000957-1733425200-1733430600@chenangogrange.org
SUMMARY:CVARA Business Meeting
DESCRIPTION:Meeting of the Chenango Valley Amateur Radio Association. Public Welcome.
URL:https://chenangogrange.org/event/cvara-business-meeting/2024-12-05/
CATEGORIES:Building Use
ORGANIZER;CN="Chenango Valley Amateur Radio Association":MAILTO:kd2hkb@yahoo.com
END:VEVENT
BEGIN:VEVENT
DTSTART;TZID=America/New_York:20241212T180000
DTEND;TZID=America/New_York:20241212T210000
DTSTAMP:20260421T013036
CREATED:20230227T155534Z
LAST-MODIFIED:20230227T164938Z
UID:10000555-1734026400-1734037200@chenangogrange.org
SUMMARY:CVARA Advanced Tech Night
DESCRIPTION:
URL:https://chenangogrange.org/event/cvara-advanced-tech-night-15/2024-12-12/
LOCATION:Chenango County Grange Hall\, 167 CR-32A\, Norwich\, NY\, 13815\, United States
CATEGORIES:Building Use
ORGANIZER;CN="Chenango Valley Amateur Radio Association":MAILTO:kd2hkb@yahoo.com
END:VEVENT
BEGIN:VEVENT
DTSTART;TZID=America/New_York:20241214T090000
DTEND;TZID=America/New_York:20241214T140000
DTSTAMP:20260421T013036
CREATED:20230119T162948Z
LAST-MODIFIED:20230119T162948Z
UID:10000516-1734166800-1734184800@chenangogrange.org
SUMMARY:Chenango County Grange Meeting
DESCRIPTION:Quarterly meeting of the Chenango County Grange.
URL:https://chenangogrange.org/event/chenango-county-grange-meeting-6/2024-12-14/
LOCATION:Chenango County Grange Hall\, 167 CR-32A\, Norwich\, NY\, 13815\, United States
CATEGORIES:Building Use,Meetings
END:VEVENT
BEGIN:VEVENT
DTSTART;TZID=America/New_York:20241216T180000
DTEND;TZID=America/New_York:20241216T200000
DTSTAMP:20260421T013036
CREATED:20221109T190414Z
LAST-MODIFIED:20221109T190653Z
UID:10000407-1734372000-1734379200@chenangogrange.org
SUMMARY:Sherburne Order of the Eastern Star
DESCRIPTION:
URL:https://chenangogrange.org/event/sherburne-order-of-the-eastern-star/2024-12-16/
CATEGORIES:Building Use,Meetings,Rental
END:VEVENT
BEGIN:VEVENT
DTSTART;TZID=America/New_York:20241219T180000
DTEND;TZID=America/New_York:20241219T210000
DTSTAMP:20260421T013036
CREATED:20230227T164649Z
LAST-MODIFIED:20230227T164649Z
UID:10000677-1734631200-1734642000@chenangogrange.org
SUMMARY:CVARA Tech Night
DESCRIPTION:
URL:https://chenangogrange.org/event/cvara-tech-night-15/2024-12-19/
LOCATION:Chenango County Grange Hall\, 167 CR-32A\, Norwich\, NY\, 13815\, United States
CATEGORIES:Building Use
ORGANIZER;CN="Chenango Valley Amateur Radio Association":MAILTO:kd2hkb@yahoo.com
END:VEVENT
BEGIN:VEVENT
DTSTART;VALUE=DATE:20241222
DTEND;VALUE=DATE:20241223
DTSTAMP:20260421T013036
CREATED:20241211T140121Z
LAST-MODIFIED:20241211T140446Z
UID:10001044-1734825600-1734911999@chenangogrange.org
SUMMARY:RENTAL
DESCRIPTION:
URL:https://chenangogrange.org/event/rental-9/
CATEGORIES:Building Use,On Hold,Rental
END:VEVENT
BEGIN:VEVENT
DTSTART;TZID=America/New_York:20241226T180000
DTEND;TZID=America/New_York:20241226T210000
DTSTAMP:20260421T013036
CREATED:20231112T205346Z
LAST-MODIFIED:20231229T011102Z
UID:10000797-1735236000-1735246800@chenangogrange.org
SUMMARY:CVARA Tech Night & Exam Session
DESCRIPTION:
URL:https://chenangogrange.org/event/cvara-tech-night-exam-session-2/2024-12-26/
LOCATION:Chenango County Grange Hall\, 167 CR-32A\, Norwich\, NY\, 13815\, United States
CATEGORIES:Building Use,Rental
ORGANIZER;CN="Chenango Valley Amateur Radio Association":MAILTO:kd2hkb@yahoo.com
END:VEVENT
END:VCALENDAR