BEGIN:VCALENDAR
VERSION:2.0
PRODID:-//Chenango County Grange #29 - ECPv6.15.17.1//NONSGML v1.0//EN
CALSCALE:GREGORIAN
METHOD:PUBLISH
X-ORIGINAL-URL:https://chenangogrange.org
X-WR-CALDESC:Events for Chenango County Grange #29
REFRESH-INTERVAL;VALUE=DURATION:PT1H
X-Robots-Tag:noindex
X-PUBLISHED-TTL:PT1H
BEGIN:VTIMEZONE
TZID:America/New_York
BEGIN:DAYLIGHT
TZOFFSETFROM:-0500
TZOFFSETTO:-0400
TZNAME:EDT
DTSTART:20240310T070000
END:DAYLIGHT
BEGIN:STANDARD
TZOFFSETFROM:-0400
TZOFFSETTO:-0500
TZNAME:EST
DTSTART:20241103T060000
END:STANDARD
BEGIN:DAYLIGHT
TZOFFSETFROM:-0500
TZOFFSETTO:-0400
TZNAME:EDT
DTSTART:20250309T070000
END:DAYLIGHT
BEGIN:STANDARD
TZOFFSETFROM:-0400
TZOFFSETTO:-0500
TZNAME:EST
DTSTART:20251102T060000
END:STANDARD
BEGIN:DAYLIGHT
TZOFFSETFROM:-0500
TZOFFSETTO:-0400
TZNAME:EDT
DTSTART:20260308T070000
END:DAYLIGHT
BEGIN:STANDARD
TZOFFSETFROM:-0400
TZOFFSETTO:-0500
TZNAME:EST
DTSTART:20261101T060000
END:STANDARD
END:VTIMEZONE
BEGIN:VEVENT
DTSTART;TZID=America/New_York:20251103T180000
DTEND;TZID=America/New_York:20251103T200000
DTSTAMP:20260420T070056
CREATED:20221109T190539Z
LAST-MODIFIED:20221109T190539Z
UID:10000477-1762192800-1762200000@chenangogrange.org
SUMMARY:Sherburne Order of the Eastern Star
DESCRIPTION:
URL:https://chenangogrange.org/event/sherburne-order-of-the-eastern-star-2/2025-11-03/
LOCATION:Chenango County Grange Hall\, 167 CR-32A\, Norwich\, NY\, 13815\, United States
CATEGORIES:Building Use,Meetings,Rental
END:VEVENT
BEGIN:VEVENT
DTSTART;TZID=America/New_York:20251104T190000
DTEND;TZID=America/New_York:20251104T210000
DTSTAMP:20260420T070056
CREATED:20250208T154531Z
LAST-MODIFIED:20250208T154531Z
UID:10001088-1762282800-1762290000@chenangogrange.org
SUMMARY:Girl Scouts
DESCRIPTION:
URL:https://chenangogrange.org/event/girl-scouts-10/2025-11-04/
CATEGORIES:Building Use,Rental
END:VEVENT
BEGIN:VEVENT
DTSTART;TZID=America/New_York:20251106T190000
DTEND;TZID=America/New_York:20251106T203000
DTSTAMP:20260420T070056
CREATED:20231227T194851Z
LAST-MODIFIED:20231227T194851Z
UID:10000968-1762455600-1762461000@chenangogrange.org
SUMMARY:CVARA Business Meeting
DESCRIPTION:Meeting of the Chenango Valley Amateur Radio Association. Public Welcome.
URL:https://chenangogrange.org/event/cvara-business-meeting/2025-11-06/
CATEGORIES:Building Use
ORGANIZER;CN="Chenango Valley Amateur Radio Association":MAILTO:kd2hkb@yahoo.com
END:VEVENT
BEGIN:VEVENT
DTSTART;TZID=America/New_York:20251107T120000
DTEND;TZID=America/New_York:20251107T150000
DTSTAMP:20260420T070056
CREATED:20251107T134736Z
LAST-MODIFIED:20251107T134736Z
UID:10001451-1762516800-1762527600@chenangogrange.org
SUMMARY:Rental
DESCRIPTION:
URL:https://chenangogrange.org/event/rental-22/
CATEGORIES:Building Use,On Hold,Rental
END:VEVENT
BEGIN:VEVENT
DTSTART;VALUE=DATE:20251109
DTEND;VALUE=DATE:20251110
DTSTAMP:20260420T070056
CREATED:20251109T155656Z
LAST-MODIFIED:20251109T155656Z
UID:10001452-1762646400-1762732799@chenangogrange.org
SUMMARY:Harvest Dinner
DESCRIPTION:
URL:https://chenangogrange.org/event/harvest-dinner-3/
CATEGORIES:Building Use,Meetings
END:VEVENT
BEGIN:VEVENT
DTSTART;TZID=America/New_York:20251111T190000
DTEND;TZID=America/New_York:20251111T210000
DTSTAMP:20260420T070056
CREATED:20250208T154531Z
LAST-MODIFIED:20250208T154531Z
UID:10001089-1762887600-1762894800@chenangogrange.org
SUMMARY:Girl Scouts
DESCRIPTION:
URL:https://chenangogrange.org/event/girl-scouts-10/2025-11-11/
CATEGORIES:Building Use,Rental
END:VEVENT
BEGIN:VEVENT
DTSTART;TZID=America/New_York:20251113T180000
DTEND;TZID=America/New_York:20251113T210000
DTSTAMP:20260420T070056
CREATED:20230227T155534Z
LAST-MODIFIED:20230227T164938Z
UID:10000566-1763056800-1763067600@chenangogrange.org
SUMMARY:CVARA Advanced Tech Night
DESCRIPTION:
URL:https://chenangogrange.org/event/cvara-advanced-tech-night-15/2025-11-13/
LOCATION:Chenango County Grange Hall\, 167 CR-32A\, Norwich\, NY\, 13815\, United States
CATEGORIES:Building Use
ORGANIZER;CN="Chenango Valley Amateur Radio Association":MAILTO:kd2hkb@yahoo.com
END:VEVENT
BEGIN:VEVENT
DTSTART;TZID=America/New_York:20251117T180000
DTEND;TZID=America/New_York:20251117T200000
DTSTAMP:20260420T070056
CREATED:20221109T190414Z
LAST-MODIFIED:20221109T190653Z
UID:10000418-1763402400-1763409600@chenangogrange.org
SUMMARY:Sherburne Order of the Eastern Star
DESCRIPTION:
URL:https://chenangogrange.org/event/sherburne-order-of-the-eastern-star/2025-11-17/
CATEGORIES:Building Use,Meetings,Rental
END:VEVENT
BEGIN:VEVENT
DTSTART;TZID=America/New_York:20251118T190000
DTEND;TZID=America/New_York:20251118T210000
DTSTAMP:20260420T070056
CREATED:20250208T154531Z
LAST-MODIFIED:20250208T154531Z
UID:10001090-1763492400-1763499600@chenangogrange.org
SUMMARY:Girl Scouts
DESCRIPTION:
URL:https://chenangogrange.org/event/girl-scouts-10/2025-11-18/
CATEGORIES:Building Use,Rental
END:VEVENT
BEGIN:VEVENT
DTSTART;TZID=America/New_York:20251120T180000
DTEND;TZID=America/New_York:20251120T210000
DTSTAMP:20260420T070056
CREATED:20230227T164649Z
LAST-MODIFIED:20230227T164649Z
UID:10000688-1763661600-1763672400@chenangogrange.org
SUMMARY:CVARA Tech Night
DESCRIPTION:
URL:https://chenangogrange.org/event/cvara-tech-night-15/2025-11-20/
LOCATION:Chenango County Grange Hall\, 167 CR-32A\, Norwich\, NY\, 13815\, United States
CATEGORIES:Building Use
ORGANIZER;CN="Chenango Valley Amateur Radio Association":MAILTO:kd2hkb@yahoo.com
END:VEVENT
BEGIN:VEVENT
DTSTART;VALUE=DATE:20251122
DTEND;VALUE=DATE:20251123
DTSTAMP:20260420T070056
CREATED:20251107T002048Z
LAST-MODIFIED:20251121T163241Z
UID:10001449-1763769600-1763855999@chenangogrange.org
SUMMARY:RENTAL
DESCRIPTION:
URL:https://chenangogrange.org/event/rental-20/
CATEGORIES:Building Use,Rental
END:VEVENT
BEGIN:VEVENT
DTSTART;TZID=America/New_York:20251125T190000
DTEND;TZID=America/New_York:20251125T210000
DTSTAMP:20260420T070056
CREATED:20250208T154531Z
LAST-MODIFIED:20250208T154531Z
UID:10001091-1764097200-1764104400@chenangogrange.org
SUMMARY:Girl Scouts
DESCRIPTION:
URL:https://chenangogrange.org/event/girl-scouts-10/2025-11-25/
CATEGORIES:Building Use,Rental
END:VEVENT
BEGIN:VEVENT
DTSTART;TZID=America/New_York:20251127T180000
DTEND;TZID=America/New_York:20251127T210000
DTSTAMP:20260420T070056
CREATED:20231112T205346Z
LAST-MODIFIED:20231229T011102Z
UID:10000808-1764266400-1764277200@chenangogrange.org
SUMMARY:CVARA Tech Night & Exam Session
DESCRIPTION:
URL:https://chenangogrange.org/event/cvara-tech-night-exam-session-2/2025-11-27/
LOCATION:Chenango County Grange Hall\, 167 CR-32A\, Norwich\, NY\, 13815\, United States
CATEGORIES:Building Use,Rental
ORGANIZER;CN="Chenango Valley Amateur Radio Association":MAILTO:kd2hkb@yahoo.com
END:VEVENT
BEGIN:VEVENT
DTSTART;TZID=America/New_York:20251130T080000
DTEND;TZID=America/New_York:20251130T170000
DTSTAMP:20260420T070056
CREATED:20251107T002154Z
LAST-MODIFIED:20251107T002154Z
UID:10001450-1764489600-1764522000@chenangogrange.org
SUMMARY:RENTAL
DESCRIPTION:
URL:https://chenangogrange.org/event/rental-21/
CATEGORIES:Building Use,Rental
END:VEVENT
END:VCALENDAR