BEGIN:VCALENDAR
VERSION:2.0
PRODID:-//Chenango County Grange #29 - ECPv6.15.17.1//NONSGML v1.0//EN
CALSCALE:GREGORIAN
METHOD:PUBLISH
X-WR-CALNAME:Chenango County Grange #29
X-ORIGINAL-URL:https://chenangogrange.org
X-WR-CALDESC:Events for Chenango County Grange #29
REFRESH-INTERVAL;VALUE=DURATION:PT1H
X-Robots-Tag:noindex
X-PUBLISHED-TTL:PT1H
BEGIN:VTIMEZONE
TZID:America/New_York
BEGIN:DAYLIGHT
TZOFFSETFROM:-0500
TZOFFSETTO:-0400
TZNAME:EDT
DTSTART:20250309T070000
END:DAYLIGHT
BEGIN:STANDARD
TZOFFSETFROM:-0400
TZOFFSETTO:-0500
TZNAME:EST
DTSTART:20251102T060000
END:STANDARD
BEGIN:DAYLIGHT
TZOFFSETFROM:-0500
TZOFFSETTO:-0400
TZNAME:EDT
DTSTART:20260308T070000
END:DAYLIGHT
BEGIN:STANDARD
TZOFFSETFROM:-0400
TZOFFSETTO:-0500
TZNAME:EST
DTSTART:20261101T060000
END:STANDARD
BEGIN:DAYLIGHT
TZOFFSETFROM:-0500
TZOFFSETTO:-0400
TZNAME:EDT
DTSTART:20270314T070000
END:DAYLIGHT
BEGIN:STANDARD
TZOFFSETFROM:-0400
TZOFFSETTO:-0500
TZNAME:EST
DTSTART:20271107T060000
END:STANDARD
BEGIN:DAYLIGHT
TZOFFSETFROM:-0500
TZOFFSETTO:-0400
TZNAME:EDT
DTSTART:20280312T070000
END:DAYLIGHT
BEGIN:STANDARD
TZOFFSETFROM:-0400
TZOFFSETTO:-0500
TZNAME:EST
DTSTART:20281105T060000
END:STANDARD
END:VTIMEZONE
BEGIN:VEVENT
DTSTART;TZID=America/New_York:20260613T090000
DTEND;TZID=America/New_York:20260613T140000
DTSTAMP:20260419T221630
CREATED:20230119T162948Z
LAST-MODIFIED:20230119T162948Z
UID:10000522-1781341200-1781359200@chenangogrange.org
SUMMARY:Chenango County Grange Meeting
DESCRIPTION:Quarterly meeting of the Chenango County Grange.
URL:https://chenangogrange.org/event/chenango-county-grange-meeting-6/2026-06-13/
LOCATION:Chenango County Grange Hall\, 167 CR-32A\, Norwich\, NY\, 13815\, United States
CATEGORIES:Building Use,Meetings
END:VEVENT
BEGIN:VEVENT
DTSTART;TZID=America/New_York:20260912T090000
DTEND;TZID=America/New_York:20260912T140000
DTSTAMP:20260419T221630
CREATED:20230119T162948Z
LAST-MODIFIED:20230119T162948Z
UID:10000523-1789203600-1789221600@chenangogrange.org
SUMMARY:Chenango County Grange Meeting
DESCRIPTION:Quarterly meeting of the Chenango County Grange.
URL:https://chenangogrange.org/event/chenango-county-grange-meeting-6/2026-09-12/
LOCATION:Chenango County Grange Hall\, 167 CR-32A\, Norwich\, NY\, 13815\, United States
CATEGORIES:Building Use,Meetings
END:VEVENT
BEGIN:VEVENT
DTSTART;TZID=America/New_York:20261212T090000
DTEND;TZID=America/New_York:20261212T140000
DTSTAMP:20260419T221630
CREATED:20230119T162948Z
LAST-MODIFIED:20230119T162948Z
UID:10000524-1797066000-1797084000@chenangogrange.org
SUMMARY:Chenango County Grange Meeting
DESCRIPTION:Quarterly meeting of the Chenango County Grange.
URL:https://chenangogrange.org/event/chenango-county-grange-meeting-6/2026-12-12/
LOCATION:Chenango County Grange Hall\, 167 CR-32A\, Norwich\, NY\, 13815\, United States
CATEGORIES:Building Use,Meetings
END:VEVENT
BEGIN:VEVENT
DTSTART;TZID=America/New_York:20270313T090000
DTEND;TZID=America/New_York:20270313T140000
DTSTAMP:20260419T221630
CREATED:20230119T162948Z
LAST-MODIFIED:20230119T162948Z
UID:10000525-1804928400-1804946400@chenangogrange.org
SUMMARY:Chenango County Grange Meeting
DESCRIPTION:Quarterly meeting of the Chenango County Grange.
URL:https://chenangogrange.org/event/chenango-county-grange-meeting-6/2027-03-13/
LOCATION:Chenango County Grange Hall\, 167 CR-32A\, Norwich\, NY\, 13815\, United States
CATEGORIES:Building Use,Meetings
END:VEVENT
BEGIN:VEVENT
DTSTART;TZID=America/New_York:20270612T090000
DTEND;TZID=America/New_York:20270612T140000
DTSTAMP:20260419T221630
CREATED:20230119T162948Z
LAST-MODIFIED:20230119T162948Z
UID:10000526-1812790800-1812808800@chenangogrange.org
SUMMARY:Chenango County Grange Meeting
DESCRIPTION:Quarterly meeting of the Chenango County Grange.
URL:https://chenangogrange.org/event/chenango-county-grange-meeting-6/2027-06-12/
LOCATION:Chenango County Grange Hall\, 167 CR-32A\, Norwich\, NY\, 13815\, United States
CATEGORIES:Building Use,Meetings
END:VEVENT
BEGIN:VEVENT
DTSTART;TZID=America/New_York:20270911T090000
DTEND;TZID=America/New_York:20270911T140000
DTSTAMP:20260419T221630
CREATED:20230119T162948Z
LAST-MODIFIED:20230119T162948Z
UID:10000527-1820653200-1820671200@chenangogrange.org
SUMMARY:Chenango County Grange Meeting
DESCRIPTION:Quarterly meeting of the Chenango County Grange.
URL:https://chenangogrange.org/event/chenango-county-grange-meeting-6/2027-09-11/
LOCATION:Chenango County Grange Hall\, 167 CR-32A\, Norwich\, NY\, 13815\, United States
CATEGORIES:Building Use,Meetings
END:VEVENT
BEGIN:VEVENT
DTSTART;TZID=America/New_York:20271211T090000
DTEND;TZID=America/New_York:20271211T140000
DTSTAMP:20260419T221630
CREATED:20230119T162948Z
LAST-MODIFIED:20230119T162948Z
UID:10000528-1828515600-1828533600@chenangogrange.org
SUMMARY:Chenango County Grange Meeting
DESCRIPTION:Quarterly meeting of the Chenango County Grange.
URL:https://chenangogrange.org/event/chenango-county-grange-meeting-6/2027-12-11/
LOCATION:Chenango County Grange Hall\, 167 CR-32A\, Norwich\, NY\, 13815\, United States
CATEGORIES:Building Use,Meetings
END:VEVENT
END:VCALENDAR