BEGIN:VCALENDAR
VERSION:2.0
PRODID:-//Chenango County Grange #29 - ECPv6.15.17.1//NONSGML v1.0//EN
CALSCALE:GREGORIAN
METHOD:PUBLISH
X-WR-CALNAME:Chenango County Grange #29
X-ORIGINAL-URL:https://chenangogrange.org
X-WR-CALDESC:Events for Chenango County Grange #29
REFRESH-INTERVAL;VALUE=DURATION:PT1H
X-Robots-Tag:noindex
X-PUBLISHED-TTL:PT1H
BEGIN:VTIMEZONE
TZID:America/New_York
BEGIN:DAYLIGHT
TZOFFSETFROM:-0500
TZOFFSETTO:-0400
TZNAME:EDT
DTSTART:20250309T070000
END:DAYLIGHT
BEGIN:STANDARD
TZOFFSETFROM:-0400
TZOFFSETTO:-0500
TZNAME:EST
DTSTART:20251102T060000
END:STANDARD
BEGIN:DAYLIGHT
TZOFFSETFROM:-0500
TZOFFSETTO:-0400
TZNAME:EDT
DTSTART:20260308T070000
END:DAYLIGHT
BEGIN:STANDARD
TZOFFSETFROM:-0400
TZOFFSETTO:-0500
TZNAME:EST
DTSTART:20261101T060000
END:STANDARD
BEGIN:DAYLIGHT
TZOFFSETFROM:-0500
TZOFFSETTO:-0400
TZNAME:EDT
DTSTART:20270314T070000
END:DAYLIGHT
BEGIN:STANDARD
TZOFFSETFROM:-0400
TZOFFSETTO:-0500
TZNAME:EST
DTSTART:20271107T060000
END:STANDARD
BEGIN:DAYLIGHT
TZOFFSETFROM:-0500
TZOFFSETTO:-0400
TZNAME:EDT
DTSTART:20280312T070000
END:DAYLIGHT
BEGIN:STANDARD
TZOFFSETFROM:-0400
TZOFFSETTO:-0500
TZNAME:EST
DTSTART:20281105T060000
END:STANDARD
BEGIN:DAYLIGHT
TZOFFSETFROM:-0500
TZOFFSETTO:-0400
TZNAME:EDT
DTSTART:20290311T070000
END:DAYLIGHT
BEGIN:STANDARD
TZOFFSETFROM:-0400
TZOFFSETTO:-0500
TZNAME:EST
DTSTART:20291104T060000
END:STANDARD
END:VTIMEZONE
BEGIN:VEVENT
DTSTART;TZID=America/New_York:20260507T190000
DTEND;TZID=America/New_York:20260507T203000
DTSTAMP:20260419T221959
CREATED:20231227T194851Z
LAST-MODIFIED:20231227T194851Z
UID:10000974-1778180400-1778185800@chenangogrange.org
SUMMARY:CVARA Business Meeting
DESCRIPTION:Meeting of the Chenango Valley Amateur Radio Association. Public Welcome.
URL:https://chenangogrange.org/event/cvara-business-meeting/2026-05-07/
CATEGORIES:Building Use
ORGANIZER;CN="Chenango Valley Amateur Radio Association":MAILTO:kd2hkb@yahoo.com
END:VEVENT
BEGIN:VEVENT
DTSTART;TZID=America/New_York:20260604T190000
DTEND;TZID=America/New_York:20260604T203000
DTSTAMP:20260419T221959
CREATED:20231227T194851Z
LAST-MODIFIED:20231227T194851Z
UID:10000975-1780599600-1780605000@chenangogrange.org
SUMMARY:CVARA Business Meeting
DESCRIPTION:Meeting of the Chenango Valley Amateur Radio Association. Public Welcome.
URL:https://chenangogrange.org/event/cvara-business-meeting/2026-06-04/
CATEGORIES:Building Use
ORGANIZER;CN="Chenango Valley Amateur Radio Association":MAILTO:kd2hkb@yahoo.com
END:VEVENT
BEGIN:VEVENT
DTSTART;TZID=America/New_York:20260702T190000
DTEND;TZID=America/New_York:20260702T203000
DTSTAMP:20260419T221959
CREATED:20231227T194851Z
LAST-MODIFIED:20231227T194851Z
UID:10000976-1783018800-1783024200@chenangogrange.org
SUMMARY:CVARA Business Meeting
DESCRIPTION:Meeting of the Chenango Valley Amateur Radio Association. Public Welcome.
URL:https://chenangogrange.org/event/cvara-business-meeting/2026-07-02/
CATEGORIES:Building Use
ORGANIZER;CN="Chenango Valley Amateur Radio Association":MAILTO:kd2hkb@yahoo.com
END:VEVENT
BEGIN:VEVENT
DTSTART;TZID=America/New_York:20260806T190000
DTEND;TZID=America/New_York:20260806T203000
DTSTAMP:20260419T221959
CREATED:20231227T194851Z
LAST-MODIFIED:20231227T194851Z
UID:10000977-1786042800-1786048200@chenangogrange.org
SUMMARY:CVARA Business Meeting
DESCRIPTION:Meeting of the Chenango Valley Amateur Radio Association. Public Welcome.
URL:https://chenangogrange.org/event/cvara-business-meeting/2026-08-06/
CATEGORIES:Building Use
ORGANIZER;CN="Chenango Valley Amateur Radio Association":MAILTO:kd2hkb@yahoo.com
END:VEVENT
BEGIN:VEVENT
DTSTART;TZID=America/New_York:20260903T190000
DTEND;TZID=America/New_York:20260903T203000
DTSTAMP:20260419T221959
CREATED:20231227T194851Z
LAST-MODIFIED:20231227T194851Z
UID:10000978-1788462000-1788467400@chenangogrange.org
SUMMARY:CVARA Business Meeting
DESCRIPTION:Meeting of the Chenango Valley Amateur Radio Association. Public Welcome.
URL:https://chenangogrange.org/event/cvara-business-meeting/2026-09-03/
CATEGORIES:Building Use
ORGANIZER;CN="Chenango Valley Amateur Radio Association":MAILTO:kd2hkb@yahoo.com
END:VEVENT
BEGIN:VEVENT
DTSTART;TZID=America/New_York:20261001T190000
DTEND;TZID=America/New_York:20261001T203000
DTSTAMP:20260419T221959
CREATED:20231227T194851Z
LAST-MODIFIED:20231227T194851Z
UID:10000979-1790881200-1790886600@chenangogrange.org
SUMMARY:CVARA Business Meeting
DESCRIPTION:Meeting of the Chenango Valley Amateur Radio Association. Public Welcome.
URL:https://chenangogrange.org/event/cvara-business-meeting/2026-10-01/
CATEGORIES:Building Use
ORGANIZER;CN="Chenango Valley Amateur Radio Association":MAILTO:kd2hkb@yahoo.com
END:VEVENT
BEGIN:VEVENT
DTSTART;TZID=America/New_York:20261105T190000
DTEND;TZID=America/New_York:20261105T203000
DTSTAMP:20260419T221959
CREATED:20231227T194851Z
LAST-MODIFIED:20231227T194851Z
UID:10000980-1793905200-1793910600@chenangogrange.org
SUMMARY:CVARA Business Meeting
DESCRIPTION:Meeting of the Chenango Valley Amateur Radio Association. Public Welcome.
URL:https://chenangogrange.org/event/cvara-business-meeting/2026-11-05/
CATEGORIES:Building Use
ORGANIZER;CN="Chenango Valley Amateur Radio Association":MAILTO:kd2hkb@yahoo.com
END:VEVENT
BEGIN:VEVENT
DTSTART;TZID=America/New_York:20261203T190000
DTEND;TZID=America/New_York:20261203T203000
DTSTAMP:20260419T221959
CREATED:20231227T194851Z
LAST-MODIFIED:20231227T194851Z
UID:10000981-1796324400-1796329800@chenangogrange.org
SUMMARY:CVARA Business Meeting
DESCRIPTION:Meeting of the Chenango Valley Amateur Radio Association. Public Welcome.
URL:https://chenangogrange.org/event/cvara-business-meeting/2026-12-03/
CATEGORIES:Building Use
ORGANIZER;CN="Chenango Valley Amateur Radio Association":MAILTO:kd2hkb@yahoo.com
END:VEVENT
BEGIN:VEVENT
DTSTART;TZID=America/New_York:20270107T190000
DTEND;TZID=America/New_York:20270107T203000
DTSTAMP:20260419T221959
CREATED:20231227T194851Z
LAST-MODIFIED:20231227T194851Z
UID:10000982-1799348400-1799353800@chenangogrange.org
SUMMARY:CVARA Business Meeting
DESCRIPTION:Meeting of the Chenango Valley Amateur Radio Association. Public Welcome.
URL:https://chenangogrange.org/event/cvara-business-meeting/2027-01-07/
CATEGORIES:Building Use
ORGANIZER;CN="Chenango Valley Amateur Radio Association":MAILTO:kd2hkb@yahoo.com
END:VEVENT
BEGIN:VEVENT
DTSTART;TZID=America/New_York:20270204T190000
DTEND;TZID=America/New_York:20270204T203000
DTSTAMP:20260419T221959
CREATED:20231227T194851Z
LAST-MODIFIED:20231227T194851Z
UID:10000983-1801767600-1801773000@chenangogrange.org
SUMMARY:CVARA Business Meeting
DESCRIPTION:Meeting of the Chenango Valley Amateur Radio Association. Public Welcome.
URL:https://chenangogrange.org/event/cvara-business-meeting/2027-02-04/
CATEGORIES:Building Use
ORGANIZER;CN="Chenango Valley Amateur Radio Association":MAILTO:kd2hkb@yahoo.com
END:VEVENT
BEGIN:VEVENT
DTSTART;TZID=America/New_York:20270304T190000
DTEND;TZID=America/New_York:20270304T203000
DTSTAMP:20260419T221959
CREATED:20231227T194851Z
LAST-MODIFIED:20231227T194851Z
UID:10000984-1804186800-1804192200@chenangogrange.org
SUMMARY:CVARA Business Meeting
DESCRIPTION:Meeting of the Chenango Valley Amateur Radio Association. Public Welcome.
URL:https://chenangogrange.org/event/cvara-business-meeting/2027-03-04/
CATEGORIES:Building Use
ORGANIZER;CN="Chenango Valley Amateur Radio Association":MAILTO:kd2hkb@yahoo.com
END:VEVENT
BEGIN:VEVENT
DTSTART;TZID=America/New_York:20270401T190000
DTEND;TZID=America/New_York:20270401T203000
DTSTAMP:20260419T221959
CREATED:20231227T194851Z
LAST-MODIFIED:20231227T194851Z
UID:10000985-1806606000-1806611400@chenangogrange.org
SUMMARY:CVARA Business Meeting
DESCRIPTION:Meeting of the Chenango Valley Amateur Radio Association. Public Welcome.
URL:https://chenangogrange.org/event/cvara-business-meeting/2027-04-01/
CATEGORIES:Building Use
ORGANIZER;CN="Chenango Valley Amateur Radio Association":MAILTO:kd2hkb@yahoo.com
END:VEVENT
BEGIN:VEVENT
DTSTART;TZID=America/New_York:20270506T190000
DTEND;TZID=America/New_York:20270506T203000
DTSTAMP:20260419T221959
CREATED:20231227T194851Z
LAST-MODIFIED:20231227T194851Z
UID:10000986-1809630000-1809635400@chenangogrange.org
SUMMARY:CVARA Business Meeting
DESCRIPTION:Meeting of the Chenango Valley Amateur Radio Association. Public Welcome.
URL:https://chenangogrange.org/event/cvara-business-meeting/2027-05-06/
CATEGORIES:Building Use
ORGANIZER;CN="Chenango Valley Amateur Radio Association":MAILTO:kd2hkb@yahoo.com
END:VEVENT
BEGIN:VEVENT
DTSTART;TZID=America/New_York:20270603T190000
DTEND;TZID=America/New_York:20270603T203000
DTSTAMP:20260419T221959
CREATED:20231227T194851Z
LAST-MODIFIED:20231227T194851Z
UID:10000987-1812049200-1812054600@chenangogrange.org
SUMMARY:CVARA Business Meeting
DESCRIPTION:Meeting of the Chenango Valley Amateur Radio Association. Public Welcome.
URL:https://chenangogrange.org/event/cvara-business-meeting/2027-06-03/
CATEGORIES:Building Use
ORGANIZER;CN="Chenango Valley Amateur Radio Association":MAILTO:kd2hkb@yahoo.com
END:VEVENT
BEGIN:VEVENT
DTSTART;TZID=America/New_York:20270701T190000
DTEND;TZID=America/New_York:20270701T203000
DTSTAMP:20260419T221959
CREATED:20231227T194851Z
LAST-MODIFIED:20231227T194851Z
UID:10000988-1814468400-1814473800@chenangogrange.org
SUMMARY:CVARA Business Meeting
DESCRIPTION:Meeting of the Chenango Valley Amateur Radio Association. Public Welcome.
URL:https://chenangogrange.org/event/cvara-business-meeting/2027-07-01/
CATEGORIES:Building Use
ORGANIZER;CN="Chenango Valley Amateur Radio Association":MAILTO:kd2hkb@yahoo.com
END:VEVENT
BEGIN:VEVENT
DTSTART;TZID=America/New_York:20270805T190000
DTEND;TZID=America/New_York:20270805T203000
DTSTAMP:20260419T221959
CREATED:20231227T194851Z
LAST-MODIFIED:20231227T194851Z
UID:10000989-1817492400-1817497800@chenangogrange.org
SUMMARY:CVARA Business Meeting
DESCRIPTION:Meeting of the Chenango Valley Amateur Radio Association. Public Welcome.
URL:https://chenangogrange.org/event/cvara-business-meeting/2027-08-05/
CATEGORIES:Building Use
ORGANIZER;CN="Chenango Valley Amateur Radio Association":MAILTO:kd2hkb@yahoo.com
END:VEVENT
BEGIN:VEVENT
DTSTART;TZID=America/New_York:20270902T190000
DTEND;TZID=America/New_York:20270902T203000
DTSTAMP:20260419T221959
CREATED:20231227T194851Z
LAST-MODIFIED:20231227T194851Z
UID:10000990-1819911600-1819917000@chenangogrange.org
SUMMARY:CVARA Business Meeting
DESCRIPTION:Meeting of the Chenango Valley Amateur Radio Association. Public Welcome.
URL:https://chenangogrange.org/event/cvara-business-meeting/2027-09-02/
CATEGORIES:Building Use
ORGANIZER;CN="Chenango Valley Amateur Radio Association":MAILTO:kd2hkb@yahoo.com
END:VEVENT
BEGIN:VEVENT
DTSTART;TZID=America/New_York:20271007T190000
DTEND;TZID=America/New_York:20271007T203000
DTSTAMP:20260419T221959
CREATED:20231227T194851Z
LAST-MODIFIED:20231227T194851Z
UID:10000991-1822935600-1822941000@chenangogrange.org
SUMMARY:CVARA Business Meeting
DESCRIPTION:Meeting of the Chenango Valley Amateur Radio Association. Public Welcome.
URL:https://chenangogrange.org/event/cvara-business-meeting/2027-10-07/
CATEGORIES:Building Use
ORGANIZER;CN="Chenango Valley Amateur Radio Association":MAILTO:kd2hkb@yahoo.com
END:VEVENT
BEGIN:VEVENT
DTSTART;TZID=America/New_York:20271104T190000
DTEND;TZID=America/New_York:20271104T203000
DTSTAMP:20260419T221959
CREATED:20231227T194851Z
LAST-MODIFIED:20231227T194851Z
UID:10000992-1825354800-1825360200@chenangogrange.org
SUMMARY:CVARA Business Meeting
DESCRIPTION:Meeting of the Chenango Valley Amateur Radio Association. Public Welcome.
URL:https://chenangogrange.org/event/cvara-business-meeting/2027-11-04/
CATEGORIES:Building Use
ORGANIZER;CN="Chenango Valley Amateur Radio Association":MAILTO:kd2hkb@yahoo.com
END:VEVENT
BEGIN:VEVENT
DTSTART;TZID=America/New_York:20271202T190000
DTEND;TZID=America/New_York:20271202T203000
DTSTAMP:20260419T221959
CREATED:20231227T194851Z
LAST-MODIFIED:20231227T194851Z
UID:10000993-1827774000-1827779400@chenangogrange.org
SUMMARY:CVARA Business Meeting
DESCRIPTION:Meeting of the Chenango Valley Amateur Radio Association. Public Welcome.
URL:https://chenangogrange.org/event/cvara-business-meeting/2027-12-02/
CATEGORIES:Building Use
ORGANIZER;CN="Chenango Valley Amateur Radio Association":MAILTO:kd2hkb@yahoo.com
END:VEVENT
BEGIN:VEVENT
DTSTART;TZID=America/New_York:20280106T190000
DTEND;TZID=America/New_York:20280106T203000
DTSTAMP:20260419T221959
CREATED:20231227T194851Z
LAST-MODIFIED:20231227T194851Z
UID:10000994-1830798000-1830803400@chenangogrange.org
SUMMARY:CVARA Business Meeting
DESCRIPTION:Meeting of the Chenango Valley Amateur Radio Association. Public Welcome.
URL:https://chenangogrange.org/event/cvara-business-meeting/2028-01-06/
CATEGORIES:Building Use
ORGANIZER;CN="Chenango Valley Amateur Radio Association":MAILTO:kd2hkb@yahoo.com
END:VEVENT
BEGIN:VEVENT
DTSTART;TZID=America/New_York:20280203T190000
DTEND;TZID=America/New_York:20280203T203000
DTSTAMP:20260419T221959
CREATED:20231227T194851Z
LAST-MODIFIED:20231227T194851Z
UID:10000995-1833217200-1833222600@chenangogrange.org
SUMMARY:CVARA Business Meeting
DESCRIPTION:Meeting of the Chenango Valley Amateur Radio Association. Public Welcome.
URL:https://chenangogrange.org/event/cvara-business-meeting/2028-02-03/
CATEGORIES:Building Use
ORGANIZER;CN="Chenango Valley Amateur Radio Association":MAILTO:kd2hkb@yahoo.com
END:VEVENT
BEGIN:VEVENT
DTSTART;TZID=America/New_York:20280302T190000
DTEND;TZID=America/New_York:20280302T203000
DTSTAMP:20260419T221959
CREATED:20231227T194851Z
LAST-MODIFIED:20231227T194851Z
UID:10000996-1835636400-1835641800@chenangogrange.org
SUMMARY:CVARA Business Meeting
DESCRIPTION:Meeting of the Chenango Valley Amateur Radio Association. Public Welcome.
URL:https://chenangogrange.org/event/cvara-business-meeting/2028-03-02/
CATEGORIES:Building Use
ORGANIZER;CN="Chenango Valley Amateur Radio Association":MAILTO:kd2hkb@yahoo.com
END:VEVENT
BEGIN:VEVENT
DTSTART;TZID=America/New_York:20280406T190000
DTEND;TZID=America/New_York:20280406T203000
DTSTAMP:20260419T221959
CREATED:20231227T194851Z
LAST-MODIFIED:20231227T194851Z
UID:10000997-1838660400-1838665800@chenangogrange.org
SUMMARY:CVARA Business Meeting
DESCRIPTION:Meeting of the Chenango Valley Amateur Radio Association. Public Welcome.
URL:https://chenangogrange.org/event/cvara-business-meeting/2028-04-06/
CATEGORIES:Building Use
ORGANIZER;CN="Chenango Valley Amateur Radio Association":MAILTO:kd2hkb@yahoo.com
END:VEVENT
BEGIN:VEVENT
DTSTART;TZID=America/New_York:20280504T190000
DTEND;TZID=America/New_York:20280504T203000
DTSTAMP:20260419T221959
CREATED:20231227T194851Z
LAST-MODIFIED:20231227T194851Z
UID:10000998-1841079600-1841085000@chenangogrange.org
SUMMARY:CVARA Business Meeting
DESCRIPTION:Meeting of the Chenango Valley Amateur Radio Association. Public Welcome.
URL:https://chenangogrange.org/event/cvara-business-meeting/2028-05-04/
CATEGORIES:Building Use
ORGANIZER;CN="Chenango Valley Amateur Radio Association":MAILTO:kd2hkb@yahoo.com
END:VEVENT
BEGIN:VEVENT
DTSTART;TZID=America/New_York:20280601T190000
DTEND;TZID=America/New_York:20280601T203000
DTSTAMP:20260419T221959
CREATED:20231227T194851Z
LAST-MODIFIED:20231227T194851Z
UID:10000999-1843498800-1843504200@chenangogrange.org
SUMMARY:CVARA Business Meeting
DESCRIPTION:Meeting of the Chenango Valley Amateur Radio Association. Public Welcome.
URL:https://chenangogrange.org/event/cvara-business-meeting/2028-06-01/
CATEGORIES:Building Use
ORGANIZER;CN="Chenango Valley Amateur Radio Association":MAILTO:kd2hkb@yahoo.com
END:VEVENT
BEGIN:VEVENT
DTSTART;TZID=America/New_York:20280706T190000
DTEND;TZID=America/New_York:20280706T203000
DTSTAMP:20260419T221959
CREATED:20231227T194851Z
LAST-MODIFIED:20231227T194851Z
UID:10001000-1846522800-1846528200@chenangogrange.org
SUMMARY:CVARA Business Meeting
DESCRIPTION:Meeting of the Chenango Valley Amateur Radio Association. Public Welcome.
URL:https://chenangogrange.org/event/cvara-business-meeting/2028-07-06/
CATEGORIES:Building Use
ORGANIZER;CN="Chenango Valley Amateur Radio Association":MAILTO:kd2hkb@yahoo.com
END:VEVENT
BEGIN:VEVENT
DTSTART;TZID=America/New_York:20280803T190000
DTEND;TZID=America/New_York:20280803T203000
DTSTAMP:20260419T221959
CREATED:20231227T194851Z
LAST-MODIFIED:20231227T194851Z
UID:10001001-1848942000-1848947400@chenangogrange.org
SUMMARY:CVARA Business Meeting
DESCRIPTION:Meeting of the Chenango Valley Amateur Radio Association. Public Welcome.
URL:https://chenangogrange.org/event/cvara-business-meeting/2028-08-03/
CATEGORIES:Building Use
ORGANIZER;CN="Chenango Valley Amateur Radio Association":MAILTO:kd2hkb@yahoo.com
END:VEVENT
BEGIN:VEVENT
DTSTART;TZID=America/New_York:20280907T190000
DTEND;TZID=America/New_York:20280907T203000
DTSTAMP:20260419T221959
CREATED:20231227T194851Z
LAST-MODIFIED:20231227T194851Z
UID:10001002-1851966000-1851971400@chenangogrange.org
SUMMARY:CVARA Business Meeting
DESCRIPTION:Meeting of the Chenango Valley Amateur Radio Association. Public Welcome.
URL:https://chenangogrange.org/event/cvara-business-meeting/2028-09-07/
CATEGORIES:Building Use
ORGANIZER;CN="Chenango Valley Amateur Radio Association":MAILTO:kd2hkb@yahoo.com
END:VEVENT
BEGIN:VEVENT
DTSTART;TZID=America/New_York:20281005T190000
DTEND;TZID=America/New_York:20281005T203000
DTSTAMP:20260419T221959
CREATED:20231227T194851Z
LAST-MODIFIED:20231227T194851Z
UID:10001003-1854385200-1854390600@chenangogrange.org
SUMMARY:CVARA Business Meeting
DESCRIPTION:Meeting of the Chenango Valley Amateur Radio Association. Public Welcome.
URL:https://chenangogrange.org/event/cvara-business-meeting/2028-10-05/
CATEGORIES:Building Use
ORGANIZER;CN="Chenango Valley Amateur Radio Association":MAILTO:kd2hkb@yahoo.com
END:VEVENT
END:VCALENDAR