BEGIN:VCALENDAR
VERSION:2.0
PRODID:-//Chenango County Grange #29 - ECPv6.15.17.1//NONSGML v1.0//EN
CALSCALE:GREGORIAN
METHOD:PUBLISH
X-ORIGINAL-URL:https://chenangogrange.org
X-WR-CALDESC:Events for Chenango County Grange #29
REFRESH-INTERVAL;VALUE=DURATION:PT1H
X-Robots-Tag:noindex
X-PUBLISHED-TTL:PT1H
BEGIN:VTIMEZONE
TZID:America/New_York
BEGIN:DAYLIGHT
TZOFFSETFROM:-0500
TZOFFSETTO:-0400
TZNAME:EDT
DTSTART:20210314T070000
END:DAYLIGHT
BEGIN:STANDARD
TZOFFSETFROM:-0400
TZOFFSETTO:-0500
TZNAME:EST
DTSTART:20211107T060000
END:STANDARD
BEGIN:DAYLIGHT
TZOFFSETFROM:-0500
TZOFFSETTO:-0400
TZNAME:EDT
DTSTART:20220313T070000
END:DAYLIGHT
BEGIN:STANDARD
TZOFFSETFROM:-0400
TZOFFSETTO:-0500
TZNAME:EST
DTSTART:20221106T060000
END:STANDARD
BEGIN:DAYLIGHT
TZOFFSETFROM:-0500
TZOFFSETTO:-0400
TZNAME:EDT
DTSTART:20230312T070000
END:DAYLIGHT
BEGIN:STANDARD
TZOFFSETFROM:-0400
TZOFFSETTO:-0500
TZNAME:EST
DTSTART:20231105T060000
END:STANDARD
BEGIN:DAYLIGHT
TZOFFSETFROM:-0500
TZOFFSETTO:-0400
TZNAME:EDT
DTSTART:20240310T070000
END:DAYLIGHT
BEGIN:STANDARD
TZOFFSETFROM:-0400
TZOFFSETTO:-0500
TZNAME:EST
DTSTART:20241103T060000
END:STANDARD
END:VTIMEZONE
BEGIN:VEVENT
DTSTART;TZID=America/New_York:20230810T180000
DTEND;TZID=America/New_York:20230810T210000
DTSTAMP:20260423T080702
CREATED:20230227T155534Z
LAST-MODIFIED:20230227T164938Z
UID:10000539-1691690400-1691701200@chenangogrange.org
SUMMARY:CVARA Advanced Tech Night
DESCRIPTION:
URL:https://chenangogrange.org/event/cvara-advanced-tech-night-15/2023-08-10/
LOCATION:Chenango County Grange Hall\, 167 CR-32A\, Norwich\, NY\, 13815\, United States
CATEGORIES:Building Use
ORGANIZER;CN="Chenango Valley Amateur Radio Association":MAILTO:kd2hkb@yahoo.com
END:VEVENT
BEGIN:VEVENT
DTSTART;TZID=America/New_York:20230803T190000
DTEND;TZID=America/New_York:20230803T210000
DTSTAMP:20260423T080702
CREATED:20220113T194139Z
LAST-MODIFIED:20220831T200111Z
UID:10000050-1691089200-1691096400@chenangogrange.org
SUMMARY:CVARA Meeting
DESCRIPTION:
URL:https://chenangogrange.org/event/cvara-meeting-13/2023-08-03/
LOCATION:Chenango County Grange Hall\, 167 CR-32A\, Norwich\, NY\, 13815\, United States
CATEGORIES:Building Use
ORGANIZER;CN="Chenango Valley Amateur Radio Association":MAILTO:kd2hkb@yahoo.com
END:VEVENT
BEGIN:VEVENT
DTSTART;TZID=America/New_York:20230727T180000
DTEND;TZID=America/New_York:20230727T210000
DTSTAMP:20260423T080702
CREATED:20230227T165222Z
LAST-MODIFIED:20231112T205216Z
UID:10000780-1690480800-1690491600@chenangogrange.org
SUMMARY:CVARA Tech Night & Exam Session
DESCRIPTION:
URL:https://chenangogrange.org/event/cvara-tech-night-exam-session/2023-07-27/
LOCATION:Chenango County Grange Hall\, 167 CR-32A\, Norwich\, NY\, 13815\, United States
CATEGORIES:Building Use
ORGANIZER;CN="Chenango Valley Amateur Radio Association":MAILTO:kd2hkb@yahoo.com
END:VEVENT
BEGIN:VEVENT
DTSTART;TZID=America/New_York:20230720T180000
DTEND;TZID=America/New_York:20230720T210000
DTSTAMP:20260423T080702
CREATED:20230227T164649Z
LAST-MODIFIED:20230227T164649Z
UID:10000660-1689876000-1689886800@chenangogrange.org
SUMMARY:CVARA Tech Night
DESCRIPTION:
URL:https://chenangogrange.org/event/cvara-tech-night-15/2023-07-20/
LOCATION:Chenango County Grange Hall\, 167 CR-32A\, Norwich\, NY\, 13815\, United States
CATEGORIES:Building Use
ORGANIZER;CN="Chenango Valley Amateur Radio Association":MAILTO:kd2hkb@yahoo.com
END:VEVENT
BEGIN:VEVENT
DTSTART;TZID=America/New_York:20230713T180000
DTEND;TZID=America/New_York:20230713T210000
DTSTAMP:20260423T080702
CREATED:20230227T155534Z
LAST-MODIFIED:20230227T164938Z
UID:10000538-1689271200-1689282000@chenangogrange.org
SUMMARY:CVARA Advanced Tech Night
DESCRIPTION:
URL:https://chenangogrange.org/event/cvara-advanced-tech-night-15/2023-07-13/
LOCATION:Chenango County Grange Hall\, 167 CR-32A\, Norwich\, NY\, 13815\, United States
CATEGORIES:Building Use
ORGANIZER;CN="Chenango Valley Amateur Radio Association":MAILTO:kd2hkb@yahoo.com
END:VEVENT
BEGIN:VEVENT
DTSTART;TZID=America/New_York:20230706T190000
DTEND;TZID=America/New_York:20230706T210000
DTSTAMP:20260423T080702
CREATED:20220113T194139Z
LAST-MODIFIED:20220831T200111Z
UID:10000049-1688670000-1688677200@chenangogrange.org
SUMMARY:CVARA Meeting
DESCRIPTION:
URL:https://chenangogrange.org/event/cvara-meeting-13/2023-07-06/
LOCATION:Chenango County Grange Hall\, 167 CR-32A\, Norwich\, NY\, 13815\, United States
CATEGORIES:Building Use
ORGANIZER;CN="Chenango Valley Amateur Radio Association":MAILTO:kd2hkb@yahoo.com
END:VEVENT
BEGIN:VEVENT
DTSTART;TZID=America/New_York:20230622T180000
DTEND;TZID=America/New_York:20230622T210000
DTSTAMP:20260423T080702
CREATED:20230227T165222Z
LAST-MODIFIED:20231112T205216Z
UID:10000779-1687456800-1687467600@chenangogrange.org
SUMMARY:CVARA Tech Night & Exam Session
DESCRIPTION:
URL:https://chenangogrange.org/event/cvara-tech-night-exam-session/2023-06-22/
LOCATION:Chenango County Grange Hall\, 167 CR-32A\, Norwich\, NY\, 13815\, United States
CATEGORIES:Building Use
ORGANIZER;CN="Chenango Valley Amateur Radio Association":MAILTO:kd2hkb@yahoo.com
END:VEVENT
BEGIN:VEVENT
DTSTART;TZID=America/New_York:20230615T180000
DTEND;TZID=America/New_York:20230615T210000
DTSTAMP:20260423T080702
CREATED:20230227T164649Z
LAST-MODIFIED:20230227T164649Z
UID:10000659-1686852000-1686862800@chenangogrange.org
SUMMARY:CVARA Tech Night
DESCRIPTION:
URL:https://chenangogrange.org/event/cvara-tech-night-15/2023-06-15/
LOCATION:Chenango County Grange Hall\, 167 CR-32A\, Norwich\, NY\, 13815\, United States
CATEGORIES:Building Use
ORGANIZER;CN="Chenango Valley Amateur Radio Association":MAILTO:kd2hkb@yahoo.com
END:VEVENT
BEGIN:VEVENT
DTSTART;TZID=America/New_York:20230608T180000
DTEND;TZID=America/New_York:20230608T210000
DTSTAMP:20260423T080703
CREATED:20230227T155534Z
LAST-MODIFIED:20230227T164938Z
UID:10000537-1686247200-1686258000@chenangogrange.org
SUMMARY:CVARA Advanced Tech Night
DESCRIPTION:
URL:https://chenangogrange.org/event/cvara-advanced-tech-night-15/2023-06-08/
LOCATION:Chenango County Grange Hall\, 167 CR-32A\, Norwich\, NY\, 13815\, United States
CATEGORIES:Building Use
ORGANIZER;CN="Chenango Valley Amateur Radio Association":MAILTO:kd2hkb@yahoo.com
END:VEVENT
BEGIN:VEVENT
DTSTART;TZID=America/New_York:20230601T190000
DTEND;TZID=America/New_York:20230601T210000
DTSTAMP:20260423T080703
CREATED:20220113T194139Z
LAST-MODIFIED:20220831T200111Z
UID:10000048-1685646000-1685653200@chenangogrange.org
SUMMARY:CVARA Meeting
DESCRIPTION:
URL:https://chenangogrange.org/event/cvara-meeting-13/2023-06-01/
LOCATION:Chenango County Grange Hall\, 167 CR-32A\, Norwich\, NY\, 13815\, United States
CATEGORIES:Building Use
ORGANIZER;CN="Chenango Valley Amateur Radio Association":MAILTO:kd2hkb@yahoo.com
END:VEVENT
BEGIN:VEVENT
DTSTART;TZID=America/New_York:20230525T180000
DTEND;TZID=America/New_York:20230525T210000
DTSTAMP:20260423T080703
CREATED:20230227T165222Z
LAST-MODIFIED:20231112T205216Z
UID:10000778-1685037600-1685048400@chenangogrange.org
SUMMARY:CVARA Tech Night & Exam Session
DESCRIPTION:
URL:https://chenangogrange.org/event/cvara-tech-night-exam-session/2023-05-25/
LOCATION:Chenango County Grange Hall\, 167 CR-32A\, Norwich\, NY\, 13815\, United States
CATEGORIES:Building Use
ORGANIZER;CN="Chenango Valley Amateur Radio Association":MAILTO:kd2hkb@yahoo.com
END:VEVENT
BEGIN:VEVENT
DTSTART;VALUE=DATE:20230520
DTEND;VALUE=DATE:20230521
DTSTAMP:20260423T080703
CREATED:20230113T164944Z
LAST-MODIFIED:20230113T164944Z
UID:10000505-1684540800-1684627199@chenangogrange.org
SUMMARY:CVARA
DESCRIPTION:
URL:https://chenangogrange.org/event/cvara/
LOCATION:Chenango County Grange Hall\, 167 CR-32A\, Norwich\, NY\, 13815\, United States
CATEGORIES:Building Use
ORGANIZER;CN="Chenango Valley Amateur Radio Association":MAILTO:kd2hkb@yahoo.com
END:VEVENT
BEGIN:VEVENT
DTSTART;TZID=America/New_York:20230518T180000
DTEND;TZID=America/New_York:20230518T210000
DTSTAMP:20260423T080703
CREATED:20230227T164649Z
LAST-MODIFIED:20230227T164649Z
UID:10000658-1684432800-1684443600@chenangogrange.org
SUMMARY:CVARA Tech Night
DESCRIPTION:
URL:https://chenangogrange.org/event/cvara-tech-night-15/2023-05-18/
LOCATION:Chenango County Grange Hall\, 167 CR-32A\, Norwich\, NY\, 13815\, United States
CATEGORIES:Building Use
ORGANIZER;CN="Chenango Valley Amateur Radio Association":MAILTO:kd2hkb@yahoo.com
END:VEVENT
BEGIN:VEVENT
DTSTART;TZID=America/New_York:20230511T180000
DTEND;TZID=America/New_York:20230511T210000
DTSTAMP:20260423T080703
CREATED:20230227T155534Z
LAST-MODIFIED:20230227T164938Z
UID:10000536-1683828000-1683838800@chenangogrange.org
SUMMARY:CVARA Advanced Tech Night
DESCRIPTION:
URL:https://chenangogrange.org/event/cvara-advanced-tech-night-15/2023-05-11/
LOCATION:Chenango County Grange Hall\, 167 CR-32A\, Norwich\, NY\, 13815\, United States
CATEGORIES:Building Use
ORGANIZER;CN="Chenango Valley Amateur Radio Association":MAILTO:kd2hkb@yahoo.com
END:VEVENT
BEGIN:VEVENT
DTSTART;TZID=America/New_York:20230504T190000
DTEND;TZID=America/New_York:20230504T210000
DTSTAMP:20260423T080703
CREATED:20220113T194139Z
LAST-MODIFIED:20220831T200111Z
UID:10000047-1683226800-1683234000@chenangogrange.org
SUMMARY:CVARA Meeting
DESCRIPTION:
URL:https://chenangogrange.org/event/cvara-meeting-13/2023-05-04/
LOCATION:Chenango County Grange Hall\, 167 CR-32A\, Norwich\, NY\, 13815\, United States
CATEGORIES:Building Use
ORGANIZER;CN="Chenango Valley Amateur Radio Association":MAILTO:kd2hkb@yahoo.com
END:VEVENT
BEGIN:VEVENT
DTSTART;TZID=America/New_York:20230427T180000
DTEND;TZID=America/New_York:20230427T210000
DTSTAMP:20260423T080703
CREATED:20230227T165222Z
LAST-MODIFIED:20231112T205216Z
UID:10000777-1682618400-1682629200@chenangogrange.org
SUMMARY:CVARA Tech Night & Exam Session
DESCRIPTION:
URL:https://chenangogrange.org/event/cvara-tech-night-exam-session/2023-04-27/
LOCATION:Chenango County Grange Hall\, 167 CR-32A\, Norwich\, NY\, 13815\, United States
CATEGORIES:Building Use
ORGANIZER;CN="Chenango Valley Amateur Radio Association":MAILTO:kd2hkb@yahoo.com
END:VEVENT
BEGIN:VEVENT
DTSTART;TZID=America/New_York:20230420T180000
DTEND;TZID=America/New_York:20230420T210000
DTSTAMP:20260423T080703
CREATED:20230227T164649Z
LAST-MODIFIED:20230227T164649Z
UID:10000657-1682013600-1682024400@chenangogrange.org
SUMMARY:CVARA Tech Night
DESCRIPTION:
URL:https://chenangogrange.org/event/cvara-tech-night-15/2023-04-20/
LOCATION:Chenango County Grange Hall\, 167 CR-32A\, Norwich\, NY\, 13815\, United States
CATEGORIES:Building Use
ORGANIZER;CN="Chenango Valley Amateur Radio Association":MAILTO:kd2hkb@yahoo.com
END:VEVENT
BEGIN:VEVENT
DTSTART;VALUE=DATE:20230415
DTEND;VALUE=DATE:20230416
DTSTAMP:20260423T080703
CREATED:20230113T165601Z
LAST-MODIFIED:20230113T165601Z
UID:10000506-1681516800-1681603199@chenangogrange.org
SUMMARY:CVARA HAMFest
DESCRIPTION:Tables and Chairs being used for “HAM Fest” being held at St. Bart’s Parish Center.
URL:https://chenangogrange.org/event/cvara-hamfest/
CATEGORIES:Tables and Chairs
ORGANIZER;CN="Chenango Valley Amateur Radio Association":MAILTO:kd2hkb@yahoo.com
END:VEVENT
BEGIN:VEVENT
DTSTART;TZID=America/New_York:20230413T180000
DTEND;TZID=America/New_York:20230413T210000
DTSTAMP:20260423T080703
CREATED:20230227T155534Z
LAST-MODIFIED:20230227T164938Z
UID:10000535-1681408800-1681419600@chenangogrange.org
SUMMARY:CVARA Advanced Tech Night
DESCRIPTION:
URL:https://chenangogrange.org/event/cvara-advanced-tech-night-15/2023-04-13/
LOCATION:Chenango County Grange Hall\, 167 CR-32A\, Norwich\, NY\, 13815\, United States
CATEGORIES:Building Use
ORGANIZER;CN="Chenango Valley Amateur Radio Association":MAILTO:kd2hkb@yahoo.com
END:VEVENT
BEGIN:VEVENT
DTSTART;TZID=America/New_York:20230406T190000
DTEND;TZID=America/New_York:20230406T210000
DTSTAMP:20260423T080703
CREATED:20220113T194139Z
LAST-MODIFIED:20220831T200111Z
UID:10000046-1680807600-1680814800@chenangogrange.org
SUMMARY:CVARA Meeting
DESCRIPTION:
URL:https://chenangogrange.org/event/cvara-meeting-13/2023-04-06/
LOCATION:Chenango County Grange Hall\, 167 CR-32A\, Norwich\, NY\, 13815\, United States
CATEGORIES:Building Use
ORGANIZER;CN="Chenango Valley Amateur Radio Association":MAILTO:kd2hkb@yahoo.com
END:VEVENT
BEGIN:VEVENT
DTSTART;TZID=America/New_York:20230323T180000
DTEND;TZID=America/New_York:20230323T210000
DTSTAMP:20260423T080703
CREATED:20230227T165222Z
LAST-MODIFIED:20231112T205216Z
UID:10000776-1679594400-1679605200@chenangogrange.org
SUMMARY:CVARA Tech Night & Exam Session
DESCRIPTION:
URL:https://chenangogrange.org/event/cvara-tech-night-exam-session/2023-03-23/
LOCATION:Chenango County Grange Hall\, 167 CR-32A\, Norwich\, NY\, 13815\, United States
CATEGORIES:Building Use
ORGANIZER;CN="Chenango Valley Amateur Radio Association":MAILTO:kd2hkb@yahoo.com
END:VEVENT
BEGIN:VEVENT
DTSTART;TZID=America/New_York:20230323T080000
DTEND;TZID=America/New_York:20230323T170000
DTSTAMP:20260423T080703
CREATED:20230227T155534Z
LAST-MODIFIED:20230227T164938Z
UID:10000534-1679558400-1679590800@chenangogrange.org
SUMMARY:CVARA Advanced Tech Night
DESCRIPTION:
URL:https://chenangogrange.org/event/cvara-advanced-tech-night-15/2023-03-23/
LOCATION:Chenango County Grange Hall\, 167 CR-32A\, Norwich\, NY\, 13815\, United States
CATEGORIES:Building Use
ORGANIZER;CN="Chenango Valley Amateur Radio Association":MAILTO:kd2hkb@yahoo.com
END:VEVENT
BEGIN:VEVENT
DTSTART;TZID=America/New_York:20230316T180000
DTEND;TZID=America/New_York:20230316T210000
DTSTAMP:20260423T080703
CREATED:20230227T164649Z
LAST-MODIFIED:20230227T164649Z
UID:10000656-1678989600-1679000400@chenangogrange.org
SUMMARY:CVARA Tech Night
DESCRIPTION:
URL:https://chenangogrange.org/event/cvara-tech-night-15/2023-03-16/
LOCATION:Chenango County Grange Hall\, 167 CR-32A\, Norwich\, NY\, 13815\, United States
CATEGORIES:Building Use
ORGANIZER;CN="Chenango Valley Amateur Radio Association":MAILTO:kd2hkb@yahoo.com
END:VEVENT
BEGIN:VEVENT
DTSTART;TZID=America/New_York:20230316T080000
DTEND;TZID=America/New_York:20230316T170000
DTSTAMP:20260423T080703
CREATED:20230227T155534Z
LAST-MODIFIED:20230227T164938Z
UID:10000533-1678953600-1678986000@chenangogrange.org
SUMMARY:CVARA Advanced Tech Night
DESCRIPTION:
URL:https://chenangogrange.org/event/cvara-advanced-tech-night-15/2023-03-16/
LOCATION:Chenango County Grange Hall\, 167 CR-32A\, Norwich\, NY\, 13815\, United States
CATEGORIES:Building Use
ORGANIZER;CN="Chenango Valley Amateur Radio Association":MAILTO:kd2hkb@yahoo.com
END:VEVENT
BEGIN:VEVENT
DTSTART;TZID=America/New_York:20230309T180000
DTEND;TZID=America/New_York:20230309T210000
DTSTAMP:20260423T080703
CREATED:20230227T155534Z
LAST-MODIFIED:20230227T164938Z
UID:10000532-1678384800-1678395600@chenangogrange.org
SUMMARY:CVARA Advanced Tech Night
DESCRIPTION:
URL:https://chenangogrange.org/event/cvara-advanced-tech-night-15/2023-03-09/
LOCATION:Chenango County Grange Hall\, 167 CR-32A\, Norwich\, NY\, 13815\, United States
CATEGORIES:Building Use
ORGANIZER;CN="Chenango Valley Amateur Radio Association":MAILTO:kd2hkb@yahoo.com
END:VEVENT
BEGIN:VEVENT
DTSTART;TZID=America/New_York:20230302T190000
DTEND;TZID=America/New_York:20230302T210000
DTSTAMP:20260423T080703
CREATED:20220113T194139Z
LAST-MODIFIED:20220831T200111Z
UID:10000045-1677783600-1677790800@chenangogrange.org
SUMMARY:CVARA Meeting
DESCRIPTION:
URL:https://chenangogrange.org/event/cvara-meeting-13/2023-03-02/
LOCATION:Chenango County Grange Hall\, 167 CR-32A\, Norwich\, NY\, 13815\, United States
CATEGORIES:Building Use
ORGANIZER;CN="Chenango Valley Amateur Radio Association":MAILTO:kd2hkb@yahoo.com
END:VEVENT
BEGIN:VEVENT
DTSTART;TZID=America/New_York:20230202T190000
DTEND;TZID=America/New_York:20230202T210000
DTSTAMP:20260423T080703
CREATED:20220113T194139Z
LAST-MODIFIED:20220831T200111Z
UID:10000044-1675364400-1675371600@chenangogrange.org
SUMMARY:CVARA Meeting
DESCRIPTION:
URL:https://chenangogrange.org/event/cvara-meeting-13/2023-02-02/
LOCATION:Chenango County Grange Hall\, 167 CR-32A\, Norwich\, NY\, 13815\, United States
CATEGORIES:Building Use
ORGANIZER;CN="Chenango Valley Amateur Radio Association":MAILTO:kd2hkb@yahoo.com
END:VEVENT
BEGIN:VEVENT
DTSTART;TZID=America/New_York:20230105T190000
DTEND;TZID=America/New_York:20230105T210000
DTSTAMP:20260423T080703
CREATED:20220113T194139Z
LAST-MODIFIED:20220831T200111Z
UID:10000043-1672945200-1672952400@chenangogrange.org
SUMMARY:CVARA Meeting
DESCRIPTION:
URL:https://chenangogrange.org/event/cvara-meeting-13/2023-01-05/
LOCATION:Chenango County Grange Hall\, 167 CR-32A\, Norwich\, NY\, 13815\, United States
CATEGORIES:Building Use
ORGANIZER;CN="Chenango Valley Amateur Radio Association":MAILTO:kd2hkb@yahoo.com
END:VEVENT
BEGIN:VEVENT
DTSTART;TZID=America/New_York:20221222T110000
DTEND;TZID=America/New_York:20221222T180000
DTSTAMP:20260423T080703
CREATED:20221201T144846Z
LAST-MODIFIED:20221201T144846Z
UID:10000502-1671706800-1671732000@chenangogrange.org
SUMMARY:Doug's Fish Fry Fundraiser
DESCRIPTION:
URL:https://chenangogrange.org/event/dougs-fish-fry-fundraiser-2/
LOCATION:Chenango County Grange Hall\, 167 CR-32A\, Norwich\, NY\, 13815\, United States
CATEGORIES:Building Use
ORGANIZER;CN="Chenango Valley Amateur Radio Association":MAILTO:kd2hkb@yahoo.com
END:VEVENT
BEGIN:VEVENT
DTSTART;TZID=America/New_York:20221215T180000
DTEND;TZID=America/New_York:20221215T180000
DTSTAMP:20260423T080703
CREATED:20220113T194254Z
LAST-MODIFIED:20220113T194254Z
UID:10000079-1671127200-1671127200@chenangogrange.org
SUMMARY:CVARA Tech Night
DESCRIPTION:
URL:https://chenangogrange.org/event/cvara-tech-night-14/
LOCATION:Chenango County Grange Hall\, 167 CR-32A\, Norwich\, NY\, 13815\, United States
CATEGORIES:Building Use
ORGANIZER;CN="Chenango Valley Amateur Radio Association":MAILTO:kd2hkb@yahoo.com
END:VEVENT
END:VCALENDAR