BEGIN:VCALENDAR
VERSION:2.0
PRODID:-//Chenango County Grange #29 - ECPv6.15.17.1//NONSGML v1.0//EN
CALSCALE:GREGORIAN
METHOD:PUBLISH
X-ORIGINAL-URL:https://chenangogrange.org
X-WR-CALDESC:Events for Chenango County Grange #29
REFRESH-INTERVAL;VALUE=DURATION:PT1H
X-Robots-Tag:noindex
X-PUBLISHED-TTL:PT1H
BEGIN:VTIMEZONE
TZID:America/New_York
BEGIN:DAYLIGHT
TZOFFSETFROM:-0500
TZOFFSETTO:-0400
TZNAME:EDT
DTSTART:20210314T070000
END:DAYLIGHT
BEGIN:STANDARD
TZOFFSETFROM:-0400
TZOFFSETTO:-0500
TZNAME:EST
DTSTART:20211107T060000
END:STANDARD
BEGIN:DAYLIGHT
TZOFFSETFROM:-0500
TZOFFSETTO:-0400
TZNAME:EDT
DTSTART:20220313T070000
END:DAYLIGHT
BEGIN:STANDARD
TZOFFSETFROM:-0400
TZOFFSETTO:-0500
TZNAME:EST
DTSTART:20221106T060000
END:STANDARD
BEGIN:DAYLIGHT
TZOFFSETFROM:-0500
TZOFFSETTO:-0400
TZNAME:EDT
DTSTART:20230312T070000
END:DAYLIGHT
BEGIN:STANDARD
TZOFFSETFROM:-0400
TZOFFSETTO:-0500
TZNAME:EST
DTSTART:20231105T060000
END:STANDARD
END:VTIMEZONE
BEGIN:VEVENT
DTSTART;TZID=America/New_York:20220929T180000
DTEND;TZID=America/New_York:20220929T180000
DTSTAMP:20260424T135453
CREATED:20220113T194209Z
LAST-MODIFIED:20220113T194209Z
UID:10000065-1664474400-1664474400@chenangogrange.org
SUMMARY:CVARA Advanced Tech Night
DESCRIPTION:
URL:https://chenangogrange.org/event/cvara-advanced-tech-night-11/
LOCATION:Chenango County Grange Hall\, 167 CR-32A\, Norwich\, NY\, 13815\, United States
CATEGORIES:Building Use
ORGANIZER;CN="Chenango Valley Amateur Radio Association":MAILTO:kd2hkb@yahoo.com
END:VEVENT
BEGIN:VEVENT
DTSTART;TZID=America/New_York:20220922T180000
DTEND;TZID=America/New_York:20220922T180000
DTSTAMP:20260424T135453
CREATED:20220113T194310Z
LAST-MODIFIED:20220113T194310Z
UID:10000087-1663869600-1663869600@chenangogrange.org
SUMMARY:CVARA Exam Session
DESCRIPTION:
URL:https://chenangogrange.org/event/cvara-exam-session-9/
LOCATION:Chenango County Grange Hall\, 167 CR-32A\, Norwich\, NY\, 13815\, United States
CATEGORIES:Building Use
ORGANIZER;CN="Chenango Valley Amateur Radio Association":MAILTO:kd2hkb@yahoo.com
END:VEVENT
BEGIN:VEVENT
DTSTART;TZID=America/New_York:20220915T180000
DTEND;TZID=America/New_York:20220915T180000
DTSTAMP:20260424T135453
CREATED:20220113T194240Z
LAST-MODIFIED:20220113T194240Z
UID:10000076-1663264800-1663264800@chenangogrange.org
SUMMARY:CVARA Tech Night
DESCRIPTION:
URL:https://chenangogrange.org/event/cvara-tech-night-11/
LOCATION:Chenango County Grange Hall\, 167 CR-32A\, Norwich\, NY\, 13815\, United States
CATEGORIES:Building Use
ORGANIZER;CN="Chenango Valley Amateur Radio Association":MAILTO:kd2hkb@yahoo.com
END:VEVENT
BEGIN:VEVENT
DTSTART;TZID=America/New_York:20220908T180000
DTEND;TZID=America/New_York:20220908T210000
DTSTAMP:20260424T135453
CREATED:20220113T194209Z
LAST-MODIFIED:20220113T194209Z
UID:10000064-1662660000-1662670800@chenangogrange.org
SUMMARY:CVARA Advanced Tech Night
DESCRIPTION:
URL:https://chenangogrange.org/event/cvara-advanced-tech-night-10/
LOCATION:Chenango County Grange Hall\, 167 CR-32A\, Norwich\, NY\, 13815\, United States
CATEGORIES:Building Use
ORGANIZER;CN="Chenango Valley Amateur Radio Association":MAILTO:kd2hkb@yahoo.com
END:VEVENT
BEGIN:VEVENT
DTSTART;TZID=America/New_York:20220901T180000
DTEND;TZID=America/New_York:20220901T210000
DTSTAMP:20260424T135453
CREATED:20220113T194124Z
LAST-MODIFIED:20220113T194124Z
UID:10000039-1662055200-1662066000@chenangogrange.org
SUMMARY:CVARA Meeting
DESCRIPTION:
URL:https://chenangogrange.org/event/cvara-meeting-10/
LOCATION:Chenango County Grange Hall\, 167 CR-32A\, Norwich\, NY\, 13815\, United States
CATEGORIES:Building Use
ORGANIZER;CN="Chenango Valley Amateur Radio Association":MAILTO:kd2hkb@yahoo.com
END:VEVENT
BEGIN:VEVENT
DTSTART;TZID=America/New_York:20220825T180000
DTEND;TZID=America/New_York:20220825T180000
DTSTAMP:20260424T135453
CREATED:20220113T194309Z
LAST-MODIFIED:20220113T194309Z
UID:10000086-1661450400-1661450400@chenangogrange.org
SUMMARY:CVARA Exam Session
DESCRIPTION:
URL:https://chenangogrange.org/event/cvara-exam-session-8/
LOCATION:Chenango County Grange Hall\, 167 CR-32A\, Norwich\, NY\, 13815\, United States
CATEGORIES:Building Use
ORGANIZER;CN="Chenango Valley Amateur Radio Association":MAILTO:kd2hkb@yahoo.com
END:VEVENT
BEGIN:VEVENT
DTSTART;TZID=America/New_York:20220818T180000
DTEND;TZID=America/New_York:20220818T180000
DTSTAMP:20260424T135453
CREATED:20220113T194239Z
LAST-MODIFIED:20220113T194239Z
UID:10000075-1660845600-1660845600@chenangogrange.org
SUMMARY:CVARA Tech Night
DESCRIPTION:
URL:https://chenangogrange.org/event/cvara-tech-night-10/
LOCATION:Chenango County Grange Hall\, 167 CR-32A\, Norwich\, NY\, 13815\, United States
CATEGORIES:Building Use
ORGANIZER;CN="Chenango Valley Amateur Radio Association":MAILTO:kd2hkb@yahoo.com
END:VEVENT
BEGIN:VEVENT
DTSTART;TZID=America/New_York:20220811T180000
DTEND;TZID=America/New_York:20220811T210000
DTSTAMP:20260424T135453
CREATED:20220113T194155Z
LAST-MODIFIED:20220113T194155Z
UID:10000063-1660240800-1660251600@chenangogrange.org
SUMMARY:CVARA Advanced Tech Night
DESCRIPTION:
URL:https://chenangogrange.org/event/cvara-advanced-tech-night-9/
LOCATION:Chenango County Grange Hall\, 167 CR-32A\, Norwich\, NY\, 13815\, United States
CATEGORIES:Building Use
ORGANIZER;CN="Chenango Valley Amateur Radio Association":MAILTO:kd2hkb@yahoo.com
END:VEVENT
BEGIN:VEVENT
DTSTART;TZID=America/New_York:20220804T180000
DTEND;TZID=America/New_York:20220804T210000
DTSTAMP:20260424T135453
CREATED:20220113T194124Z
LAST-MODIFIED:20220113T194124Z
UID:10000038-1659636000-1659646800@chenangogrange.org
SUMMARY:CVARA Meeting
DESCRIPTION:
URL:https://chenangogrange.org/event/cvara-meeting-9/
LOCATION:Chenango County Grange Hall\, 167 CR-32A\, Norwich\, NY\, 13815\, United States
CATEGORIES:Building Use
ORGANIZER;CN="Chenango Valley Amateur Radio Association":MAILTO:kd2hkb@yahoo.com
END:VEVENT
BEGIN:VEVENT
DTSTART;TZID=America/New_York:20220728T180000
DTEND;TZID=America/New_York:20220728T180000
DTSTAMP:20260424T135453
CREATED:20220113T194309Z
LAST-MODIFIED:20220113T194309Z
UID:10000085-1659031200-1659031200@chenangogrange.org
SUMMARY:CVARA Exam Session
DESCRIPTION:
URL:https://chenangogrange.org/event/cvara-exam-session-7/
LOCATION:Chenango County Grange Hall\, 167 CR-32A\, Norwich\, NY\, 13815\, United States
CATEGORIES:Building Use
ORGANIZER;CN="Chenango Valley Amateur Radio Association":MAILTO:kd2hkb@yahoo.com
END:VEVENT
BEGIN:VEVENT
DTSTART;TZID=America/New_York:20220721T180000
DTEND;TZID=America/New_York:20220721T180000
DTSTAMP:20260424T135453
CREATED:20220113T194239Z
LAST-MODIFIED:20220113T194239Z
UID:10000074-1658426400-1658426400@chenangogrange.org
SUMMARY:CVARA Tech Night
DESCRIPTION:
URL:https://chenangogrange.org/event/cvara-tech-night-9/
LOCATION:Chenango County Grange Hall\, 167 CR-32A\, Norwich\, NY\, 13815\, United States
CATEGORIES:Building Use
ORGANIZER;CN="Chenango Valley Amateur Radio Association":MAILTO:kd2hkb@yahoo.com
END:VEVENT
BEGIN:VEVENT
DTSTART;TZID=America/New_York:20220714T180000
DTEND;TZID=America/New_York:20220714T210000
DTSTAMP:20260424T135453
CREATED:20220113T194155Z
LAST-MODIFIED:20220113T194155Z
UID:10000062-1657821600-1657832400@chenangogrange.org
SUMMARY:CVARA Advanced Tech Night
DESCRIPTION:
URL:https://chenangogrange.org/event/cvara-advanced-tech-night-8/
LOCATION:Chenango County Grange Hall\, 167 CR-32A\, Norwich\, NY\, 13815\, United States
CATEGORIES:Building Use
ORGANIZER;CN="Chenango Valley Amateur Radio Association":MAILTO:kd2hkb@yahoo.com
END:VEVENT
BEGIN:VEVENT
DTSTART;TZID=America/New_York:20220707T180000
DTEND;TZID=America/New_York:20220707T210000
DTSTAMP:20260424T135453
CREATED:20220113T194124Z
LAST-MODIFIED:20220113T194124Z
UID:10000037-1657216800-1657227600@chenangogrange.org
SUMMARY:CVARA Meeting
DESCRIPTION:
URL:https://chenangogrange.org/event/cvara-meeting-8/
LOCATION:Chenango County Grange Hall\, 167 CR-32A\, Norwich\, NY\, 13815\, United States
CATEGORIES:Building Use
ORGANIZER;CN="Chenango Valley Amateur Radio Association":MAILTO:kd2hkb@yahoo.com
END:VEVENT
BEGIN:VEVENT
DTSTART;TZID=America/New_York:20220630T180000
DTEND;TZID=America/New_York:20220630T180000
DTSTAMP:20260424T135453
CREATED:20220113T194154Z
LAST-MODIFIED:20220113T194154Z
UID:10000061-1656612000-1656612000@chenangogrange.org
SUMMARY:CVARA Advanced Tech Night
DESCRIPTION:
URL:https://chenangogrange.org/event/cvara-advanced-tech-night-7/
LOCATION:Chenango County Grange Hall\, 167 CR-32A\, Norwich\, NY\, 13815\, United States
CATEGORIES:Building Use
ORGANIZER;CN="Chenango Valley Amateur Radio Association":MAILTO:kd2hkb@yahoo.com
END:VEVENT
BEGIN:VEVENT
DTSTART;TZID=America/New_York:20220623T180000
DTEND;TZID=America/New_York:20220623T180000
DTSTAMP:20260424T135453
CREATED:20220113T194309Z
LAST-MODIFIED:20220113T194309Z
UID:10000084-1656007200-1656007200@chenangogrange.org
SUMMARY:CVARA Exam Session
DESCRIPTION:
URL:https://chenangogrange.org/event/cvara-exam-session-6/
LOCATION:Chenango County Grange Hall\, 167 CR-32A\, Norwich\, NY\, 13815\, United States
CATEGORIES:Building Use
ORGANIZER;CN="Chenango Valley Amateur Radio Association":MAILTO:kd2hkb@yahoo.com
END:VEVENT
BEGIN:VEVENT
DTSTART;TZID=America/New_York:20220616T180000
DTEND;TZID=America/New_York:20220616T180000
DTSTAMP:20260424T135453
CREATED:20220113T194225Z
LAST-MODIFIED:20220113T194225Z
UID:10000073-1655402400-1655402400@chenangogrange.org
SUMMARY:CVARA Tech Night
DESCRIPTION:
URL:https://chenangogrange.org/event/cvara-tech-night-8/
LOCATION:Chenango County Grange Hall\, 167 CR-32A\, Norwich\, NY\, 13815\, United States
CATEGORIES:Building Use
ORGANIZER;CN="Chenango Valley Amateur Radio Association":MAILTO:kd2hkb@yahoo.com
END:VEVENT
BEGIN:VEVENT
DTSTART;TZID=America/New_York:20220609T180000
DTEND;TZID=America/New_York:20220609T210000
DTSTAMP:20260424T135453
CREATED:20220113T194154Z
LAST-MODIFIED:20220113T194154Z
UID:10000060-1654797600-1654808400@chenangogrange.org
SUMMARY:CVARA Advanced Tech Night
DESCRIPTION:
URL:https://chenangogrange.org/event/cvara-advanced-tech-night-6/
LOCATION:Chenango County Grange Hall\, 167 CR-32A\, Norwich\, NY\, 13815\, United States
CATEGORIES:Building Use
ORGANIZER;CN="Chenango Valley Amateur Radio Association":MAILTO:kd2hkb@yahoo.com
END:VEVENT
BEGIN:VEVENT
DTSTART;TZID=America/New_York:20220602T180000
DTEND;TZID=America/New_York:20220602T210000
DTSTAMP:20260424T135453
CREATED:20220113T194123Z
LAST-MODIFIED:20220113T194123Z
UID:10000036-1654192800-1654203600@chenangogrange.org
SUMMARY:CVARA Meeting
DESCRIPTION:
URL:https://chenangogrange.org/event/cvara-meeting-7/
LOCATION:Chenango County Grange Hall\, 167 CR-32A\, Norwich\, NY\, 13815\, United States
CATEGORIES:Building Use
ORGANIZER;CN="Chenango Valley Amateur Radio Association":MAILTO:kd2hkb@yahoo.com
END:VEVENT
BEGIN:VEVENT
DTSTART;TZID=America/New_York:20220526T180000
DTEND;TZID=America/New_York:20220526T180000
DTSTAMP:20260424T135453
CREATED:20220113T194255Z
LAST-MODIFIED:20220113T194255Z
UID:10000083-1653588000-1653588000@chenangogrange.org
SUMMARY:CVARA Exam Session
DESCRIPTION:
URL:https://chenangogrange.org/event/cvara-exam-session-5/
LOCATION:Chenango County Grange Hall\, 167 CR-32A\, Norwich\, NY\, 13815\, United States
CATEGORIES:Building Use
ORGANIZER;CN="Chenango Valley Amateur Radio Association":MAILTO:kd2hkb@yahoo.com
END:VEVENT
BEGIN:VEVENT
DTSTART;TZID=America/New_York:20220519T180000
DTEND;TZID=America/New_York:20220519T180000
DTSTAMP:20260424T135453
CREATED:20220113T194225Z
LAST-MODIFIED:20220113T194225Z
UID:10000072-1652983200-1652983200@chenangogrange.org
SUMMARY:CVARA Tech Night
DESCRIPTION:
URL:https://chenangogrange.org/event/cvara-tech-night-7/
LOCATION:Chenango County Grange Hall\, 167 CR-32A\, Norwich\, NY\, 13815\, United States
CATEGORIES:Building Use
ORGANIZER;CN="Chenango Valley Amateur Radio Association":MAILTO:kd2hkb@yahoo.com
END:VEVENT
BEGIN:VEVENT
DTSTART;TZID=America/New_York:20220512T180000
DTEND;TZID=America/New_York:20220512T210000
DTSTAMP:20260424T135453
CREATED:20220113T194154Z
LAST-MODIFIED:20220113T194154Z
UID:10000059-1652378400-1652389200@chenangogrange.org
SUMMARY:CVARA Advanced Tech Night
DESCRIPTION:
URL:https://chenangogrange.org/event/cvara-advanced-tech-night-5/
LOCATION:Chenango County Grange Hall\, 167 CR-32A\, Norwich\, NY\, 13815\, United States
CATEGORIES:Building Use
ORGANIZER;CN="Chenango Valley Amateur Radio Association":MAILTO:kd2hkb@yahoo.com
END:VEVENT
BEGIN:VEVENT
DTSTART;TZID=America/New_York:20220505T180000
DTEND;TZID=America/New_York:20220505T210000
DTSTAMP:20260424T135453
CREATED:20220113T194123Z
LAST-MODIFIED:20220113T194123Z
UID:10000035-1651773600-1651784400@chenangogrange.org
SUMMARY:CVARA Meeting
DESCRIPTION:
URL:https://chenangogrange.org/event/cvara-meeting-6/
LOCATION:Chenango County Grange Hall\, 167 CR-32A\, Norwich\, NY\, 13815\, United States
CATEGORIES:Building Use
ORGANIZER;CN="Chenango Valley Amateur Radio Association":MAILTO:kd2hkb@yahoo.com
END:VEVENT
BEGIN:VEVENT
DTSTART;TZID=America/New_York:20220428T180000
DTEND;TZID=America/New_York:20220428T180000
DTSTAMP:20260424T135453
CREATED:20220113T194255Z
LAST-MODIFIED:20220113T194255Z
UID:10000082-1651168800-1651168800@chenangogrange.org
SUMMARY:CVARA Exam Session
DESCRIPTION:
URL:https://chenangogrange.org/event/cvara-exam-session-4/
LOCATION:Chenango County Grange Hall\, 167 CR-32A\, Norwich\, NY\, 13815\, United States
CATEGORIES:Building Use
ORGANIZER;CN="Chenango Valley Amateur Radio Association":MAILTO:kd2hkb@yahoo.com
END:VEVENT
BEGIN:VEVENT
DTSTART;TZID=America/New_York:20220421T180000
DTEND;TZID=America/New_York:20220421T180000
DTSTAMP:20260424T135453
CREATED:20220113T194225Z
LAST-MODIFIED:20220113T194225Z
UID:10000071-1650564000-1650564000@chenangogrange.org
SUMMARY:CVARA Tech Night
DESCRIPTION:
URL:https://chenangogrange.org/event/cvara-tech-night-6/
LOCATION:Chenango County Grange Hall\, 167 CR-32A\, Norwich\, NY\, 13815\, United States
CATEGORIES:Building Use
ORGANIZER;CN="Chenango Valley Amateur Radio Association":MAILTO:kd2hkb@yahoo.com
END:VEVENT
BEGIN:VEVENT
DTSTART;TZID=America/New_York:20220414T180000
DTEND;TZID=America/New_York:20220414T210000
DTSTAMP:20260424T135453
CREATED:20220113T194140Z
LAST-MODIFIED:20220113T194140Z
UID:10000058-1649959200-1649970000@chenangogrange.org
SUMMARY:CVARA Advanced Tech Night
DESCRIPTION:
URL:https://chenangogrange.org/event/cvara-advanced-tech-night-4/
LOCATION:Chenango County Grange Hall\, 167 CR-32A\, Norwich\, NY\, 13815\, United States
CATEGORIES:Building Use
ORGANIZER;CN="Chenango Valley Amateur Radio Association":MAILTO:kd2hkb@yahoo.com
END:VEVENT
BEGIN:VEVENT
DTSTART;TZID=America/New_York:20220407T180000
DTEND;TZID=America/New_York:20220407T210000
DTSTAMP:20260424T135453
CREATED:20220113T194123Z
LAST-MODIFIED:20220113T194123Z
UID:10000034-1649354400-1649365200@chenangogrange.org
SUMMARY:CVARA Meeting
DESCRIPTION:
URL:https://chenangogrange.org/event/cvara-meeting-5/
LOCATION:Chenango County Grange Hall\, 167 CR-32A\, Norwich\, NY\, 13815\, United States
CATEGORIES:Building Use
ORGANIZER;CN="Chenango Valley Amateur Radio Association":MAILTO:kd2hkb@yahoo.com
END:VEVENT
BEGIN:VEVENT
DTSTART;TZID=America/New_York:20220331T180000
DTEND;TZID=America/New_York:20220331T180000
DTSTAMP:20260424T135453
CREATED:20220113T194140Z
LAST-MODIFIED:20220113T194140Z
UID:10000057-1648749600-1648749600@chenangogrange.org
SUMMARY:CVARA Advanced Tech Night
DESCRIPTION:
URL:https://chenangogrange.org/event/cvara-advanced-tech-night-3/
LOCATION:Chenango County Grange Hall\, 167 CR-32A\, Norwich\, NY\, 13815\, United States
CATEGORIES:Building Use
ORGANIZER;CN="Chenango Valley Amateur Radio Association":MAILTO:kd2hkb@yahoo.com
END:VEVENT
BEGIN:VEVENT
DTSTART;TZID=America/New_York:20220324T180000
DTEND;TZID=America/New_York:20220324T180000
DTSTAMP:20260424T135453
CREATED:20220113T194255Z
LAST-MODIFIED:20220113T194255Z
UID:10000081-1648144800-1648144800@chenangogrange.org
SUMMARY:CVARA Exam Session
DESCRIPTION:
URL:https://chenangogrange.org/event/cvara-exam-session-3/
LOCATION:Chenango County Grange Hall\, 167 CR-32A\, Norwich\, NY\, 13815\, United States
CATEGORIES:Building Use
ORGANIZER;CN="Chenango Valley Amateur Radio Association":MAILTO:kd2hkb@yahoo.com
END:VEVENT
BEGIN:VEVENT
DTSTART;TZID=America/New_York:20220317T180000
DTEND;TZID=America/New_York:20220317T180000
DTSTAMP:20260424T135453
CREATED:20220113T194224Z
LAST-MODIFIED:20220113T194224Z
UID:10000070-1647540000-1647540000@chenangogrange.org
SUMMARY:CVARA Tech Night
DESCRIPTION:
URL:https://chenangogrange.org/event/cvara-tech-night-5/
LOCATION:Chenango County Grange Hall\, 167 CR-32A\, Norwich\, NY\, 13815\, United States
CATEGORIES:Building Use
ORGANIZER;CN="Chenango Valley Amateur Radio Association":MAILTO:kd2hkb@yahoo.com
END:VEVENT
BEGIN:VEVENT
DTSTART;TZID=America/New_York:20220310T180000
DTEND;TZID=America/New_York:20220310T210000
DTSTAMP:20260424T135453
CREATED:20220113T194140Z
LAST-MODIFIED:20220113T194140Z
UID:10000056-1646935200-1646946000@chenangogrange.org
SUMMARY:CVARA Advanced Tech Night
DESCRIPTION:
URL:https://chenangogrange.org/event/cvara-advanced-tech-night-2/
LOCATION:Chenango County Grange Hall\, 167 CR-32A\, Norwich\, NY\, 13815\, United States
CATEGORIES:Building Use
ORGANIZER;CN="Chenango Valley Amateur Radio Association":MAILTO:kd2hkb@yahoo.com
END:VEVENT
END:VCALENDAR