BEGIN:VCALENDAR
VERSION:2.0
PRODID:-//Chenango County Grange #29 - ECPv6.15.17.1//NONSGML v1.0//EN
CALSCALE:GREGORIAN
METHOD:PUBLISH
X-ORIGINAL-URL:https://chenangogrange.org
X-WR-CALDESC:Events for Chenango County Grange #29
REFRESH-INTERVAL;VALUE=DURATION:PT1H
X-Robots-Tag:noindex
X-PUBLISHED-TTL:PT1H
BEGIN:VTIMEZONE
TZID:America/New_York
BEGIN:DAYLIGHT
TZOFFSETFROM:-0500
TZOFFSETTO:-0400
TZNAME:EDT
DTSTART:20240310T070000
END:DAYLIGHT
BEGIN:STANDARD
TZOFFSETFROM:-0400
TZOFFSETTO:-0500
TZNAME:EST
DTSTART:20241103T060000
END:STANDARD
BEGIN:DAYLIGHT
TZOFFSETFROM:-0500
TZOFFSETTO:-0400
TZNAME:EDT
DTSTART:20250309T070000
END:DAYLIGHT
BEGIN:STANDARD
TZOFFSETFROM:-0400
TZOFFSETTO:-0500
TZNAME:EST
DTSTART:20251102T060000
END:STANDARD
BEGIN:DAYLIGHT
TZOFFSETFROM:-0500
TZOFFSETTO:-0400
TZNAME:EDT
DTSTART:20260308T070000
END:DAYLIGHT
BEGIN:STANDARD
TZOFFSETFROM:-0400
TZOFFSETTO:-0500
TZNAME:EST
DTSTART:20261101T060000
END:STANDARD
END:VTIMEZONE
BEGIN:VEVENT
DTSTART;TZID=America/New_York:20250904T190000
DTEND;TZID=America/New_York:20250904T203000
DTSTAMP:20260420T073210
CREATED:20231227T194851Z
LAST-MODIFIED:20231227T194851Z
UID:10000966-1757012400-1757017800@chenangogrange.org
SUMMARY:CVARA Business Meeting
DESCRIPTION:Meeting of the Chenango Valley Amateur Radio Association. Public Welcome.
URL:https://chenangogrange.org/event/cvara-business-meeting/2025-09-04/
CATEGORIES:Building Use
ORGANIZER;CN="Chenango Valley Amateur Radio Association":MAILTO:kd2hkb@yahoo.com
END:VEVENT
BEGIN:VEVENT
DTSTART;TZID=America/New_York:20250828T180000
DTEND;TZID=America/New_York:20250828T210000
DTSTAMP:20260420T073210
CREATED:20231112T205346Z
LAST-MODIFIED:20231229T011102Z
UID:10000805-1756404000-1756414800@chenangogrange.org
SUMMARY:CVARA Tech Night & Exam Session
DESCRIPTION:
URL:https://chenangogrange.org/event/cvara-tech-night-exam-session-2/2025-08-28/
LOCATION:Chenango County Grange Hall\, 167 CR-32A\, Norwich\, NY\, 13815\, United States
CATEGORIES:Building Use,Rental
ORGANIZER;CN="Chenango Valley Amateur Radio Association":MAILTO:kd2hkb@yahoo.com
END:VEVENT
BEGIN:VEVENT
DTSTART;TZID=America/New_York:20250821T180000
DTEND;TZID=America/New_York:20250821T210000
DTSTAMP:20260420T073210
CREATED:20230227T164649Z
LAST-MODIFIED:20230227T164649Z
UID:10000685-1755799200-1755810000@chenangogrange.org
SUMMARY:CVARA Tech Night
DESCRIPTION:
URL:https://chenangogrange.org/event/cvara-tech-night-15/2025-08-21/
LOCATION:Chenango County Grange Hall\, 167 CR-32A\, Norwich\, NY\, 13815\, United States
CATEGORIES:Building Use
ORGANIZER;CN="Chenango Valley Amateur Radio Association":MAILTO:kd2hkb@yahoo.com
END:VEVENT
BEGIN:VEVENT
DTSTART;TZID=America/New_York:20250814T180000
DTEND;TZID=America/New_York:20250814T210000
DTSTAMP:20260420T073210
CREATED:20230227T155534Z
LAST-MODIFIED:20230227T164938Z
UID:10000563-1755194400-1755205200@chenangogrange.org
SUMMARY:CVARA Advanced Tech Night
DESCRIPTION:
URL:https://chenangogrange.org/event/cvara-advanced-tech-night-15/2025-08-14/
LOCATION:Chenango County Grange Hall\, 167 CR-32A\, Norwich\, NY\, 13815\, United States
CATEGORIES:Building Use
ORGANIZER;CN="Chenango Valley Amateur Radio Association":MAILTO:kd2hkb@yahoo.com
END:VEVENT
BEGIN:VEVENT
DTSTART;TZID=America/New_York:20250807T190000
DTEND;TZID=America/New_York:20250807T203000
DTSTAMP:20260420T073210
CREATED:20231227T194851Z
LAST-MODIFIED:20231227T194851Z
UID:10000965-1754593200-1754598600@chenangogrange.org
SUMMARY:CVARA Business Meeting
DESCRIPTION:Meeting of the Chenango Valley Amateur Radio Association. Public Welcome.
URL:https://chenangogrange.org/event/cvara-business-meeting/2025-08-07/
CATEGORIES:Building Use
ORGANIZER;CN="Chenango Valley Amateur Radio Association":MAILTO:kd2hkb@yahoo.com
END:VEVENT
BEGIN:VEVENT
DTSTART;TZID=America/New_York:20250724T180000
DTEND;TZID=America/New_York:20250724T210000
DTSTAMP:20260420T073210
CREATED:20231112T205346Z
LAST-MODIFIED:20231229T011102Z
UID:10000804-1753380000-1753390800@chenangogrange.org
SUMMARY:CVARA Tech Night & Exam Session
DESCRIPTION:
URL:https://chenangogrange.org/event/cvara-tech-night-exam-session-2/2025-07-24/
LOCATION:Chenango County Grange Hall\, 167 CR-32A\, Norwich\, NY\, 13815\, United States
CATEGORIES:Building Use,Rental
ORGANIZER;CN="Chenango Valley Amateur Radio Association":MAILTO:kd2hkb@yahoo.com
END:VEVENT
BEGIN:VEVENT
DTSTART;TZID=America/New_York:20250717T180000
DTEND;TZID=America/New_York:20250717T210000
DTSTAMP:20260420T073210
CREATED:20230227T164649Z
LAST-MODIFIED:20230227T164649Z
UID:10000684-1752775200-1752786000@chenangogrange.org
SUMMARY:CVARA Tech Night
DESCRIPTION:
URL:https://chenangogrange.org/event/cvara-tech-night-15/2025-07-17/
LOCATION:Chenango County Grange Hall\, 167 CR-32A\, Norwich\, NY\, 13815\, United States
CATEGORIES:Building Use
ORGANIZER;CN="Chenango Valley Amateur Radio Association":MAILTO:kd2hkb@yahoo.com
END:VEVENT
BEGIN:VEVENT
DTSTART;TZID=America/New_York:20250710T180000
DTEND;TZID=America/New_York:20250710T210000
DTSTAMP:20260420T073210
CREATED:20230227T155534Z
LAST-MODIFIED:20230227T164938Z
UID:10000562-1752170400-1752181200@chenangogrange.org
SUMMARY:CVARA Advanced Tech Night
DESCRIPTION:
URL:https://chenangogrange.org/event/cvara-advanced-tech-night-15/2025-07-10/
LOCATION:Chenango County Grange Hall\, 167 CR-32A\, Norwich\, NY\, 13815\, United States
CATEGORIES:Building Use
ORGANIZER;CN="Chenango Valley Amateur Radio Association":MAILTO:kd2hkb@yahoo.com
END:VEVENT
BEGIN:VEVENT
DTSTART;TZID=America/New_York:20250703T190000
DTEND;TZID=America/New_York:20250703T203000
DTSTAMP:20260420T073210
CREATED:20231227T194851Z
LAST-MODIFIED:20231227T194851Z
UID:10000964-1751569200-1751574600@chenangogrange.org
SUMMARY:CVARA Business Meeting
DESCRIPTION:Meeting of the Chenango Valley Amateur Radio Association. Public Welcome.
URL:https://chenangogrange.org/event/cvara-business-meeting/2025-07-03/
CATEGORIES:Building Use
ORGANIZER;CN="Chenango Valley Amateur Radio Association":MAILTO:kd2hkb@yahoo.com
END:VEVENT
BEGIN:VEVENT
DTSTART;TZID=America/New_York:20250626T180000
DTEND;TZID=America/New_York:20250626T210000
DTSTAMP:20260420T073210
CREATED:20231112T205346Z
LAST-MODIFIED:20231229T011102Z
UID:10000803-1750960800-1750971600@chenangogrange.org
SUMMARY:CVARA Tech Night & Exam Session
DESCRIPTION:
URL:https://chenangogrange.org/event/cvara-tech-night-exam-session-2/2025-06-26/
LOCATION:Chenango County Grange Hall\, 167 CR-32A\, Norwich\, NY\, 13815\, United States
CATEGORIES:Building Use,Rental
ORGANIZER;CN="Chenango Valley Amateur Radio Association":MAILTO:kd2hkb@yahoo.com
END:VEVENT
BEGIN:VEVENT
DTSTART;TZID=America/New_York:20250619T180000
DTEND;TZID=America/New_York:20250619T210000
DTSTAMP:20260420T073210
CREATED:20230227T164649Z
LAST-MODIFIED:20230227T164649Z
UID:10000683-1750356000-1750366800@chenangogrange.org
SUMMARY:CVARA Tech Night
DESCRIPTION:
URL:https://chenangogrange.org/event/cvara-tech-night-15/2025-06-19/
LOCATION:Chenango County Grange Hall\, 167 CR-32A\, Norwich\, NY\, 13815\, United States
CATEGORIES:Building Use
ORGANIZER;CN="Chenango Valley Amateur Radio Association":MAILTO:kd2hkb@yahoo.com
END:VEVENT
BEGIN:VEVENT
DTSTART;TZID=America/New_York:20250612T180000
DTEND;TZID=America/New_York:20250612T210000
DTSTAMP:20260420T073210
CREATED:20230227T155534Z
LAST-MODIFIED:20230227T164938Z
UID:10000561-1749751200-1749762000@chenangogrange.org
SUMMARY:CVARA Advanced Tech Night
DESCRIPTION:
URL:https://chenangogrange.org/event/cvara-advanced-tech-night-15/2025-06-12/
LOCATION:Chenango County Grange Hall\, 167 CR-32A\, Norwich\, NY\, 13815\, United States
CATEGORIES:Building Use
ORGANIZER;CN="Chenango Valley Amateur Radio Association":MAILTO:kd2hkb@yahoo.com
END:VEVENT
BEGIN:VEVENT
DTSTART;TZID=America/New_York:20250605T190000
DTEND;TZID=America/New_York:20250605T203000
DTSTAMP:20260420T073210
CREATED:20231227T194851Z
LAST-MODIFIED:20231227T194851Z
UID:10000963-1749150000-1749155400@chenangogrange.org
SUMMARY:CVARA Business Meeting
DESCRIPTION:Meeting of the Chenango Valley Amateur Radio Association. Public Welcome.
URL:https://chenangogrange.org/event/cvara-business-meeting/2025-06-05/
CATEGORIES:Building Use
ORGANIZER;CN="Chenango Valley Amateur Radio Association":MAILTO:kd2hkb@yahoo.com
END:VEVENT
BEGIN:VEVENT
DTSTART;TZID=America/New_York:20250522T180000
DTEND;TZID=America/New_York:20250522T210000
DTSTAMP:20260420T073210
CREATED:20231112T205346Z
LAST-MODIFIED:20231229T011102Z
UID:10000802-1747936800-1747947600@chenangogrange.org
SUMMARY:CVARA Tech Night & Exam Session
DESCRIPTION:
URL:https://chenangogrange.org/event/cvara-tech-night-exam-session-2/2025-05-22/
LOCATION:Chenango County Grange Hall\, 167 CR-32A\, Norwich\, NY\, 13815\, United States
CATEGORIES:Building Use,Rental
ORGANIZER;CN="Chenango Valley Amateur Radio Association":MAILTO:kd2hkb@yahoo.com
END:VEVENT
BEGIN:VEVENT
DTSTART;TZID=America/New_York:20250515T180000
DTEND;TZID=America/New_York:20250515T210000
DTSTAMP:20260420T073210
CREATED:20230227T164649Z
LAST-MODIFIED:20230227T164649Z
UID:10000682-1747332000-1747342800@chenangogrange.org
SUMMARY:CVARA Tech Night
DESCRIPTION:
URL:https://chenangogrange.org/event/cvara-tech-night-15/2025-05-15/
LOCATION:Chenango County Grange Hall\, 167 CR-32A\, Norwich\, NY\, 13815\, United States
CATEGORIES:Building Use
ORGANIZER;CN="Chenango Valley Amateur Radio Association":MAILTO:kd2hkb@yahoo.com
END:VEVENT
BEGIN:VEVENT
DTSTART;TZID=America/New_York:20250508T180000
DTEND;TZID=America/New_York:20250508T210000
DTSTAMP:20260420T073210
CREATED:20230227T155534Z
LAST-MODIFIED:20230227T164938Z
UID:10000560-1746727200-1746738000@chenangogrange.org
SUMMARY:CVARA Advanced Tech Night
DESCRIPTION:
URL:https://chenangogrange.org/event/cvara-advanced-tech-night-15/2025-05-08/
LOCATION:Chenango County Grange Hall\, 167 CR-32A\, Norwich\, NY\, 13815\, United States
CATEGORIES:Building Use
ORGANIZER;CN="Chenango Valley Amateur Radio Association":MAILTO:kd2hkb@yahoo.com
END:VEVENT
BEGIN:VEVENT
DTSTART;TZID=America/New_York:20250501T190000
DTEND;TZID=America/New_York:20250501T203000
DTSTAMP:20260420T073210
CREATED:20231227T194851Z
LAST-MODIFIED:20231227T194851Z
UID:10000962-1746126000-1746131400@chenangogrange.org
SUMMARY:CVARA Business Meeting
DESCRIPTION:Meeting of the Chenango Valley Amateur Radio Association. Public Welcome.
URL:https://chenangogrange.org/event/cvara-business-meeting/2025-05-01/
CATEGORIES:Building Use
ORGANIZER;CN="Chenango Valley Amateur Radio Association":MAILTO:kd2hkb@yahoo.com
END:VEVENT
BEGIN:VEVENT
DTSTART;TZID=America/New_York:20250424T180000
DTEND;TZID=America/New_York:20250424T210000
DTSTAMP:20260420T073210
CREATED:20231112T205346Z
LAST-MODIFIED:20231229T011102Z
UID:10000801-1745517600-1745528400@chenangogrange.org
SUMMARY:CVARA Tech Night & Exam Session
DESCRIPTION:
URL:https://chenangogrange.org/event/cvara-tech-night-exam-session-2/2025-04-24/
LOCATION:Chenango County Grange Hall\, 167 CR-32A\, Norwich\, NY\, 13815\, United States
CATEGORIES:Building Use,Rental
ORGANIZER;CN="Chenango Valley Amateur Radio Association":MAILTO:kd2hkb@yahoo.com
END:VEVENT
BEGIN:VEVENT
DTSTART;TZID=America/New_York:20250417T180000
DTEND;TZID=America/New_York:20250417T210000
DTSTAMP:20260420T073210
CREATED:20230227T164649Z
LAST-MODIFIED:20230227T164649Z
UID:10000681-1744912800-1744923600@chenangogrange.org
SUMMARY:CVARA Tech Night
DESCRIPTION:
URL:https://chenangogrange.org/event/cvara-tech-night-15/2025-04-17/
LOCATION:Chenango County Grange Hall\, 167 CR-32A\, Norwich\, NY\, 13815\, United States
CATEGORIES:Building Use
ORGANIZER;CN="Chenango Valley Amateur Radio Association":MAILTO:kd2hkb@yahoo.com
END:VEVENT
BEGIN:VEVENT
DTSTART;TZID=America/New_York:20250410T180000
DTEND;TZID=America/New_York:20250410T210000
DTSTAMP:20260420T073210
CREATED:20230227T155534Z
LAST-MODIFIED:20230227T164938Z
UID:10000559-1744308000-1744318800@chenangogrange.org
SUMMARY:CVARA Advanced Tech Night
DESCRIPTION:
URL:https://chenangogrange.org/event/cvara-advanced-tech-night-15/2025-04-10/
LOCATION:Chenango County Grange Hall\, 167 CR-32A\, Norwich\, NY\, 13815\, United States
CATEGORIES:Building Use
ORGANIZER;CN="Chenango Valley Amateur Radio Association":MAILTO:kd2hkb@yahoo.com
END:VEVENT
BEGIN:VEVENT
DTSTART;TZID=America/New_York:20250403T190000
DTEND;TZID=America/New_York:20250403T203000
DTSTAMP:20260420T073210
CREATED:20231227T194851Z
LAST-MODIFIED:20231227T194851Z
UID:10000961-1743706800-1743712200@chenangogrange.org
SUMMARY:CVARA Business Meeting
DESCRIPTION:Meeting of the Chenango Valley Amateur Radio Association. Public Welcome.
URL:https://chenangogrange.org/event/cvara-business-meeting/2025-04-03/
CATEGORIES:Building Use
ORGANIZER;CN="Chenango Valley Amateur Radio Association":MAILTO:kd2hkb@yahoo.com
END:VEVENT
BEGIN:VEVENT
DTSTART;TZID=America/New_York:20250327T180000
DTEND;TZID=America/New_York:20250327T210000
DTSTAMP:20260420T073210
CREATED:20231112T205346Z
LAST-MODIFIED:20231229T011102Z
UID:10000800-1743098400-1743109200@chenangogrange.org
SUMMARY:CVARA Tech Night & Exam Session
DESCRIPTION:
URL:https://chenangogrange.org/event/cvara-tech-night-exam-session-2/2025-03-27/
LOCATION:Chenango County Grange Hall\, 167 CR-32A\, Norwich\, NY\, 13815\, United States
CATEGORIES:Building Use,Rental
ORGANIZER;CN="Chenango Valley Amateur Radio Association":MAILTO:kd2hkb@yahoo.com
END:VEVENT
BEGIN:VEVENT
DTSTART;TZID=America/New_York:20250320T180000
DTEND;TZID=America/New_York:20250320T210000
DTSTAMP:20260420T073210
CREATED:20230227T164649Z
LAST-MODIFIED:20230227T164649Z
UID:10000680-1742493600-1742504400@chenangogrange.org
SUMMARY:CVARA Tech Night
DESCRIPTION:
URL:https://chenangogrange.org/event/cvara-tech-night-15/2025-03-20/
LOCATION:Chenango County Grange Hall\, 167 CR-32A\, Norwich\, NY\, 13815\, United States
CATEGORIES:Building Use
ORGANIZER;CN="Chenango Valley Amateur Radio Association":MAILTO:kd2hkb@yahoo.com
END:VEVENT
BEGIN:VEVENT
DTSTART;TZID=America/New_York:20250313T180000
DTEND;TZID=America/New_York:20250313T210000
DTSTAMP:20260420T073210
CREATED:20230227T155534Z
LAST-MODIFIED:20230227T164938Z
UID:10000558-1741888800-1741899600@chenangogrange.org
SUMMARY:CVARA Advanced Tech Night
DESCRIPTION:
URL:https://chenangogrange.org/event/cvara-advanced-tech-night-15/2025-03-13/
LOCATION:Chenango County Grange Hall\, 167 CR-32A\, Norwich\, NY\, 13815\, United States
CATEGORIES:Building Use
ORGANIZER;CN="Chenango Valley Amateur Radio Association":MAILTO:kd2hkb@yahoo.com
END:VEVENT
BEGIN:VEVENT
DTSTART;TZID=America/New_York:20250306T190000
DTEND;TZID=America/New_York:20250306T203000
DTSTAMP:20260420T073210
CREATED:20231227T194851Z
LAST-MODIFIED:20231227T194851Z
UID:10000960-1741287600-1741293000@chenangogrange.org
SUMMARY:CVARA Business Meeting
DESCRIPTION:Meeting of the Chenango Valley Amateur Radio Association. Public Welcome.
URL:https://chenangogrange.org/event/cvara-business-meeting/2025-03-06/
CATEGORIES:Building Use
ORGANIZER;CN="Chenango Valley Amateur Radio Association":MAILTO:kd2hkb@yahoo.com
END:VEVENT
BEGIN:VEVENT
DTSTART;TZID=America/New_York:20250227T180000
DTEND;TZID=America/New_York:20250227T210000
DTSTAMP:20260420T073210
CREATED:20231112T205346Z
LAST-MODIFIED:20231229T011102Z
UID:10000799-1740679200-1740690000@chenangogrange.org
SUMMARY:CVARA Tech Night & Exam Session
DESCRIPTION:
URL:https://chenangogrange.org/event/cvara-tech-night-exam-session-2/2025-02-27/
LOCATION:Chenango County Grange Hall\, 167 CR-32A\, Norwich\, NY\, 13815\, United States
CATEGORIES:Building Use,Rental
ORGANIZER;CN="Chenango Valley Amateur Radio Association":MAILTO:kd2hkb@yahoo.com
END:VEVENT
BEGIN:VEVENT
DTSTART;TZID=America/New_York:20250220T180000
DTEND;TZID=America/New_York:20250220T210000
DTSTAMP:20260420T073210
CREATED:20230227T164649Z
LAST-MODIFIED:20230227T164649Z
UID:10000679-1740074400-1740085200@chenangogrange.org
SUMMARY:CVARA Tech Night
DESCRIPTION:
URL:https://chenangogrange.org/event/cvara-tech-night-15/2025-02-20/
LOCATION:Chenango County Grange Hall\, 167 CR-32A\, Norwich\, NY\, 13815\, United States
CATEGORIES:Building Use
ORGANIZER;CN="Chenango Valley Amateur Radio Association":MAILTO:kd2hkb@yahoo.com
END:VEVENT
BEGIN:VEVENT
DTSTART;TZID=America/New_York:20250213T180000
DTEND;TZID=America/New_York:20250213T210000
DTSTAMP:20260420T073210
CREATED:20230227T155534Z
LAST-MODIFIED:20230227T164938Z
UID:10000557-1739469600-1739480400@chenangogrange.org
SUMMARY:CVARA Advanced Tech Night
DESCRIPTION:
URL:https://chenangogrange.org/event/cvara-advanced-tech-night-15/2025-02-13/
LOCATION:Chenango County Grange Hall\, 167 CR-32A\, Norwich\, NY\, 13815\, United States
CATEGORIES:Building Use
ORGANIZER;CN="Chenango Valley Amateur Radio Association":MAILTO:kd2hkb@yahoo.com
END:VEVENT
BEGIN:VEVENT
DTSTART;TZID=America/New_York:20250206T190000
DTEND;TZID=America/New_York:20250206T203000
DTSTAMP:20260420T073210
CREATED:20231227T194851Z
LAST-MODIFIED:20231227T194851Z
UID:10000959-1738868400-1738873800@chenangogrange.org
SUMMARY:CVARA Business Meeting
DESCRIPTION:Meeting of the Chenango Valley Amateur Radio Association. Public Welcome.
URL:https://chenangogrange.org/event/cvara-business-meeting/2025-02-06/
CATEGORIES:Building Use
ORGANIZER;CN="Chenango Valley Amateur Radio Association":MAILTO:kd2hkb@yahoo.com
END:VEVENT
BEGIN:VEVENT
DTSTART;TZID=America/New_York:20250123T180000
DTEND;TZID=America/New_York:20250123T210000
DTSTAMP:20260420T073210
CREATED:20231112T205346Z
LAST-MODIFIED:20231229T011102Z
UID:10000798-1737655200-1737666000@chenangogrange.org
SUMMARY:CVARA Tech Night & Exam Session
DESCRIPTION:
URL:https://chenangogrange.org/event/cvara-tech-night-exam-session-2/2025-01-23/
LOCATION:Chenango County Grange Hall\, 167 CR-32A\, Norwich\, NY\, 13815\, United States
CATEGORIES:Building Use,Rental
ORGANIZER;CN="Chenango Valley Amateur Radio Association":MAILTO:kd2hkb@yahoo.com
END:VEVENT
END:VCALENDAR