BEGIN:VCALENDAR
VERSION:2.0
PRODID:-//Chenango County Grange #29 - ECPv6.15.17.1//NONSGML v1.0//EN
CALSCALE:GREGORIAN
METHOD:PUBLISH
X-WR-CALNAME:Chenango County Grange #29
X-ORIGINAL-URL:https://chenangogrange.org
X-WR-CALDESC:Events for Chenango County Grange #29
REFRESH-INTERVAL;VALUE=DURATION:PT1H
X-Robots-Tag:noindex
X-PUBLISHED-TTL:PT1H
BEGIN:VTIMEZONE
TZID:America/New_York
BEGIN:DAYLIGHT
TZOFFSETFROM:-0500
TZOFFSETTO:-0400
TZNAME:EDT
DTSTART:20260308T070000
END:DAYLIGHT
BEGIN:STANDARD
TZOFFSETFROM:-0400
TZOFFSETTO:-0500
TZNAME:EST
DTSTART:20261101T060000
END:STANDARD
BEGIN:DAYLIGHT
TZOFFSETFROM:-0500
TZOFFSETTO:-0400
TZNAME:EDT
DTSTART:20270314T070000
END:DAYLIGHT
BEGIN:STANDARD
TZOFFSETFROM:-0400
TZOFFSETTO:-0500
TZNAME:EST
DTSTART:20271107T060000
END:STANDARD
BEGIN:DAYLIGHT
TZOFFSETFROM:-0500
TZOFFSETTO:-0400
TZNAME:EDT
DTSTART:20280312T070000
END:DAYLIGHT
BEGIN:STANDARD
TZOFFSETFROM:-0400
TZOFFSETTO:-0500
TZNAME:EST
DTSTART:20281105T060000
END:STANDARD
BEGIN:DAYLIGHT
TZOFFSETFROM:-0500
TZOFFSETTO:-0400
TZNAME:EDT
DTSTART:20290311T070000
END:DAYLIGHT
BEGIN:STANDARD
TZOFFSETFROM:-0400
TZOFFSETTO:-0500
TZNAME:EST
DTSTART:20291104T060000
END:STANDARD
END:VTIMEZONE
BEGIN:VEVENT
DTSTART;TZID=America/New_York:20271111T180000
DTEND;TZID=America/New_York:20271111T210000
DTSTAMP:20260420T125245
CREATED:20230227T155534Z
LAST-MODIFIED:20230227T164938Z
UID:10000590-1825956000-1825966800@chenangogrange.org
SUMMARY:CVARA Advanced Tech Night
DESCRIPTION:
URL:https://chenangogrange.org/event/cvara-advanced-tech-night-15/2027-11-11/
LOCATION:Chenango County Grange Hall\, 167 CR-32A\, Norwich\, NY\, 13815\, United States
CATEGORIES:Building Use
ORGANIZER;CN="Chenango Valley Amateur Radio Association":MAILTO:kd2hkb@yahoo.com
END:VEVENT
BEGIN:VEVENT
DTSTART;TZID=America/New_York:20271118T180000
DTEND;TZID=America/New_York:20271118T210000
DTSTAMP:20260420T125245
CREATED:20230227T164649Z
LAST-MODIFIED:20230227T164649Z
UID:10000712-1826560800-1826571600@chenangogrange.org
SUMMARY:CVARA Tech Night
DESCRIPTION:
URL:https://chenangogrange.org/event/cvara-tech-night-15/2027-11-18/
LOCATION:Chenango County Grange Hall\, 167 CR-32A\, Norwich\, NY\, 13815\, United States
CATEGORIES:Building Use
ORGANIZER;CN="Chenango Valley Amateur Radio Association":MAILTO:kd2hkb@yahoo.com
END:VEVENT
BEGIN:VEVENT
DTSTART;TZID=America/New_York:20271125T180000
DTEND;TZID=America/New_York:20271125T210000
DTSTAMP:20260420T125245
CREATED:20231112T205346Z
LAST-MODIFIED:20231229T011102Z
UID:10000832-1827165600-1827176400@chenangogrange.org
SUMMARY:CVARA Tech Night & Exam Session
DESCRIPTION:
URL:https://chenangogrange.org/event/cvara-tech-night-exam-session-2/2027-11-25/
LOCATION:Chenango County Grange Hall\, 167 CR-32A\, Norwich\, NY\, 13815\, United States
CATEGORIES:Building Use,Rental
ORGANIZER;CN="Chenango Valley Amateur Radio Association":MAILTO:kd2hkb@yahoo.com
END:VEVENT
BEGIN:VEVENT
DTSTART;TZID=America/New_York:20271209T180000
DTEND;TZID=America/New_York:20271209T210000
DTSTAMP:20260420T125245
CREATED:20230227T155534Z
LAST-MODIFIED:20230227T164938Z
UID:10000591-1828375200-1828386000@chenangogrange.org
SUMMARY:CVARA Advanced Tech Night
DESCRIPTION:
URL:https://chenangogrange.org/event/cvara-advanced-tech-night-15/2027-12-09/
LOCATION:Chenango County Grange Hall\, 167 CR-32A\, Norwich\, NY\, 13815\, United States
CATEGORIES:Building Use
ORGANIZER;CN="Chenango Valley Amateur Radio Association":MAILTO:kd2hkb@yahoo.com
END:VEVENT
BEGIN:VEVENT
DTSTART;TZID=America/New_York:20271211T090000
DTEND;TZID=America/New_York:20271211T140000
DTSTAMP:20260420T125245
CREATED:20230119T162948Z
LAST-MODIFIED:20230119T162948Z
UID:10000528-1828515600-1828533600@chenangogrange.org
SUMMARY:Chenango County Grange Meeting
DESCRIPTION:Quarterly meeting of the Chenango County Grange.
URL:https://chenangogrange.org/event/chenango-county-grange-meeting-6/2027-12-11/
LOCATION:Chenango County Grange Hall\, 167 CR-32A\, Norwich\, NY\, 13815\, United States
CATEGORIES:Building Use,Meetings
END:VEVENT
BEGIN:VEVENT
DTSTART;TZID=America/New_York:20271216T180000
DTEND;TZID=America/New_York:20271216T210000
DTSTAMP:20260420T125245
CREATED:20230227T164649Z
LAST-MODIFIED:20230227T164649Z
UID:10000713-1828980000-1828990800@chenangogrange.org
SUMMARY:CVARA Tech Night
DESCRIPTION:
URL:https://chenangogrange.org/event/cvara-tech-night-15/2027-12-16/
LOCATION:Chenango County Grange Hall\, 167 CR-32A\, Norwich\, NY\, 13815\, United States
CATEGORIES:Building Use
ORGANIZER;CN="Chenango Valley Amateur Radio Association":MAILTO:kd2hkb@yahoo.com
END:VEVENT
BEGIN:VEVENT
DTSTART;TZID=America/New_York:20271223T180000
DTEND;TZID=America/New_York:20271223T210000
DTSTAMP:20260420T125245
CREATED:20231112T205346Z
LAST-MODIFIED:20231229T011102Z
UID:10000833-1829584800-1829595600@chenangogrange.org
SUMMARY:CVARA Tech Night & Exam Session
DESCRIPTION:
URL:https://chenangogrange.org/event/cvara-tech-night-exam-session-2/2027-12-23/
LOCATION:Chenango County Grange Hall\, 167 CR-32A\, Norwich\, NY\, 13815\, United States
CATEGORIES:Building Use,Rental
ORGANIZER;CN="Chenango Valley Amateur Radio Association":MAILTO:kd2hkb@yahoo.com
END:VEVENT
BEGIN:VEVENT
DTSTART;TZID=America/New_York:20280113T180000
DTEND;TZID=America/New_York:20280113T210000
DTSTAMP:20260420T125245
CREATED:20230227T155534Z
LAST-MODIFIED:20230227T164938Z
UID:10000592-1831399200-1831410000@chenangogrange.org
SUMMARY:CVARA Advanced Tech Night
DESCRIPTION:
URL:https://chenangogrange.org/event/cvara-advanced-tech-night-15/2028-01-13/
LOCATION:Chenango County Grange Hall\, 167 CR-32A\, Norwich\, NY\, 13815\, United States
CATEGORIES:Building Use
ORGANIZER;CN="Chenango Valley Amateur Radio Association":MAILTO:kd2hkb@yahoo.com
END:VEVENT
BEGIN:VEVENT
DTSTART;TZID=America/New_York:20280120T180000
DTEND;TZID=America/New_York:20280120T210000
DTSTAMP:20260420T125245
CREATED:20230227T164649Z
LAST-MODIFIED:20230227T164649Z
UID:10000714-1832004000-1832014800@chenangogrange.org
SUMMARY:CVARA Tech Night
DESCRIPTION:
URL:https://chenangogrange.org/event/cvara-tech-night-15/2028-01-20/
LOCATION:Chenango County Grange Hall\, 167 CR-32A\, Norwich\, NY\, 13815\, United States
CATEGORIES:Building Use
ORGANIZER;CN="Chenango Valley Amateur Radio Association":MAILTO:kd2hkb@yahoo.com
END:VEVENT
BEGIN:VEVENT
DTSTART;TZID=America/New_York:20280127T180000
DTEND;TZID=America/New_York:20280127T210000
DTSTAMP:20260420T125245
CREATED:20231112T205346Z
LAST-MODIFIED:20231229T011102Z
UID:10000834-1832608800-1832619600@chenangogrange.org
SUMMARY:CVARA Tech Night & Exam Session
DESCRIPTION:
URL:https://chenangogrange.org/event/cvara-tech-night-exam-session-2/2028-01-27/
LOCATION:Chenango County Grange Hall\, 167 CR-32A\, Norwich\, NY\, 13815\, United States
CATEGORIES:Building Use,Rental
ORGANIZER;CN="Chenango Valley Amateur Radio Association":MAILTO:kd2hkb@yahoo.com
END:VEVENT
BEGIN:VEVENT
DTSTART;TZID=America/New_York:20280210T180000
DTEND;TZID=America/New_York:20280210T210000
DTSTAMP:20260420T125245
CREATED:20230227T155534Z
LAST-MODIFIED:20230227T164938Z
UID:10000593-1833818400-1833829200@chenangogrange.org
SUMMARY:CVARA Advanced Tech Night
DESCRIPTION:
URL:https://chenangogrange.org/event/cvara-advanced-tech-night-15/2028-02-10/
LOCATION:Chenango County Grange Hall\, 167 CR-32A\, Norwich\, NY\, 13815\, United States
CATEGORIES:Building Use
ORGANIZER;CN="Chenango Valley Amateur Radio Association":MAILTO:kd2hkb@yahoo.com
END:VEVENT
BEGIN:VEVENT
DTSTART;TZID=America/New_York:20280217T180000
DTEND;TZID=America/New_York:20280217T210000
DTSTAMP:20260420T125245
CREATED:20230227T164649Z
LAST-MODIFIED:20230227T164649Z
UID:10000715-1834423200-1834434000@chenangogrange.org
SUMMARY:CVARA Tech Night
DESCRIPTION:
URL:https://chenangogrange.org/event/cvara-tech-night-15/2028-02-17/
LOCATION:Chenango County Grange Hall\, 167 CR-32A\, Norwich\, NY\, 13815\, United States
CATEGORIES:Building Use
ORGANIZER;CN="Chenango Valley Amateur Radio Association":MAILTO:kd2hkb@yahoo.com
END:VEVENT
BEGIN:VEVENT
DTSTART;TZID=America/New_York:20280224T180000
DTEND;TZID=America/New_York:20280224T210000
DTSTAMP:20260420T125245
CREATED:20231112T205346Z
LAST-MODIFIED:20231229T011102Z
UID:10000835-1835028000-1835038800@chenangogrange.org
SUMMARY:CVARA Tech Night & Exam Session
DESCRIPTION:
URL:https://chenangogrange.org/event/cvara-tech-night-exam-session-2/2028-02-24/
LOCATION:Chenango County Grange Hall\, 167 CR-32A\, Norwich\, NY\, 13815\, United States
CATEGORIES:Building Use,Rental
ORGANIZER;CN="Chenango Valley Amateur Radio Association":MAILTO:kd2hkb@yahoo.com
END:VEVENT
END:VCALENDAR